{"text_format":"1","workbook":"xlsx","n_sheets":12,"sheets":["Instructions","Area Registration","Travel Insurance","Campers & Leaders","Campers Page 2","Financials","Ethnicity Report","Male Cabin Roster","Female Cabin Roster","Housing Request","Hidden Sheet","Housing List"],"not_rendered":{"charts":0,"images":3,"macros":1,"external_links":0,"defined_names":13,"comments":0,"pivot_tables":0},"unopened":[],"bounds":{"document_bytes":16777216,"sheet_cells":100000,"rows_first":2000,"rows_last":500,"rows_between":2000,"halvings":0,"cell_chars":16384,"cell_head_chars":4096},"cells_cut":0,"cells_raw":0,"read":"whole","date_system":"1900"}

{"sheet":"Instructions","index":0,"n_rows":23,"n_cols":2,"rows_kept":23,"cut":false,"hidden":false,"merged":[[16,1,16,9],[19,1,19,9],[22,1,22,9],[1,0,1,5],[3,0,3,9],[12,1,12,9],[6,1,6,9],[9,1,9,9],[7,1,7,9]]}
[]
["Adventures Baja \nRegistration Packet"]
[]
["Welcome to the Adventures Baja Registration Packet.  This workbook prepopulates some of the information for you. Please read below for detailed instructions for completing each tab. Once it is completed, return to the camp office via email. Please call us at 831-331-1483 with questions!"]
[]
["Area Registration"]
[null,"Start off by entering the requested information at the top of the sheet. This information will populate other cells in the workbook. Then, fill in campers'  and leaders' full legal names and other requested information. It is imperative that you fill in ALL FIELDS of this sheet for EACH camper and leader."]
[null,"If you are copying/pasting data from another workbook, please be sure to select \"PASTE AS PLAIN TEXT\" when inserting into this registration packet."]
["Travel Insurance"]
[null,"Most information for this tab will be automatically filled based on information that you entered in the Area Registration tab. Please fill in travel dates and trip cost in the appropriate cells."]
[]
["Campers & Leaders"]
[null,"Campers' and leaders' names will be automatically filled based on information that you entered on the Area Registration tab. Please indicate whether each camper is a repeat adventure camper (enter 2, 3, or 4). "]
[]
[]
["Ethnicity Report"]
[null,"On the Ethnicity Report tab please enter the number of campers and leaders for each ethnicity. When the number you have entered matches the A Form total, the red highlighting will disappear, indicating that the correct total number has been input."]
[]
["Male Cabin Roster & Female Cabin Roster"]
[null,"Enter your preferred cabin makeups on the Male Cabin Roster and Female Cabin Roster tabs. Enter the names from the name list to the right or select from the drop down list for each cell. When a name is used it will disappear from the name list. (It will not disappear from the drop down list)  If a name is used more than once, it will be highlighted and should be corrected. To delete a name entered incorrectly, use the Delete button. If the Backspace button is used you will get an error and will not be able to delete. Do not copy and paste names into these lists, but either select them from the drop down list or type them in."]
[]
["Housing Request"]
[null,"On the Housing Request tab, please enter the Trip Leader name and phone number, your preferred area name while at camp, any specific needs for your area, and a potential second choice housing makeup.  If any questions arise during the housing process, a head leader will contact you using the information on this form."]

{"sheet":"Area Registration","index":1,"n_rows":59,"n_cols":26,"rows_kept":59,"cut":false,"hidden":false,"merged":[[3,8,3,9],[56,3,56,4],[57,3,57,4],[56,7,56,8],[57,7,57,8],[54,1,54,8],[3,2,3,3]]}
[]
[null,"Area Registration Form"]
[]
[null,"CAMP NAME","YL Adventures Baja",null,null,null,"AREA NUMBER"]
[null,"CAMP DATES","7/5/2019 - 7/10/19",null,null,null,"AREA NAME"]
[]
[null,"First (Legal) Name","Middle Name","Last Name",null,"Camper/Leader","DOB ","Male","Female","Address","City","State","ZIP","Email Address","Shirt Size","Ethnicity","Passport #","PP exp. date"]
[1,null,null,null,null,"Camper",null,null,null,null,null,null,null,null,null,null,null,null,null,null,"Caucasian","African American","Latino/Hispanic","Asian/Pacific Islander","Native American/Native Alaskan","Other/Multi Racial"]
[2,null,null,null,null,"Camper"]
[3,null,null,null,null,"Camper"]
[4,null,null,null,null,"Camper",null,null,null,null,null,null,null,null,null,null,null,null,null,null,"F"]
[5,null,null,null,null,"Camper"]
[6,null,null,null,null,"Camper",null,null,null,null,null,null,null,null,null,null,null,null,null,null,"M"]
[7,null,null,null,null,"Camper"]
[8,null,null,null,null,"Camper",null,null,null,null,null,null,null,null,null,null,null,null,null,null,"7/5/2019 - 7/10/19"]
[9,null,null,null,null,"Camper",null,null,null,null,null,null,null,null,null,null,null,null,null,null,"7/11/19 - 7/16/19"]
[10,null,null,null,null,"Camper",null,null,null,null,null,null,null,null,null,null,null,null,null,null,"7/18/19 - 7/23/19"]
[11,null,null,null,null,"Camper"]
[12,null,null,null,null,"Camper",null,null,null,null,null,null,null,null,null,null,null,null,null,null,"S"]
[13,null,null,null,null,"Camper",null,null,null,null,null,null,null,null,null,null,null,null,null,null,"M"]
[14,null,null,null,null,"Camper",null,null,null,null,null,null,null,null,null,null,null,null,null,null,"L"]
[15,null,null,null,null,"Camper",null,null,null,null,null,null,null,null,null,null,null,null,null,null,"XL"]
[16,null,null,null,null,"Camper",null,null,null,null,null,null,null,null,null,null,null,null,null,null,"XXL"]
[17,null,null,null,null,"Camper"]
[18,null,null,null,null,"Camper"]
[19,null,null,null,null,"Camper"]
[20,null,null,null,null,"Camper"]
[21,null,null,null,null,"Camper"]
[22,null,null,null,null,"Camper"]
[23,null,null,null,null,"Camper"]
[24,null,null,null,null,"Camper"]
[25,null,null,null,null,"Camper"]
[26,null,null,null,null,"Camper"]
[27,null,null,null,null,"Camper"]
[28,null,null,null,null,"Camper"]
[29,null,null,null,null,"Camper"]
[30,null,null,null,null,"Camper"]
[31,null,null,null,null,"Camper"]
[32,null,null,null,null,"Camper"]
[33,null,null,null,null,"Camper"]
[34,null,null,null,null,"Camper"]
[35,null,null,null,null,"Camper"]
[36,null,null,null,null,"Camper"]
[37,null,null,null,null,"Leader"]
[38,null,null,null,null,"Leader"]
[39,null,null,null,null,"Leader"]
[40,null,null,null,null,"Leader"]
[41,null,null,null,null,"Leader"]
[42,null,null,null,null,"Leader"]
[43,null,null,null,null,"Leader"]
[44,null,null,null,null,"Leader"]
[45,null,null,null,null,"Leader"]
[46,null,null,null,null,"Leader"]
[null,null,null,null,null,null,null,null,null,null,null,null,"* Make sure the Medical Form is notarized for those under 18 years old"]
[null,"Travel Details:"]
[null,"Airline"]
[null,"Arrival Date",null,"Arrival Time",null,null,"Flight Number"]
[null,"Departure Date",null,"Departure Time",null,null,"Flight Number"]
[null,"Total Trip Cost"]

{"sheet":"Travel Insurance","index":2,"n_rows":50,"n_cols":13,"rows_kept":50,"cut":false,"hidden":false,"merged":[]}
[]
[null,"Travel Insurance Information"]
[]
[null,"First (Legal) Name","Middle Name","Last Name","DOB","Address","City","State","ZIP","Destination Country","Departure Date","Return Date","Total Trip Cost"]
[1,{"$f":"IF('Area Registration'!B8=\"\",\"\",'Area Registration'!B8)","v":""},{"$f":"IF('Area Registration'!C8=\"\",\"\",'Area Registration'!C8)","v":""},{"$f":"IF('Area Registration'!D8=\"\",\"\",'Area Registration'!D8)","v":""},{"$f":"IF('Area Registration'!G8=\"\",\"\",'Area Registration'!G8)","v":""},{"$f":"IF('Area Registration'!J8=\"\",\"\",'Area Registration'!J8)","v":""},{"$f":"IF('Area Registration'!K8=\"\",\"\",'Area Registration'!K8)","v":""},{"$f":"IF('Area Registration'!L8=\"\",\"\",'Area Registration'!L8)","v":""},{"$f":"IF('Area Registration'!M8=\"\",\"\",'Area Registration'!M8)","v":""}]
[2,{"$f":"IF('Area Registration'!B9=\"\",\"\",'Area Registration'!B9)","v":""},{"$f":"IF('Area Registration'!C9=\"\",\"\",'Area Registration'!C9)","v":""},{"$f":"IF('Area Registration'!D9=\"\",\"\",'Area Registration'!D9)","v":""},{"$f":"IF('Area Registration'!G9=\"\",\"\",'Area Registration'!G9)","v":""},{"$f":"IF('Area Registration'!J9=\"\",\"\",'Area Registration'!J9)","v":""},{"$f":"IF('Area Registration'!K9=\"\",\"\",'Area Registration'!K9)","v":""},{"$f":"IF('Area Registration'!L9=\"\",\"\",'Area Registration'!L9)","v":""},{"$f":"IF('Area Registration'!M9=\"\",\"\",'Area Registration'!M9)","v":""}]
[3,{"$f":"IF('Area Registration'!B10=\"\",\"\",'Area Registration'!B10)","v":""},{"$f":"IF('Area Registration'!C10=\"\",\"\",'Area Registration'!C10)","v":""},{"$f":"IF('Area Registration'!D10=\"\",\"\",'Area Registration'!D10)","v":""},{"$f":"IF('Area Registration'!G10=\"\",\"\",'Area Registration'!G10)","v":""},{"$f":"IF('Area Registration'!J10=\"\",\"\",'Area Registration'!J10)","v":""},{"$f":"IF('Area Registration'!K10=\"\",\"\",'Area Registration'!K10)","v":""},{"$f":"IF('Area Registration'!L10=\"\",\"\",'Area Registration'!L10)","v":""},{"$f":"IF('Area Registration'!M10=\"\",\"\",'Area Registration'!M10)","v":""}]
[4,{"$f":"IF('Area Registration'!B11=\"\",\"\",'Area Registration'!B11)","v":""},{"$f":"IF('Area Registration'!C11=\"\",\"\",'Area Registration'!C11)","v":""},{"$f":"IF('Area Registration'!D11=\"\",\"\",'Area Registration'!D11)","v":""},{"$f":"IF('Area Registration'!G11=\"\",\"\",'Area Registration'!G11)","v":""},{"$f":"IF('Area Registration'!J11=\"\",\"\",'Area Registration'!J11)","v":""},{"$f":"IF('Area Registration'!K11=\"\",\"\",'Area Registration'!K11)","v":""},{"$f":"IF('Area Registration'!L11=\"\",\"\",'Area Registration'!L11)","v":""},{"$f":"IF('Area Registration'!M11=\"\",\"\",'Area Registration'!M11)","v":""}]
[5,{"$f":"IF('Area Registration'!B12=\"\",\"\",'Area Registration'!B12)","v":""},{"$f":"IF('Area Registration'!C12=\"\",\"\",'Area Registration'!C12)","v":""},{"$f":"IF('Area Registration'!D12=\"\",\"\",'Area Registration'!D12)","v":""},{"$f":"IF('Area Registration'!G12=\"\",\"\",'Area Registration'!G12)","v":""},{"$f":"IF('Area Registration'!J12=\"\",\"\",'Area Registration'!J12)","v":""},{"$f":"IF('Area Registration'!K12=\"\",\"\",'Area Registration'!K12)","v":""},{"$f":"IF('Area Registration'!L12=\"\",\"\",'Area Registration'!L12)","v":""},{"$f":"IF('Area Registration'!M12=\"\",\"\",'Area Registration'!M12)","v":""}]
[6,{"$f":"IF('Area Registration'!B13=\"\",\"\",'Area Registration'!B13)","v":""},{"$f":"IF('Area Registration'!C13=\"\",\"\",'Area Registration'!C13)","v":""},{"$f":"IF('Area Registration'!D13=\"\",\"\",'Area Registration'!D13)","v":""},{"$f":"IF('Area Registration'!G13=\"\",\"\",'Area Registration'!G13)","v":""},{"$f":"IF('Area Registration'!J13=\"\",\"\",'Area Registration'!J13)","v":""},{"$f":"IF('Area Registration'!K13=\"\",\"\",'Area Registration'!K13)","v":""},{"$f":"IF('Area Registration'!L13=\"\",\"\",'Area Registration'!L13)","v":""},{"$f":"IF('Area Registration'!M13=\"\",\"\",'Area Registration'!M13)","v":""}]
[7,{"$f":"IF('Area Registration'!B14=\"\",\"\",'Area Registration'!B14)","v":""},{"$f":"IF('Area Registration'!C14=\"\",\"\",'Area Registration'!C14)","v":""},{"$f":"IF('Area Registration'!D14=\"\",\"\",'Area Registration'!D14)","v":""},{"$f":"IF('Area Registration'!G14=\"\",\"\",'Area Registration'!G14)","v":""},{"$f":"IF('Area Registration'!J14=\"\",\"\",'Area Registration'!J14)","v":""},{"$f":"IF('Area Registration'!K14=\"\",\"\",'Area Registration'!K14)","v":""},{"$f":"IF('Area Registration'!L14=\"\",\"\",'Area Registration'!L14)","v":""},{"$f":"IF('Area Registration'!M14=\"\",\"\",'Area Registration'!M14)","v":""}]
[8,{"$f":"IF('Area Registration'!B15=\"\",\"\",'Area Registration'!B15)","v":""},{"$f":"IF('Area Registration'!C15=\"\",\"\",'Area Registration'!C15)","v":""},{"$f":"IF('Area Registration'!D15=\"\",\"\",'Area Registration'!D15)","v":""},{"$f":"IF('Area Registration'!G15=\"\",\"\",'Area Registration'!G15)","v":""},{"$f":"IF('Area Registration'!J15=\"\",\"\",'Area Registration'!J15)","v":""},{"$f":"IF('Area Registration'!K15=\"\",\"\",'Area Registration'!K15)","v":""},{"$f":"IF('Area Registration'!L15=\"\",\"\",'Area Registration'!L15)","v":""},{"$f":"IF('Area Registration'!M15=\"\",\"\",'Area Registration'!M15)","v":""}]
[9,{"$f":"IF('Area Registration'!B16=\"\",\"\",'Area Registration'!B16)","v":""},{"$f":"IF('Area Registration'!C16=\"\",\"\",'Area Registration'!C16)","v":""},{"$f":"IF('Area Registration'!D16=\"\",\"\",'Area Registration'!D16)","v":""},{"$f":"IF('Area Registration'!G16=\"\",\"\",'Area Registration'!G16)","v":""},{"$f":"IF('Area Registration'!J16=\"\",\"\",'Area Registration'!J16)","v":""},{"$f":"IF('Area Registration'!K16=\"\",\"\",'Area Registration'!K16)","v":""},{"$f":"IF('Area Registration'!L16=\"\",\"\",'Area Registration'!L16)","v":""},{"$f":"IF('Area Registration'!M16=\"\",\"\",'Area Registration'!M16)","v":""}]
[10,{"$f":"IF('Area Registration'!B17=\"\",\"\",'Area Registration'!B17)","v":""},{"$f":"IF('Area Registration'!C17=\"\",\"\",'Area Registration'!C17)","v":""},{"$f":"IF('Area Registration'!D17=\"\",\"\",'Area Registration'!D17)","v":""},{"$f":"IF('Area Registration'!G17=\"\",\"\",'Area Registration'!G17)","v":""},{"$f":"IF('Area Registration'!J17=\"\",\"\",'Area Registration'!J17)","v":""},{"$f":"IF('Area Registration'!K17=\"\",\"\",'Area Registration'!K17)","v":""},{"$f":"IF('Area Registration'!L17=\"\",\"\",'Area Registration'!L17)","v":""},{"$f":"IF('Area Registration'!M17=\"\",\"\",'Area Registration'!M17)","v":""}]
[11,{"$f":"IF('Area Registration'!B18=\"\",\"\",'Area Registration'!B18)","v":""},{"$f":"IF('Area Registration'!C18=\"\",\"\",'Area Registration'!C18)","v":""},{"$f":"IF('Area Registration'!D18=\"\",\"\",'Area Registration'!D18)","v":""},{"$f":"IF('Area Registration'!G18=\"\",\"\",'Area Registration'!G18)","v":""},{"$f":"IF('Area Registration'!J18=\"\",\"\",'Area Registration'!J18)","v":""},{"$f":"IF('Area Registration'!K18=\"\",\"\",'Area Registration'!K18)","v":""},{"$f":"IF('Area Registration'!L18=\"\",\"\",'Area Registration'!L18)","v":""},{"$f":"IF('Area Registration'!M18=\"\",\"\",'Area Registration'!M18)","v":""}]
[12,{"$f":"IF('Area Registration'!B19=\"\",\"\",'Area Registration'!B19)","v":""},{"$f":"IF('Area Registration'!C19=\"\",\"\",'Area Registration'!C19)","v":""},{"$f":"IF('Area Registration'!D19=\"\",\"\",'Area Registration'!D19)","v":""},{"$f":"IF('Area Registration'!G19=\"\",\"\",'Area Registration'!G19)","v":""},{"$f":"IF('Area Registration'!J19=\"\",\"\",'Area Registration'!J19)","v":""},{"$f":"IF('Area Registration'!K19=\"\",\"\",'Area Registration'!K19)","v":""},{"$f":"IF('Area Registration'!L19=\"\",\"\",'Area Registration'!L19)","v":""},{"$f":"IF('Area Registration'!M19=\"\",\"\",'Area Registration'!M19)","v":""}]
[13,{"$f":"IF('Area Registration'!B20=\"\",\"\",'Area Registration'!B20)","v":""},{"$f":"IF('Area Registration'!C20=\"\",\"\",'Area Registration'!C20)","v":""},{"$f":"IF('Area Registration'!D20=\"\",\"\",'Area Registration'!D20)","v":""},{"$f":"IF('Area Registration'!G20=\"\",\"\",'Area Registration'!G20)","v":""},{"$f":"IF('Area Registration'!J20=\"\",\"\",'Area Registration'!J20)","v":""},{"$f":"IF('Area Registration'!K20=\"\",\"\",'Area Registration'!K20)","v":""},{"$f":"IF('Area Registration'!L20=\"\",\"\",'Area Registration'!L20)","v":""},{"$f":"IF('Area Registration'!M20=\"\",\"\",'Area Registration'!M20)","v":""}]
[14,{"$f":"IF('Area Registration'!B21=\"\",\"\",'Area Registration'!B21)","v":""},{"$f":"IF('Area Registration'!C21=\"\",\"\",'Area Registration'!C21)","v":""},{"$f":"IF('Area Registration'!D21=\"\",\"\",'Area Registration'!D21)","v":""},{"$f":"IF('Area Registration'!G21=\"\",\"\",'Area Registration'!G21)","v":""},{"$f":"IF('Area Registration'!J21=\"\",\"\",'Area Registration'!J21)","v":""},{"$f":"IF('Area Registration'!K21=\"\",\"\",'Area Registration'!K21)","v":""},{"$f":"IF('Area Registration'!L21=\"\",\"\",'Area Registration'!L21)","v":""},{"$f":"IF('Area Registration'!M21=\"\",\"\",'Area Registration'!M21)","v":""}]
[15,{"$f":"IF('Area Registration'!B22=\"\",\"\",'Area Registration'!B22)","v":""},{"$f":"IF('Area Registration'!C22=\"\",\"\",'Area Registration'!C22)","v":""},{"$f":"IF('Area Registration'!D22=\"\",\"\",'Area Registration'!D22)","v":""},{"$f":"IF('Area Registration'!G22=\"\",\"\",'Area Registration'!G22)","v":""},{"$f":"IF('Area Registration'!J22=\"\",\"\",'Area Registration'!J22)","v":""},{"$f":"IF('Area Registration'!K22=\"\",\"\",'Area Registration'!K22)","v":""},{"$f":"IF('Area Registration'!L22=\"\",\"\",'Area Registration'!L22)","v":""},{"$f":"IF('Area Registration'!M22=\"\",\"\",'Area Registration'!M22)","v":""}]
[16,{"$f":"IF('Area Registration'!B23=\"\",\"\",'Area Registration'!B23)","v":""},{"$f":"IF('Area Registration'!C23=\"\",\"\",'Area Registration'!C23)","v":""},{"$f":"IF('Area Registration'!D23=\"\",\"\",'Area Registration'!D23)","v":""},{"$f":"IF('Area Registration'!G23=\"\",\"\",'Area Registration'!G23)","v":""},{"$f":"IF('Area Registration'!J23=\"\",\"\",'Area Registration'!J23)","v":""},{"$f":"IF('Area Registration'!K23=\"\",\"\",'Area Registration'!K23)","v":""},{"$f":"IF('Area Registration'!L23=\"\",\"\",'Area Registration'!L23)","v":""},{"$f":"IF('Area Registration'!M23=\"\",\"\",'Area Registration'!M23)","v":""}]
[17,{"$f":"IF('Area Registration'!B24=\"\",\"\",'Area Registration'!B24)","v":""},{"$f":"IF('Area Registration'!C24=\"\",\"\",'Area Registration'!C24)","v":""},{"$f":"IF('Area Registration'!D24=\"\",\"\",'Area Registration'!D24)","v":""},{"$f":"IF('Area Registration'!G24=\"\",\"\",'Area Registration'!G24)","v":""},{"$f":"IF('Area Registration'!J24=\"\",\"\",'Area Registration'!J24)","v":""},{"$f":"IF('Area Registration'!K24=\"\",\"\",'Area Registration'!K24)","v":""},{"$f":"IF('Area Registration'!L24=\"\",\"\",'Area Registration'!L24)","v":""},{"$f":"IF('Area Registration'!M24=\"\",\"\",'Area Registration'!M24)","v":""}]
[18,{"$f":"IF('Area Registration'!B25=\"\",\"\",'Area Registration'!B25)","v":""},{"$f":"IF('Area Registration'!C25=\"\",\"\",'Area Registration'!C25)","v":""},{"$f":"IF('Area Registration'!D25=\"\",\"\",'Area Registration'!D25)","v":""},{"$f":"IF('Area Registration'!G25=\"\",\"\",'Area Registration'!G25)","v":""},{"$f":"IF('Area Registration'!J25=\"\",\"\",'Area Registration'!J25)","v":""},{"$f":"IF('Area Registration'!K25=\"\",\"\",'Area Registration'!K25)","v":""},{"$f":"IF('Area Registration'!L25=\"\",\"\",'Area Registration'!L25)","v":""},{"$f":"IF('Area Registration'!M25=\"\",\"\",'Area Registration'!M25)","v":""}]
[19,{"$f":"IF('Area Registration'!B26=\"\",\"\",'Area Registration'!B26)","v":""},{"$f":"IF('Area Registration'!C26=\"\",\"\",'Area Registration'!C26)","v":""},{"$f":"IF('Area Registration'!D26=\"\",\"\",'Area Registration'!D26)","v":""},{"$f":"IF('Area Registration'!G26=\"\",\"\",'Area Registration'!G26)","v":""},{"$f":"IF('Area Registration'!J26=\"\",\"\",'Area Registration'!J26)","v":""},{"$f":"IF('Area Registration'!K26=\"\",\"\",'Area Registration'!K26)","v":""},{"$f":"IF('Area Registration'!L26=\"\",\"\",'Area Registration'!L26)","v":""},{"$f":"IF('Area Registration'!M26=\"\",\"\",'Area Registration'!M26)","v":""}]
[20,{"$f":"IF('Area Registration'!B27=\"\",\"\",'Area Registration'!B27)","v":""},{"$f":"IF('Area Registration'!C27=\"\",\"\",'Area Registration'!C27)","v":""},{"$f":"IF('Area Registration'!D27=\"\",\"\",'Area Registration'!D27)","v":""},{"$f":"IF('Area Registration'!G27=\"\",\"\",'Area Registration'!G27)","v":""},{"$f":"IF('Area Registration'!J27=\"\",\"\",'Area Registration'!J27)","v":""},{"$f":"IF('Area Registration'!K27=\"\",\"\",'Area Registration'!K27)","v":""},{"$f":"IF('Area Registration'!L27=\"\",\"\",'Area Registration'!L27)","v":""},{"$f":"IF('Area Registration'!M27=\"\",\"\",'Area Registration'!M27)","v":""}]
[21,{"$f":"IF('Area Registration'!B28=\"\",\"\",'Area Registration'!B28)","v":""},{"$f":"IF('Area Registration'!C28=\"\",\"\",'Area Registration'!C28)","v":""},{"$f":"IF('Area Registration'!D28=\"\",\"\",'Area Registration'!D28)","v":""},{"$f":"IF('Area Registration'!G28=\"\",\"\",'Area Registration'!G28)","v":""},{"$f":"IF('Area Registration'!J28=\"\",\"\",'Area Registration'!J28)","v":""},{"$f":"IF('Area Registration'!K28=\"\",\"\",'Area Registration'!K28)","v":""},{"$f":"IF('Area Registration'!L28=\"\",\"\",'Area Registration'!L28)","v":""},{"$f":"IF('Area Registration'!M28=\"\",\"\",'Area Registration'!M28)","v":""}]
[22,{"$f":"IF('Area Registration'!B29=\"\",\"\",'Area Registration'!B29)","v":""},{"$f":"IF('Area Registration'!C29=\"\",\"\",'Area Registration'!C29)","v":""},{"$f":"IF('Area Registration'!D29=\"\",\"\",'Area Registration'!D29)","v":""},{"$f":"IF('Area Registration'!G29=\"\",\"\",'Area Registration'!G29)","v":""},{"$f":"IF('Area Registration'!J29=\"\",\"\",'Area Registration'!J29)","v":""},{"$f":"IF('Area Registration'!K29=\"\",\"\",'Area Registration'!K29)","v":""},{"$f":"IF('Area Registration'!L29=\"\",\"\",'Area Registration'!L29)","v":""},{"$f":"IF('Area Registration'!M29=\"\",\"\",'Area Registration'!M29)","v":""}]
[23,{"$f":"IF('Area Registration'!B30=\"\",\"\",'Area Registration'!B30)","v":""},{"$f":"IF('Area Registration'!C30=\"\",\"\",'Area Registration'!C30)","v":""},{"$f":"IF('Area Registration'!D30=\"\",\"\",'Area Registration'!D30)","v":""},{"$f":"IF('Area Registration'!G30=\"\",\"\",'Area Registration'!G30)","v":""},{"$f":"IF('Area Registration'!J30=\"\",\"\",'Area Registration'!J30)","v":""},{"$f":"IF('Area Registration'!K30=\"\",\"\",'Area Registration'!K30)","v":""},{"$f":"IF('Area Registration'!L30=\"\",\"\",'Area Registration'!L30)","v":""},{"$f":"IF('Area Registration'!M30=\"\",\"\",'Area Registration'!M30)","v":""}]
[24,{"$f":"IF('Area Registration'!B31=\"\",\"\",'Area Registration'!B31)","v":""},{"$f":"IF('Area Registration'!C31=\"\",\"\",'Area Registration'!C31)","v":""},{"$f":"IF('Area Registration'!D31=\"\",\"\",'Area Registration'!D31)","v":""},{"$f":"IF('Area Registration'!G31=\"\",\"\",'Area Registration'!G31)","v":""},{"$f":"IF('Area Registration'!J31=\"\",\"\",'Area Registration'!J31)","v":""},{"$f":"IF('Area Registration'!K31=\"\",\"\",'Area Registration'!K31)","v":""},{"$f":"IF('Area Registration'!L31=\"\",\"\",'Area Registration'!L31)","v":""},{"$f":"IF('Area Registration'!M31=\"\",\"\",'Area Registration'!M31)","v":""}]
[25,{"$f":"IF('Area Registration'!B32=\"\",\"\",'Area Registration'!B32)","v":""},{"$f":"IF('Area Registration'!C32=\"\",\"\",'Area Registration'!C32)","v":""},{"$f":"IF('Area Registration'!D32=\"\",\"\",'Area Registration'!D32)","v":""},{"$f":"IF('Area Registration'!G32=\"\",\"\",'Area Registration'!G32)","v":""},{"$f":"IF('Area Registration'!J32=\"\",\"\",'Area Registration'!J32)","v":""},{"$f":"IF('Area Registration'!K32=\"\",\"\",'Area Registration'!K32)","v":""},{"$f":"IF('Area Registration'!L32=\"\",\"\",'Area Registration'!L32)","v":""},{"$f":"IF('Area Registration'!M32=\"\",\"\",'Area Registration'!M32)","v":""}]
[26,{"$f":"IF('Area Registration'!B33=\"\",\"\",'Area Registration'!B33)","v":""},{"$f":"IF('Area Registration'!C33=\"\",\"\",'Area Registration'!C33)","v":""},{"$f":"IF('Area Registration'!D33=\"\",\"\",'Area Registration'!D33)","v":""},{"$f":"IF('Area Registration'!G33=\"\",\"\",'Area Registration'!G33)","v":""},{"$f":"IF('Area Registration'!J33=\"\",\"\",'Area Registration'!J33)","v":""},{"$f":"IF('Area Registration'!K33=\"\",\"\",'Area Registration'!K33)","v":""},{"$f":"IF('Area Registration'!L33=\"\",\"\",'Area Registration'!L33)","v":""},{"$f":"IF('Area Registration'!M33=\"\",\"\",'Area Registration'!M33)","v":""}]
[27,{"$f":"IF('Area Registration'!B34=\"\",\"\",'Area Registration'!B34)","v":""},{"$f":"IF('Area Registration'!C34=\"\",\"\",'Area Registration'!C34)","v":""},{"$f":"IF('Area Registration'!D34=\"\",\"\",'Area Registration'!D34)","v":""},{"$f":"IF('Area Registration'!G34=\"\",\"\",'Area Registration'!G34)","v":""},{"$f":"IF('Area Registration'!J34=\"\",\"\",'Area Registration'!J34)","v":""},{"$f":"IF('Area Registration'!K34=\"\",\"\",'Area Registration'!K34)","v":""},{"$f":"IF('Area Registration'!L34=\"\",\"\",'Area Registration'!L34)","v":""},{"$f":"IF('Area Registration'!M34=\"\",\"\",'Area Registration'!M34)","v":""}]
[28,{"$f":"IF('Area Registration'!B35=\"\",\"\",'Area Registration'!B35)","v":""},{"$f":"IF('Area Registration'!C35=\"\",\"\",'Area Registration'!C35)","v":""},{"$f":"IF('Area Registration'!D35=\"\",\"\",'Area Registration'!D35)","v":""},{"$f":"IF('Area Registration'!G35=\"\",\"\",'Area Registration'!G35)","v":""},{"$f":"IF('Area Registration'!J35=\"\",\"\",'Area Registration'!J35)","v":""},{"$f":"IF('Area Registration'!K35=\"\",\"\",'Area Registration'!K35)","v":""},{"$f":"IF('Area Registration'!L35=\"\",\"\",'Area Registration'!L35)","v":""},{"$f":"IF('Area Registration'!M35=\"\",\"\",'Area Registration'!M35)","v":""}]
[29,{"$f":"IF('Area Registration'!B36=\"\",\"\",'Area Registration'!B36)","v":""},{"$f":"IF('Area Registration'!C36=\"\",\"\",'Area Registration'!C36)","v":""},{"$f":"IF('Area Registration'!D36=\"\",\"\",'Area Registration'!D36)","v":""},{"$f":"IF('Area Registration'!G36=\"\",\"\",'Area Registration'!G36)","v":""},{"$f":"IF('Area Registration'!J36=\"\",\"\",'Area Registration'!J36)","v":""},{"$f":"IF('Area Registration'!K36=\"\",\"\",'Area Registration'!K36)","v":""},{"$f":"IF('Area Registration'!L36=\"\",\"\",'Area Registration'!L36)","v":""},{"$f":"IF('Area Registration'!M36=\"\",\"\",'Area Registration'!M36)","v":""}]
[30,{"$f":"IF('Area Registration'!B37=\"\",\"\",'Area Registration'!B37)","v":""},{"$f":"IF('Area Registration'!C37=\"\",\"\",'Area Registration'!C37)","v":""},{"$f":"IF('Area Registration'!D37=\"\",\"\",'Area Registration'!D37)","v":""},{"$f":"IF('Area Registration'!G37=\"\",\"\",'Area Registration'!G37)","v":""},{"$f":"IF('Area Registration'!J37=\"\",\"\",'Area Registration'!J37)","v":""},{"$f":"IF('Area Registration'!K37=\"\",\"\",'Area Registration'!K37)","v":""},{"$f":"IF('Area Registration'!L37=\"\",\"\",'Area Registration'!L37)","v":""},{"$f":"IF('Area Registration'!M37=\"\",\"\",'Area Registration'!M37)","v":""}]
[31,{"$f":"IF('Area Registration'!B38=\"\",\"\",'Area Registration'!B38)","v":""},{"$f":"IF('Area Registration'!C38=\"\",\"\",'Area Registration'!C38)","v":""},{"$f":"IF('Area Registration'!D38=\"\",\"\",'Area Registration'!D38)","v":""},{"$f":"IF('Area Registration'!G38=\"\",\"\",'Area Registration'!G38)","v":""},{"$f":"IF('Area Registration'!J38=\"\",\"\",'Area Registration'!J38)","v":""},{"$f":"IF('Area Registration'!K38=\"\",\"\",'Area Registration'!K38)","v":""},{"$f":"IF('Area Registration'!L38=\"\",\"\",'Area Registration'!L38)","v":""},{"$f":"IF('Area Registration'!M38=\"\",\"\",'Area Registration'!M38)","v":""}]
[32,{"$f":"IF('Area Registration'!B39=\"\",\"\",'Area Registration'!B39)","v":""},{"$f":"IF('Area Registration'!C39=\"\",\"\",'Area Registration'!C39)","v":""},{"$f":"IF('Area Registration'!D39=\"\",\"\",'Area Registration'!D39)","v":""},{"$f":"IF('Area Registration'!G39=\"\",\"\",'Area Registration'!G39)","v":""},{"$f":"IF('Area Registration'!J39=\"\",\"\",'Area Registration'!J39)","v":""},{"$f":"IF('Area Registration'!K39=\"\",\"\",'Area Registration'!K39)","v":""},{"$f":"IF('Area Registration'!L39=\"\",\"\",'Area Registration'!L39)","v":""},{"$f":"IF('Area Registration'!M39=\"\",\"\",'Area Registration'!M39)","v":""}]
[33,{"$f":"IF('Area Registration'!B40=\"\",\"\",'Area Registration'!B40)","v":""},{"$f":"IF('Area Registration'!C40=\"\",\"\",'Area Registration'!C40)","v":""},{"$f":"IF('Area Registration'!D40=\"\",\"\",'Area Registration'!D40)","v":""},{"$f":"IF('Area Registration'!G40=\"\",\"\",'Area Registration'!G40)","v":""},{"$f":"IF('Area Registration'!J40=\"\",\"\",'Area Registration'!J40)","v":""},{"$f":"IF('Area Registration'!K40=\"\",\"\",'Area Registration'!K40)","v":""},{"$f":"IF('Area Registration'!L40=\"\",\"\",'Area Registration'!L40)","v":""},{"$f":"IF('Area Registration'!M40=\"\",\"\",'Area Registration'!M40)","v":""}]
[34,{"$f":"IF('Area Registration'!B41=\"\",\"\",'Area Registration'!B41)","v":""},{"$f":"IF('Area Registration'!C41=\"\",\"\",'Area Registration'!C41)","v":""},{"$f":"IF('Area Registration'!D41=\"\",\"\",'Area Registration'!D41)","v":""},{"$f":"IF('Area Registration'!G41=\"\",\"\",'Area Registration'!G41)","v":""},{"$f":"IF('Area Registration'!J41=\"\",\"\",'Area Registration'!J41)","v":""},{"$f":"IF('Area Registration'!K41=\"\",\"\",'Area Registration'!K41)","v":""},{"$f":"IF('Area Registration'!L41=\"\",\"\",'Area Registration'!L41)","v":""},{"$f":"IF('Area Registration'!M41=\"\",\"\",'Area Registration'!M41)","v":""}]
[35,{"$f":"IF('Area Registration'!B42=\"\",\"\",'Area Registration'!B42)","v":""},{"$f":"IF('Area Registration'!C42=\"\",\"\",'Area Registration'!C42)","v":""},{"$f":"IF('Area Registration'!D42=\"\",\"\",'Area Registration'!D42)","v":""},{"$f":"IF('Area Registration'!G42=\"\",\"\",'Area Registration'!G42)","v":""},{"$f":"IF('Area Registration'!J42=\"\",\"\",'Area Registration'!J42)","v":""},{"$f":"IF('Area Registration'!K42=\"\",\"\",'Area Registration'!K42)","v":""},{"$f":"IF('Area Registration'!L42=\"\",\"\",'Area Registration'!L42)","v":""},{"$f":"IF('Area Registration'!M42=\"\",\"\",'Area Registration'!M42)","v":""}]
[36,{"$f":"IF('Area Registration'!B43=\"\",\"\",'Area Registration'!B43)","v":""},{"$f":"IF('Area Registration'!C43=\"\",\"\",'Area Registration'!C43)","v":""},{"$f":"IF('Area Registration'!D43=\"\",\"\",'Area Registration'!D43)","v":""},{"$f":"IF('Area Registration'!G43=\"\",\"\",'Area Registration'!G43)","v":""},{"$f":"IF('Area Registration'!J43=\"\",\"\",'Area Registration'!J43)","v":""},{"$f":"IF('Area Registration'!K43=\"\",\"\",'Area Registration'!K43)","v":""},{"$f":"IF('Area Registration'!L43=\"\",\"\",'Area Registration'!L43)","v":""},{"$f":"IF('Area Registration'!M43=\"\",\"\",'Area Registration'!M43)","v":""}]
[37,{"$f":"IF('Area Registration'!B44=\"\",\"\",'Area Registration'!B44)","v":""},{"$f":"IF('Area Registration'!C44=\"\",\"\",'Area Registration'!C44)","v":""},{"$f":"IF('Area Registration'!D44=\"\",\"\",'Area Registration'!D44)","v":""},{"$f":"IF('Area Registration'!G44=\"\",\"\",'Area Registration'!G44)","v":""},{"$f":"IF('Area Registration'!J44=\"\",\"\",'Area Registration'!J44)","v":""},{"$f":"IF('Area Registration'!K44=\"\",\"\",'Area Registration'!K44)","v":""},{"$f":"IF('Area Registration'!L44=\"\",\"\",'Area Registration'!L44)","v":""},{"$f":"IF('Area Registration'!M44=\"\",\"\",'Area Registration'!M44)","v":""}]
[38,{"$f":"IF('Area Registration'!B45=\"\",\"\",'Area Registration'!B45)","v":""},{"$f":"IF('Area Registration'!C45=\"\",\"\",'Area Registration'!C45)","v":""},{"$f":"IF('Area Registration'!D45=\"\",\"\",'Area Registration'!D45)","v":""},{"$f":"IF('Area Registration'!G45=\"\",\"\",'Area Registration'!G45)","v":""},{"$f":"IF('Area Registration'!J45=\"\",\"\",'Area Registration'!J45)","v":""},{"$f":"IF('Area Registration'!K45=\"\",\"\",'Area Registration'!K45)","v":""},{"$f":"IF('Area Registration'!L45=\"\",\"\",'Area Registration'!L45)","v":""},{"$f":"IF('Area Registration'!M45=\"\",\"\",'Area Registration'!M45)","v":""}]
[39,{"$f":"IF('Area Registration'!B46=\"\",\"\",'Area Registration'!B46)","v":""},{"$f":"IF('Area Registration'!C46=\"\",\"\",'Area Registration'!C46)","v":""},{"$f":"IF('Area Registration'!D46=\"\",\"\",'Area Registration'!D46)","v":""},{"$f":"IF('Area Registration'!G46=\"\",\"\",'Area Registration'!G46)","v":""},{"$f":"IF('Area Registration'!J46=\"\",\"\",'Area Registration'!J46)","v":""},{"$f":"IF('Area Registration'!K46=\"\",\"\",'Area Registration'!K46)","v":""},{"$f":"IF('Area Registration'!L46=\"\",\"\",'Area Registration'!L46)","v":""},{"$f":"IF('Area Registration'!M46=\"\",\"\",'Area Registration'!M46)","v":""}]
[40,{"$f":"IF('Area Registration'!B47=\"\",\"\",'Area Registration'!B47)","v":""},{"$f":"IF('Area Registration'!C47=\"\",\"\",'Area Registration'!C47)","v":""},{"$f":"IF('Area Registration'!D47=\"\",\"\",'Area Registration'!D47)","v":""},{"$f":"IF('Area Registration'!G47=\"\",\"\",'Area Registration'!G47)","v":""},{"$f":"IF('Area Registration'!J47=\"\",\"\",'Area Registration'!J47)","v":""},{"$f":"IF('Area Registration'!K47=\"\",\"\",'Area Registration'!K47)","v":""},{"$f":"IF('Area Registration'!L47=\"\",\"\",'Area Registration'!L47)","v":""},{"$f":"IF('Area Registration'!M47=\"\",\"\",'Area Registration'!M47)","v":""}]
[41,{"$f":"IF('Area Registration'!B48=\"\",\"\",'Area Registration'!B48)","v":""},{"$f":"IF('Area Registration'!C48=\"\",\"\",'Area Registration'!C48)","v":""},{"$f":"IF('Area Registration'!D48=\"\",\"\",'Area Registration'!D48)","v":""},{"$f":"IF('Area Registration'!G48=\"\",\"\",'Area Registration'!G48)","v":""},{"$f":"IF('Area Registration'!J48=\"\",\"\",'Area Registration'!J48)","v":""},{"$f":"IF('Area Registration'!K48=\"\",\"\",'Area Registration'!K48)","v":""},{"$f":"IF('Area Registration'!L48=\"\",\"\",'Area Registration'!L48)","v":""},{"$f":"IF('Area Registration'!M48=\"\",\"\",'Area Registration'!M48)","v":""}]
[42,{"$f":"IF('Area Registration'!B49=\"\",\"\",'Area Registration'!B49)","v":""},{"$f":"IF('Area Registration'!C49=\"\",\"\",'Area Registration'!C49)","v":""},{"$f":"IF('Area Registration'!D49=\"\",\"\",'Area Registration'!D49)","v":""},{"$f":"IF('Area Registration'!G49=\"\",\"\",'Area Registration'!G49)","v":""},{"$f":"IF('Area Registration'!J49=\"\",\"\",'Area Registration'!J49)","v":""},{"$f":"IF('Area Registration'!K49=\"\",\"\",'Area Registration'!K49)","v":""},{"$f":"IF('Area Registration'!L49=\"\",\"\",'Area Registration'!L49)","v":""},{"$f":"IF('Area Registration'!M49=\"\",\"\",'Area Registration'!M49)","v":""}]
[43,{"$f":"IF('Area Registration'!B50=\"\",\"\",'Area Registration'!B50)","v":""},{"$f":"IF('Area Registration'!C50=\"\",\"\",'Area Registration'!C50)","v":""},{"$f":"IF('Area Registration'!D50=\"\",\"\",'Area Registration'!D50)","v":""},{"$f":"IF('Area Registration'!G50=\"\",\"\",'Area Registration'!G50)","v":""},{"$f":"IF('Area Registration'!J50=\"\",\"\",'Area Registration'!J50)","v":""},{"$f":"IF('Area Registration'!K50=\"\",\"\",'Area Registration'!K50)","v":""},{"$f":"IF('Area Registration'!L50=\"\",\"\",'Area Registration'!L50)","v":""},{"$f":"IF('Area Registration'!M50=\"\",\"\",'Area Registration'!M50)","v":""}]
[44,{"$f":"IF('Area Registration'!B51=\"\",\"\",'Area Registration'!B51)","v":""},{"$f":"IF('Area Registration'!C51=\"\",\"\",'Area Registration'!C51)","v":""},{"$f":"IF('Area Registration'!D51=\"\",\"\",'Area Registration'!D51)","v":""},{"$f":"IF('Area Registration'!G51=\"\",\"\",'Area Registration'!G51)","v":""},{"$f":"IF('Area Registration'!J51=\"\",\"\",'Area Registration'!J51)","v":""},{"$f":"IF('Area Registration'!K51=\"\",\"\",'Area Registration'!K51)","v":""},{"$f":"IF('Area Registration'!L51=\"\",\"\",'Area Registration'!L51)","v":""},{"$f":"IF('Area Registration'!M51=\"\",\"\",'Area Registration'!M51)","v":""}]
[45,{"$f":"IF('Area Registration'!B52=\"\",\"\",'Area Registration'!B52)","v":""},{"$f":"IF('Area Registration'!C52=\"\",\"\",'Area Registration'!C52)","v":""},{"$f":"IF('Area Registration'!D52=\"\",\"\",'Area Registration'!D52)","v":""},{"$f":"IF('Area Registration'!G52=\"\",\"\",'Area Registration'!G52)","v":""},{"$f":"IF('Area Registration'!J52=\"\",\"\",'Area Registration'!J52)","v":""},{"$f":"IF('Area Registration'!K52=\"\",\"\",'Area Registration'!K52)","v":""},{"$f":"IF('Area Registration'!L52=\"\",\"\",'Area Registration'!L52)","v":""},{"$f":"IF('Area Registration'!M52=\"\",\"\",'Area Registration'!M52)","v":""}]
[46,{"$f":"IF('Area Registration'!B53=\"\",\"\",'Area Registration'!B53)","v":""},{"$f":"IF('Area Registration'!C53=\"\",\"\",'Area Registration'!C53)","v":""},{"$f":"IF('Area Registration'!D53=\"\",\"\",'Area Registration'!D53)","v":""},{"$f":"IF('Area Registration'!G53=\"\",\"\",'Area Registration'!G53)","v":""},{"$f":"IF('Area Registration'!J53=\"\",\"\",'Area Registration'!J53)","v":""},{"$f":"IF('Area Registration'!K53=\"\",\"\",'Area Registration'!K53)","v":""},{"$f":"IF('Area Registration'!L53=\"\",\"\",'Area Registration'!L53)","v":""},{"$f":"IF('Area Registration'!M53=\"\",\"\",'Area Registration'!M53)","v":""}]

{"sheet":"Campers & Leaders","index":3,"n_rows":56,"n_cols":20,"rows_kept":56,"cut":false,"hidden":false,"merged":[[1,2,4,13],[13,1,13,7],[13,10,13,16],[8,4,8,7],[6,2,6,7]]}
[]
[null,null,"YOUNG LIFE SUMMER CAMP REGISTRATION"]
[]
[]
[]
[]
[null,"CAMP NAME","YL Adventures Baja",null,null,null,null,null,null,null,"AREA NUMBER",{"$f":"'Area Registration'!I4","v":0}]
[null,"CAMP TYPE","Creative Camping Adventure",null,null,null,null,null,null,null,"AREA NAME",{"$f":"'Area Registration'!I5","v":0}]
[null,"CAMP DATES",{"$f":"'Area Registration'!C5","v":"7/5/2019 - 7/10/19"},null,null,null,null,null,null,null,"REGION NUMBER"]
[]
[null,"Completed A-Form and paper health forms for each camper & leader must be turned in upon arrival at camp."]
[null,"Repeat Camper - For campers who have previously attended an adventure camp week, enter 2 (second-timer), 3 (third-timer), or 4 (fourth-timer). "]
[null,"Leave blank for first-timers."]
[null,"CAMPERS ONLY",null,null,null,null,null,null,null,null,"LEADERS ONLY"]
[null,"LAST NAME","FIRST NAME","MALE","FEMALE","ONLINE HC FORM","PAPER HC FORM","REPEAT CAMPER",null,null,"LAST NAME","FIRST NAME","MALE","FEMALE","ONLINE HC FORM","PAPER HC FORM","YL STAFF?"]
[1,{"$f":"IF('Area Registration'!D8=\"\",\"\",'Area Registration'!D8)","v":""},{"$f":"IF('Area Registration'!B8=\"\",\"\",'Area Registration'!B8)","v":""},{"$f":"IF('Area Registration'!H8=\"\",\"\",'Area Registration'!H8)","v":""},{"$f":"IF('Area Registration'!I8=\"\",\"\",'Area Registration'!I8)","v":""},null,null,null,null,1,{"$f":"IF('Area Registration'!D44=\"\",\"\",'Area Registration'!D44)","v":""},{"$f":"IF('Area Registration'!B44=\"\",\"\",'Area Registration'!B44)","v":""},{"$f":"IF('Area Registration'!H44=\"\",\"\",'Area Registration'!H44)","v":""},{"$f":"IF('Area Registration'!I44=\"\",\"\",'Area Registration'!I44)","v":""},null,null,null,null,"Beyond Malibu","6th Grade Outreach"]
[{"$f":"A16+1","v":2},{"$f":"IF('Area Registration'!D9=\"\",\"\",'Area Registration'!D9)","v":""},{"$f":"IF('Area Registration'!B9=\"\",\"\",'Area Registration'!B9)","v":""},{"$f":"IF('Area Registration'!H9=\"\",\"\",'Area Registration'!H9)","v":""},{"$f":"IF('Area Registration'!I9=\"\",\"\",'Area Registration'!I9)","v":""},null,null,null,null,{"$f":"J16+1","v":2},{"$f":"IF('Area Registration'!D45=\"\",\"\",'Area Registration'!D45)","v":""},{"$f":"IF('Area Registration'!B45=\"\",\"\",'Area Registration'!B45)","v":""},{"$f":"IF('Area Registration'!H45=\"\",\"\",'Area Registration'!H45)","v":""},{"$f":"IF('Area Registration'!I45=\"\",\"\",'Area Registration'!I45)","v":""},null,null,null,null,"Breakaway Lodge","9th Grade Outreach"]
[{"$f":"A17+1","v":3},{"$f":"IF('Area Registration'!D10=\"\",\"\",'Area Registration'!D10)","v":""},{"$f":"IF('Area Registration'!B10=\"\",\"\",'Area Registration'!B10)","v":""},{"$f":"IF('Area Registration'!H10=\"\",\"\",'Area Registration'!H10)","v":""},{"$f":"IF('Area Registration'!I10=\"\",\"\",'Area Registration'!I10)","v":""},null,null,null,null,3,{"$f":"IF('Area Registration'!D46=\"\",\"\",'Area Registration'!D46)","v":""},{"$f":"IF('Area Registration'!B46=\"\",\"\",'Area Registration'!B46)","v":""},{"$f":"IF('Area Registration'!H46=\"\",\"\",'Area Registration'!H46)","v":""},{"$f":"IF('Area Registration'!I46=\"\",\"\",'Area Registration'!I46)","v":""},null,null,null,null,"Camp Buckner","Backpacking"]
[4,{"$f":"IF('Area Registration'!D11=\"\",\"\",'Area Registration'!D11)","v":""},{"$f":"IF('Area Registration'!B11=\"\",\"\",'Area Registration'!B11)","v":""},{"$f":"IF('Area Registration'!H11=\"\",\"\",'Area Registration'!H11)","v":""},{"$f":"IF('Area Registration'!I11=\"\",\"\",'Area Registration'!I11)","v":""},null,null,null,null,4,{"$f":"IF('Area Registration'!D47=\"\",\"\",'Area Registration'!D47)","v":""},{"$f":"IF('Area Registration'!B47=\"\",\"\",'Area Registration'!B47)","v":""},{"$f":"IF('Area Registration'!H47=\"\",\"\",'Area Registration'!H47)","v":""},{"$f":"IF('Area Registration'!I47=\"\",\"\",'Area Registration'!I47)","v":""},null,null,null,null,"Carolina Point","Discipleship"]
[5,{"$f":"IF('Area Registration'!D12=\"\",\"\",'Area Registration'!D12)","v":""},{"$f":"IF('Area Registration'!B12=\"\",\"\",'Area Registration'!B12)","v":""},{"$f":"IF('Area Registration'!H12=\"\",\"\",'Area Registration'!H12)","v":""},{"$f":"IF('Area Registration'!I12=\"\",\"\",'Area Registration'!I12)","v":""},null,null,null,null,5,{"$f":"IF('Area Registration'!D48=\"\",\"\",'Area Registration'!D48)","v":""},{"$f":"IF('Area Registration'!B48=\"\",\"\",'Area Registration'!B48)","v":""},{"$f":"IF('Area Registration'!H48=\"\",\"\",'Area Registration'!H48)","v":""},{"$f":"IF('Area Registration'!I48=\"\",\"\",'Area Registration'!I48)","v":""},null,null,null,null,"Castaway Club","Kayaking"]
[6,{"$f":"IF('Area Registration'!D13=\"\",\"\",'Area Registration'!D13)","v":""},{"$f":"IF('Area Registration'!B13=\"\",\"\",'Area Registration'!B13)","v":""},{"$f":"IF('Area Registration'!H13=\"\",\"\",'Area Registration'!H13)","v":""},{"$f":"IF('Area Registration'!I13=\"\",\"\",'Area Registration'!I13)","v":""},null,null,null,null,6,{"$f":"IF('Area Registration'!D49=\"\",\"\",'Area Registration'!D49)","v":""},{"$f":"IF('Area Registration'!B49=\"\",\"\",'Area Registration'!B49)","v":""},{"$f":"IF('Area Registration'!H49=\"\",\"\",'Area Registration'!H49)","v":""},{"$f":"IF('Area Registration'!I49=\"\",\"\",'Area Registration'!I49)","v":""},null,null,null,null,"Clearwater Cove","Multi-Cultural/Urban"]
[7,{"$f":"IF('Area Registration'!D14=\"\",\"\",'Area Registration'!D14)","v":""},{"$f":"IF('Area Registration'!B14=\"\",\"\",'Area Registration'!B14)","v":""},{"$f":"IF('Area Registration'!H14=\"\",\"\",'Area Registration'!H14)","v":""},{"$f":"IF('Area Registration'!I14=\"\",\"\",'Area Registration'!I14)","v":""},null,null,null,null,7,{"$f":"IF('Area Registration'!D50=\"\",\"\",'Area Registration'!D50)","v":""},{"$f":"IF('Area Registration'!B50=\"\",\"\",'Area Registration'!B50)","v":""},{"$f":"IF('Area Registration'!H50=\"\",\"\",'Area Registration'!H50)","v":""},{"$f":"IF('Area Registration'!I50=\"\",\"\",'Area Registration'!I50)","v":""},null,null,null,null,"Crooked Creek","Senior High Outreach"]
[8,{"$f":"IF('Area Registration'!D15=\"\",\"\",'Area Registration'!D15)","v":""},{"$f":"IF('Area Registration'!B15=\"\",\"\",'Area Registration'!B15)","v":""},{"$f":"IF('Area Registration'!H15=\"\",\"\",'Area Registration'!H15)","v":""},{"$f":"IF('Area Registration'!I15=\"\",\"\",'Area Registration'!I15)","v":""},null,null,null,null,8,{"$f":"IF('Area Registration'!D51=\"\",\"\",'Area Registration'!D51)","v":""},{"$f":"IF('Area Registration'!B51=\"\",\"\",'Area Registration'!B51)","v":""},{"$f":"IF('Area Registration'!H51=\"\",\"\",'Area Registration'!H51)","v":""},{"$f":"IF('Area Registration'!I51=\"\",\"\",'Area Registration'!I51)","v":""},null,null,null,null,"Crossroads","Sports"]
[9,{"$f":"IF('Area Registration'!D16=\"\",\"\",'Area Registration'!D16)","v":""},{"$f":"IF('Area Registration'!B16=\"\",\"\",'Area Registration'!B16)","v":""},{"$f":"IF('Area Registration'!H16=\"\",\"\",'Area Registration'!H16)","v":""},{"$f":"IF('Area Registration'!I16=\"\",\"\",'Area Registration'!I16)","v":""},null,null,null,null,9,{"$f":"IF('Area Registration'!D52=\"\",\"\",'Area Registration'!D52)","v":""},{"$f":"IF('Area Registration'!B52=\"\",\"\",'Area Registration'!B52)","v":""},{"$f":"IF('Area Registration'!H52=\"\",\"\",'Area Registration'!H52)","v":""},{"$f":"IF('Area Registration'!I52=\"\",\"\",'Area Registration'!I52)","v":""},null,null,null,null,"Family First","WyldLife Outreach"]
[10,{"$f":"IF('Area Registration'!D17=\"\",\"\",'Area Registration'!D17)","v":""},{"$f":"IF('Area Registration'!B17=\"\",\"\",'Area Registration'!B17)","v":""},{"$f":"IF('Area Registration'!H17=\"\",\"\",'Area Registration'!H17)","v":""},{"$f":"IF('Area Registration'!I17=\"\",\"\",'Area Registration'!I17)","v":""},null,null,null,null,10,{"$f":"IF('Area Registration'!D53=\"\",\"\",'Area Registration'!D53)","v":""},{"$f":"IF('Area Registration'!B53=\"\",\"\",'Area Registration'!B53)","v":""},{"$f":"IF('Area Registration'!H53=\"\",\"\",'Area Registration'!H53)","v":""},{"$f":"IF('Area Registration'!I53=\"\",\"\",'Area Registration'!I53)","v":""},null,null,null,null,"Frontier Ranch"]
[11,{"$f":"IF('Area Registration'!D18=\"\",\"\",'Area Registration'!D18)","v":""},{"$f":"IF('Area Registration'!B18=\"\",\"\",'Area Registration'!B18)","v":""},{"$f":"IF('Area Registration'!H18=\"\",\"\",'Area Registration'!H18)","v":""},{"$f":"IF('Area Registration'!I18=\"\",\"\",'Area Registration'!I18)","v":""},null,null,null,null,11,null,null,null,null,null,null,null,null,"Lake Champion"]
[12,{"$f":"IF('Area Registration'!D19=\"\",\"\",'Area Registration'!D19)","v":""},{"$f":"IF('Area Registration'!B19=\"\",\"\",'Area Registration'!B19)","v":""},{"$f":"IF('Area Registration'!H19=\"\",\"\",'Area Registration'!H19)","v":""},{"$f":"IF('Area Registration'!I19=\"\",\"\",'Area Registration'!I19)","v":""},null,null,null,null,12,null,null,null,null,null,null,null,null,"Lost Canyon"]
[13,{"$f":"IF('Area Registration'!D20=\"\",\"\",'Area Registration'!D20)","v":""},{"$f":"IF('Area Registration'!B20=\"\",\"\",'Area Registration'!B20)","v":""},{"$f":"IF('Area Registration'!H20=\"\",\"\",'Area Registration'!H20)","v":""},{"$f":"IF('Area Registration'!I20=\"\",\"\",'Area Registration'!I20)","v":""},null,null,null,null,13,null,null,null,null,null,null,null,null,"Malibu Club"]
[14,{"$f":"IF('Area Registration'!D21=\"\",\"\",'Area Registration'!D21)","v":""},{"$f":"IF('Area Registration'!B21=\"\",\"\",'Area Registration'!B21)","v":""},{"$f":"IF('Area Registration'!H21=\"\",\"\",'Area Registration'!H21)","v":""},{"$f":"IF('Area Registration'!I21=\"\",\"\",'Area Registration'!I21)","v":""},null,null,null,null,14,null,null,null,null,null,null,null,null,"Michindoh"]
[15,{"$f":"IF('Area Registration'!D22=\"\",\"\",'Area Registration'!D22)","v":""},{"$f":"IF('Area Registration'!B22=\"\",\"\",'Area Registration'!B22)","v":""},{"$f":"IF('Area Registration'!H22=\"\",\"\",'Area Registration'!H22)","v":""},{"$f":"IF('Area Registration'!I22=\"\",\"\",'Area Registration'!I22)","v":""},null,null,null,null,15,null,null,null,null,null,null,null,null,"Mokule'ia"]
[16,{"$f":"IF('Area Registration'!D23=\"\",\"\",'Area Registration'!D23)","v":""},{"$f":"IF('Area Registration'!B23=\"\",\"\",'Area Registration'!B23)","v":""},{"$f":"IF('Area Registration'!H23=\"\",\"\",'Area Registration'!H23)","v":""},{"$f":"IF('Area Registration'!I23=\"\",\"\",'Area Registration'!I23)","v":""},null,null,null,null,16,null,null,null,null,null,null,null,null,"NorthBay"]
[17,{"$f":"IF('Area Registration'!D24=\"\",\"\",'Area Registration'!D24)","v":""},{"$f":"IF('Area Registration'!B24=\"\",\"\",'Area Registration'!B24)","v":""},{"$f":"IF('Area Registration'!H24=\"\",\"\",'Area Registration'!H24)","v":""},{"$f":"IF('Area Registration'!I24=\"\",\"\",'Area Registration'!I24)","v":""},null,null,null,null,17,null,null,null,null,null,null,null,null,"Oakbridge"]
[18,{"$f":"IF('Area Registration'!D25=\"\",\"\",'Area Registration'!D25)","v":""},{"$f":"IF('Area Registration'!B25=\"\",\"\",'Area Registration'!B25)","v":""},{"$f":"IF('Area Registration'!H25=\"\",\"\",'Area Registration'!H25)","v":""},{"$f":"IF('Area Registration'!I25=\"\",\"\",'Area Registration'!I25)","v":""},null,null,null,null,18,null,null,null,null,null,null,null,null,"RMR Backcountry"]
[19,{"$f":"IF('Area Registration'!D26=\"\",\"\",'Area Registration'!D26)","v":""},{"$f":"IF('Area Registration'!B26=\"\",\"\",'Area Registration'!B26)","v":""},{"$f":"IF('Area Registration'!H26=\"\",\"\",'Area Registration'!H26)","v":""},{"$f":"IF('Area Registration'!I26=\"\",\"\",'Area Registration'!I26)","v":""},null,null,null,null,19,null,null,null,null,null,null,null,null,"Rockbridge"]
[20,{"$f":"IF('Area Registration'!D27=\"\",\"\",'Area Registration'!D27)","v":""},{"$f":"IF('Area Registration'!B27=\"\",\"\",'Area Registration'!B27)","v":""},{"$f":"IF('Area Registration'!H27=\"\",\"\",'Area Registration'!H27)","v":""},{"$f":"IF('Area Registration'!I27=\"\",\"\",'Area Registration'!I27)","v":""},null,null,null,null,20,null,null,null,null,null,null,null,null,"Rockridge Canyon"]
[21,{"$f":"IF('Area Registration'!D28=\"\",\"\",'Area Registration'!D28)","v":""},{"$f":"IF('Area Registration'!B28=\"\",\"\",'Area Registration'!B28)","v":""},{"$f":"IF('Area Registration'!H28=\"\",\"\",'Area Registration'!H28)","v":""},{"$f":"IF('Area Registration'!I28=\"\",\"\",'Area Registration'!I28)","v":""},null,null,null,null,21,null,null,null,null,null,null,null,null,"Rocky Creek Ranch"]
[22,{"$f":"IF('Area Registration'!D29=\"\",\"\",'Area Registration'!D29)","v":""},{"$f":"IF('Area Registration'!B29=\"\",\"\",'Area Registration'!B29)","v":""},{"$f":"IF('Area Registration'!H29=\"\",\"\",'Area Registration'!H29)","v":""},{"$f":"IF('Area Registration'!I29=\"\",\"\",'Area Registration'!I29)","v":""},null,null,null,null,22,null,null,null,null,null,null,null,null,"Saranac Village"]
[23,{"$f":"IF('Area Registration'!D30=\"\",\"\",'Area Registration'!D30)","v":""},{"$f":"IF('Area Registration'!B30=\"\",\"\",'Area Registration'!B30)","v":""},{"$f":"IF('Area Registration'!H30=\"\",\"\",'Area Registration'!H30)","v":""},{"$f":"IF('Area Registration'!I30=\"\",\"\",'Area Registration'!I30)","v":""},null,null,null,null,23,null,null,null,null,null,null,null,null,"Sharp Top Cove"]
[24,{"$f":"IF('Area Registration'!D31=\"\",\"\",'Area Registration'!D31)","v":""},{"$f":"IF('Area Registration'!B31=\"\",\"\",'Area Registration'!B31)","v":""},{"$f":"IF('Area Registration'!H31=\"\",\"\",'Area Registration'!H31)","v":""},{"$f":"IF('Area Registration'!I31=\"\",\"\",'Area Registration'!I31)","v":""},null,null,null,null,24,null,null,null,null,null,null,null,null,"Southwind"]
[25,{"$f":"IF('Area Registration'!D32=\"\",\"\",'Area Registration'!D32)","v":""},{"$f":"IF('Area Registration'!B32=\"\",\"\",'Area Registration'!B32)","v":""},{"$f":"IF('Area Registration'!H32=\"\",\"\",'Area Registration'!H32)","v":""},{"$f":"IF('Area Registration'!I32=\"\",\"\",'Area Registration'!I32)","v":""},null,null,null,null,25,null,null,null,null,null,null,null,null,"Timber Wolf Lake"]
[26,{"$f":"IF('Area Registration'!D33=\"\",\"\",'Area Registration'!D33)","v":""},{"$f":"IF('Area Registration'!B33=\"\",\"\",'Area Registration'!B33)","v":""},{"$f":"IF('Area Registration'!H33=\"\",\"\",'Area Registration'!H33)","v":""},{"$f":"IF('Area Registration'!I33=\"\",\"\",'Area Registration'!I33)","v":""},null,null,null,null,26,null,null,null,null,null,null,null,null,"WFR Canyon"]
[27,{"$f":"IF('Area Registration'!D34=\"\",\"\",'Area Registration'!D34)","v":""},{"$f":"IF('Area Registration'!B34=\"\",\"\",'Area Registration'!B34)","v":""},{"$f":"IF('Area Registration'!H34=\"\",\"\",'Area Registration'!H34)","v":""},{"$f":"IF('Area Registration'!I34=\"\",\"\",'Area Registration'!I34)","v":""},null,null,null,null,27,null,null,null,null,null,null,null,null,"WFR Creekside"]
[28,{"$f":"IF('Area Registration'!D35=\"\",\"\",'Area Registration'!D35)","v":""},{"$f":"IF('Area Registration'!B35=\"\",\"\",'Area Registration'!B35)","v":""},{"$f":"IF('Area Registration'!H41=\"\",\"\",'Area Registration'!H41)","v":""},{"$f":"IF('Area Registration'!I41=\"\",\"\",'Area Registration'!I41)","v":""},null,null,null,null,28,null,null,null,null,null,null,null,null,"Wilderness Ranch"]
[29,{"$f":"IF('Area Registration'!D36=\"\",\"\",'Area Registration'!D36)","v":""},{"$f":"IF('Area Registration'!B36=\"\",\"\",'Area Registration'!B36)","v":""},{"$f":"IF('Area Registration'!H42=\"\",\"\",'Area Registration'!H42)","v":""},{"$f":"IF('Area Registration'!I42=\"\",\"\",'Area Registration'!I42)","v":""},null,null,null,null,29,null,null,null,null,null,null,null,null,"Windy Gap"]
[30,{"$f":"IF('Area Registration'!D37=\"\",\"\",'Area Registration'!D37)","v":""},{"$f":"IF('Area Registration'!B37=\"\",\"\",'Area Registration'!B37)","v":""},{"$f":"IF('Area Registration'!H43=\"\",\"\",'Area Registration'!H43)","v":""},{"$f":"IF('Area Registration'!I43=\"\",\"\",'Area Registration'!I43)","v":""},null,null,null,null,30,null,null,null,null,null,null,null,null,"Woodleaf"]
[31,null,null,null,null,null,null,null,null,31,null,null,null,null,null,null,null,null,"YL Adventures Santa Cruz"]
[32,null,null,null,null,null,null,null,null,32,null,null,null,null,null,null,null,null,"YL Adventures Baja"]
[33,null,null,null,null,null,null,null,null,33]
[34,null,null,null,null,null,null,null,null,34]
[35,null,null,null,null,null,null,null,null,35]
[36,null,null,null,null,null,null,null,null,36]
[null,null,"TOTALS",{"$f":"COUNTIF(D16:D51, \"M\")","v":0},{"$f":"COUNTIF(E16:E51, \"F\")","v":0},null,null,null,null,null,null,"TOTALS",{"$f":"COUNTIF(M16:M51, \"M\")","v":0},{"$f":"COUNTIF(N16:N51, \"F\")","v":0}]
[]
[null,null,null,null,null,null,null,null,null,null,null,null,null,null,2,null,{"$f":"COUNTIF($Q$16:$Q$51,O54)","v":0}]
[null,null,null,null,null,3,null,{"$f":"COUNTIF($H$16:$H$52,F55)","v":0},null,null,null,null,null,null,3,null,{"$f":"COUNTIF($Q$16:$Q$51,O55)","v":0}]
[null,null,null,null,null,4,null,{"$f":"COUNTIF($H$16:$H$52,F56)","v":0},null,null,null,null,null,null,4,null,{"$f":"COUNTIF($Q$16:$Q$51,O56)","v":0}]

{"sheet":"Campers Page 2","index":4,"n_rows":61,"n_cols":20,"rows_kept":61,"cut":false,"hidden":true,"merged":[[13,1,13,7],[13,10,13,16],[10,1,11,16],[1,2,4,13],[6,2,6,7],[7,2,7,7],[7,11,7,16],[8,4,8,7]]}
[]
[null,null,"YOUNG LIFE SUMMER CAMP REGISTRATION"]
[]
[]
[]
[]
[null,"CAMP NAME",{"$f":"'Campers & Leaders'!C7:H7","v":"YL Adventures Baja"},null,null,null,null,null,null,null,"AREA NUMBER",{"$f":"'Campers & Leaders'!L7","v":0}]
[null,"CAMP TYPE",{"$f":"'Campers & Leaders'!C8:H8","v":"Creative Camping Adventure"},null,null,null,null,null,null,null,"AREA NAME",{"$f":"'Campers & Leaders'!L8:Q8","v":0}]
[null,"CAMP DATES",{"$f":"'Campers & Leaders'!C9","v":"7/5/2019 - 7/10/19"},"to",{"$f":"'Campers & Leaders'!E9:H9","v":"00:00:00"},null,null,null,null,null,"REGION NUMBER",{"$f":"'Campers & Leaders'!L9","v":0}]
[]
[null,"CAMPERS PAGE 2"]
[]
[]
[null,"CAMPERS ONLY",null,null,null,null,null,null,null,null,"CAMPERS ONLY"]
[null,"LAST NAME","FIRST NAME","MALE","FEMALE","ONLINE HC FORM","PAPER HC FORM","2nd, 3rd, 4th\nTIMER",null,null,"LAST NAME","FIRST NAME","MALE","FEMALE","ONLINE HC FORM","PAPER HC FORM","2nd, 3rd, 4th\nTIMER"]
[80,null,null,null,null,null,null,null,null,{"$f":"A56+1","v":121},null,null,null,null,null,null,null,null,"Beyond Malibu","6th Grade Outreach"]
[{"$f":"A16+1","v":81},null,null,null,null,null,null,null,null,{"$f":"J16+1","v":122},null,null,null,null,null,null,null,null,"Breakaway Lodge","9th Grade Outreach"]
[{"$f":"A17+1","v":82},null,null,null,null,null,null,null,null,123,null,null,null,null,null,null,null,null,"Camp Buckner","Backpacking"]
[83,null,null,null,null,null,null,null,null,124,null,null,null,null,null,null,null,null,"Castaway Club","Capernaum"]
[84,null,null,null,null,null,null,null,null,125,null,null,null,null,null,null,null,null,"Crooked Creek","Discipleship"]
[85,null,null,null,null,null,null,null,null,126,null,null,null,null,null,null,null,null,"Family First","Kayaking"]
[86,null,null,null,null,null,null,null,null,127,null,null,null,null,null,null,null,null,"Frontier Ranch","Multi-Cultural/Urban"]
[87,null,null,null,null,null,null,null,null,128,null,null,null,null,null,null,null,null,"Lake Champion","Senior High Outreach"]
[88,null,null,null,null,null,null,null,null,129,null,null,null,null,null,null,null,null,"Lost Canyon","Sports"]
[89,null,null,null,null,null,null,null,null,130,null,null,null,null,null,null,null,null,"Malibu Club","WyldLife Outreach"]
[90,null,null,null,null,null,null,null,null,131,null,null,null,null,null,null,null,null,"Michindoh","YoungLives"]
[91,null,null,null,null,null,null,null,null,132,null,null,null,null,null,null,null,null,"Mokule'ia"]
[92,null,null,null,null,null,null,null,null,133,null,null,null,null,null,null,null,null,"NorthBay"]
[93,null,null,null,null,null,null,null,null,134,null,null,null,null,null,null,null,null,"Oakbridge"]
[94,null,null,null,null,null,null,null,null,135,null,null,null,null,null,null,null,null,"Quaker Ridge"]
[95,null,null,null,null,null,null,null,null,136,null,null,null,null,null,null,null,null,"RMR Backcountry"]
[96,null,null,null,null,null,null,null,null,137,null,null,null,null,null,null,null,null,"Rockbridge"]
[97,null,null,null,null,null,null,null,null,138,null,null,null,null,null,null,null,null,"Rockridge Canyon"]
[98,null,null,null,null,null,null,null,null,139,null,null,null,null,null,null,null,null,"Saranac Village"]
[99,null,null,null,null,null,null,null,null,140,null,null,null,null,null,null,null,null,"Sharp Top Cove"]
[100,null,null,null,null,null,null,null,null,141,null,null,null,null,null,null,null,null,"Southwind"]
[101,null,null,null,null,null,null,null,null,142,null,null,null,null,null,null,null,null,"Timber Wolf Lake"]
[102,null,null,null,null,null,null,null,null,143,null,null,null,null,null,null,null,null,"WFR Canyon"]
[103,null,null,null,null,null,null,null,null,144,null,null,null,null,null,null,null,null,"WFR Creekside"]
[104,null,null,null,null,null,null,null,null,145,null,null,null,null,null,null,null,null,"Wilderness Ranch"]
[105,null,null,null,null,null,null,null,null,146,null,null,null,null,null,null,null,null,"Windy Gap"]
[106,null,null,null,null,null,null,null,null,147,null,null,null,null,null,null,null,null,"Woodleaf"]
[107,null,null,null,null,null,null,null,null,148,null,null,null,null,null,null,null,null,"YL Adventures Santa Cruz"]
[108,null,null,null,null,null,null,null,null,149]
[109,null,null,null,null,null,null,null,null,150]
[110,null,null,null,null,null,null,null,null,151]
[111,null,null,null,null,null,null,null,null,152]
[112,null,null,null,null,null,null,null,null,153]
[113,null,null,null,null,null,null,null,null,154]
[114,null,null,null,null,null,null,null,null,155]
[115,null,null,null,null,null,null,null,null,156]
[116,null,null,null,null,null,null,null,null,157]
[117,null,null,null,null,null,null,null,null,158]
[118,null,null,null,null,null,null,null,null,159]
[119,null,null,null,null,null,null,null,null,160]
[120,null,null,null,null,null,null,null,null,null,null,"TOTALS PAGE 2",{"$f":"COUNTA(D16:D56)+COUNTA(M16:M55)","v":0},{"$f":"COUNTA(E16:E56)+COUNTA(N16:N55)","v":0}]
[null,null,null,null,null,null,null,null,null,null,null,"GRAND TOTALS",{"$f":"M56+'Campers & Leaders'!M52","v":0},{"$f":"N56+'Campers & Leaders'!N52","v":0}]
[]
[null,null,null,null,null,2,null,{"$f":"COUNTIF($H$16:$H$56,F59)","v":0},null,null,null,null,null,null,2,null,{"$f":"COUNTIF($Q$16:$Q$55,O59)","v":0}]
[null,null,null,null,null,3,null,{"$f":"COUNTIF($H$16:$H$56,F60)","v":0},null,null,null,null,null,null,3,null,{"$f":"COUNTIF($Q$16:$Q$55,O60)","v":0}]
[null,null,null,null,null,4,null,0,null,null,null,null,null,null,4,null,0]

{"sheet":"Financials","index":5,"n_rows":39,"n_cols":8,"rows_kept":39,"cut":false,"hidden":false,"merged":[[34,1,34,2],[36,1,36,3],[37,1,37,3],[47,1,47,2],[43,2,43,3],[44,2,44,3],[38,1,38,3],[41,1,41,4],[21,3,21,4],[25,0,25,3],[26,0,26,3],[32,1,32,2],[33,1,33,2],[4,1,4,4],[5,1,5,4],[6,1,6,4],[3,2,3,4],[30,1,30,3],[10,2,10,3],[10,4,11,4],[12,1,12,4],[13,1,13,3],[14,1,14,3],[18,1,18,4],[28,1,28,4],[29,1,29,3],[15,1,15,3],[16,1,16,3],[19,1,19,4]]}
[]
[null,null,"FINANCIAL SUMMARY"]
[]
[null,{"$f":"'Campers & Leaders'!L7","v":0},{"$f":"'Campers & Leaders'!L8","v":0}]
[null,"FINANCIAL SUMMARY"]
[null,"TRIP LEADER: DO NOT COMPLETE THIS SECTION\nCompleted by camp office during payment"]
[null,"CAMP FEES",null,null,null,null,"Beyond Malibu","6th Grade Outreach"]
[null,null,"Number","x Camp Fee","= Amount",null,"Breakaway Lodge","9th Grade Outreach"]
[null,"Campers ",{"$f":"'Campers & Leaders'!D52+'Campers & Leaders'!E52","v":0},595,{"$f":"C9*D9","v":0},null,"Camp Buckner","Backpacking"]
[null,"Leaders (Staff & Volunteers) ",{"$f":"'Campers & Leaders'!M52+'Campers & Leaders'!N52","v":0},595,{"$f":"C10*D10","v":0},null,"Castaway Club","Capernaum"]
[null,null,"Subtotal Camp Fees",null,{"$f":"E9+E10","v":0},null,"Crooked Creek","Discipleship"]
[null,null,null,null,null,null,"Family First","Kayaking"]
[null,"MISCELLANEOUS CHARGES",null,null,null,null,"Frontier Ranch","Multi-Cultural/Urban"]
[null,"Description",null,null,"Amount",null,"Lake Champion","Senior High Outreach"]
[null,null,null,null,null,null,"Lost Canyon","Sports"]
[null,null,null,null,null,null,"Malibu Club","WyldLife Outreach"]
[null,null,null,null,null,null,"Michindoh","YoungLives"]
[null,null,null,null,null,null,"Mokule'ia"]
[null,"ACCOUNTABILITY CHARGE",null,null,null,null,"NorthBay"]
[null,"Area is financially accountable for 90% of R2. Accountability fee is 1/2 of the camp fee ($298).",null,null,null,null,"Oakbridge"]
[null,"R2 ",null,null,null,null,"Quaker Ridge"]
[null,"90% of R2 ",{"$f":"ROUNDUP(C21*0.9,0)","v":0},"No accountability fee",null,null,"RMR Backcountry"]
[null,null,"90% - Actual","x 1/2 Camp Fee","= Amount",null,"Rockbridge"]
[null,"Accountability Charge ",{"$f":"IF(SUM(C9:C10)<C22,C22-SUM(C9:C10),0)","v":0},{"$f":"ROUNDUP(D9/2,0)","v":298},{"$f":"C24*D24","v":0},null,"Rockridge Canyon"]
[null,null,null,null,null,null,"Saranac Village"]
["TOTAL FEES = ",null,null,null,{"$f":"E11+E15+E16+E17+E24","v":0},null,"Sharp Top Cove"]
["(Camp Fees + Misc, Charges + Accountability Charge)",null,null,null,null,null,"Southwind"]
[null,null,null,null,null,null,"Timber Wolf Lake"]
[null,"PAYMENTS",null,null,null,null,"WFR Canyon"]
[null,null,null,null,"Amount"]
[null,"Pre-Registration INTERNAL TRANSFER ",null,null,null,null,"WFR Creekside"]
[null,null,null,"Area #","Amount",null,"Wilderness Ranch"]
[null,"Area Campership Transfer ",null,null,null,null,"Windy Gap"]
[null,"Area Campership Transfer ",null,null,null,null,"Woodleaf"]
[null,"Dependent Scholarship Transfer ",null,null,null,null,"YL Adventures Santa Cruz"]
[]
[null,"TOTAL PAYMENTS = ",null,null,{"$f":"E31+E33+E34+E35","v":0}]
[null,"(Pre-Registration + Transfers)"]
[null,"BALANCE DUE ",null,null,{"$f":"E26-E37","v":0}]

{"sheet":"Ethnicity Report","index":6,"n_rows":17,"n_cols":9,"rows_kept":17,"cut":false,"hidden":false,"merged":[[5,1,5,8],[13,2,13,8],[14,2,14,8],[16,1,16,6]]}
[]
[null,"Area #",{"$f":"'Area Registration'!I4","v":0}]
[null,"Area Name",{"$f":"'Area Registration'!I5","v":0}]
[]
[]
[null,"We collect information from each area on the ethnic background of their campers and leaders. Complete the boxes below as they pertain to your group. When the numbers you entered equals the total campers on the A Form, the Totals column will no longer be highlighted. Thank you for providing this information to aid mission leadership in decision making!"]
[]
[]
[]
[null,null,"Caucasian","African American","Latino/\nHispanic","Asian/  Pacific Islander","Native American/\nNative Alaskan","Other/\nMulti Racial","TOTALS"]
[null,"# of Campers",{"$f":"COUNTIF('Area Registration'!P$8:P$43, \"Caucasian\")","v":0},{"$f":"COUNTIF('Area Registration'!P$8:P$43, \"African American\")","v":0},{"$f":"COUNTIF('Area Registration'!P$8:P$43, \"Latino/Hispanic\")","v":0},{"$f":"COUNTIF('Area Registration'!P$8:P$43, \"Asian/Pacific Islander\")","v":0},{"$f":"COUNTIF('Area Registration'!P$8:P$43, \"Native American/Native Alaskan\")","v":0},{"$f":"COUNTIF('Area Registration'!P$8:P$43, \"Other/Multi Racial\")","v":0},{"$f":"'Campers & Leaders'!D52+'Campers & Leaders'!E52","v":0}]
[null,"# of Leaders",{"$f":"COUNTIF('Area Registration'!P$44:P$53, \"Caucasian\")","v":0},{"$f":"COUNTIF('Area Registration'!P$44:P$53, \"African American\")","v":0},{"$f":"COUNTIF('Area Registration'!P$44:P$53, \"Latino/Hispanic\")","v":0},{"$f":"COUNTIF('Area Registration'!P$44:P$53, \"Asian/Pacific Islander\")","v":0},{"$f":"COUNTIF('Area Registration'!P$44:P$53, \"Native American/Native Alaskan\")","v":0},{"$f":"COUNTIF('Area Registration'!P$44:P$53, \"Other/Multi Racial\")","v":0},{"$f":"'Campers & Leaders'!M52+'Campers & Leaders'!N52","v":0}]
[]
[null,null,{"$f":"IF((SUM(C11:H11)=I11), \" \",\"Double Check Camper Numbers - Does Not Match A Form Total\")","v":" "}]
[null,null,{"$f":"IF((SUM(C12:H12)=I12), \" \",\"Double Check Leader Numbers - Does Not Match A Form Total\")","v":" "}]
[]
[null,"Do you have any campers with disabilities on your trip? How many?"]

{"sheet":"Male Cabin Roster","index":7,"n_rows":33,"n_cols":25,"rows_kept":33,"cut":false,"hidden":false,"merged":[[0,23,2,24],[4,6,4,16],[7,1,7,5],[7,7,7,11],[7,13,7,17],[5,2,5,17],[2,0,2,16],[1,1,1,13],[3,6,3,16],[3,3,3,4],[0,20,2,21]]}
[null,null,null,null,null,null,null,null,null,null,null,null,null,null,null,null,null,null,null,null,"Male Camper Name List\n(name will disappear when assigned to housing)",null,null,"Male Leader Name List"]
[null,"Adventures Baja 1st Choice Male Cabin Roster"]
[]
[null,null,"Area #",{"$f":"'Campers & Leaders'!L7","v":0},null,null,null,null,null,null,null,null,null,null,null,null,null,null,null,null,{"$f":"IF('Campers & Leaders'!D16=\"M\",(CONCATENATE('Campers & Leaders'!C16,\" \",'Campers & Leaders'!B16)),\"\")","v":""},{"$f":"IF('Campers & Leaders'!D34=\"M\",(CONCATENATE('Campers & Leaders'!C34,\" \",'Campers & Leaders'!B34)),\"\")","v":""},null,{"$f":"IF('Campers & Leaders'!M16=\"M\",(CONCATENATE('Campers & Leaders'!L16,\" \",'Campers & Leaders'!K16)),\"\")","v":""},{"$f":"IF('Campers & Leaders'!M34=\"M\",(CONCATENATE('Campers & Leaders'!L34,\" \",'Campers & Leaders'!K34)),\"\")","v":""}]
[null,null,"Area Name",{"$f":"'Campers & Leaders'!L8","v":0},null,null,null,null,null,null,null,null,null,null,null,null,null,null,null,null,{"$f":"IF('Campers & Leaders'!D17=\"M\",(CONCATENATE('Campers & Leaders'!C17,\" \",'Campers & Leaders'!B17)),\"\")","v":""},{"$f":"IF('Campers & Leaders'!D35=\"M\",(CONCATENATE('Campers & Leaders'!C35,\" \",'Campers & Leaders'!B35)),\"\")","v":""},null,{"$f":"IF('Campers & Leaders'!M17=\"M\",(CONCATENATE('Campers & Leaders'!L17,\" \",'Campers & Leaders'!K17)),\"\")","v":""},{"$f":"IF('Campers & Leaders'!M35=\"M\",(CONCATENATE('Campers & Leaders'!L35,\" \",'Campers & Leaders'!K35)),\"\")","v":""}]
[null,null,"**REMINDER: Cabins at Adventures Baja sleep 12 people TOTAL**",null,null,null,null,null,null,null,null,null,null,null,null,null,null,null,null,null,{"$f":"IF('Campers & Leaders'!D18=\"M\",(CONCATENATE('Campers & Leaders'!C18,\" \",'Campers & Leaders'!B18)),\"\")","v":""},{"$f":"IF('Campers & Leaders'!D36=\"M\",(CONCATENATE('Campers & Leaders'!C36,\" \",'Campers & Leaders'!B36)),\"\")","v":""},null,{"$f":"IF('Campers & Leaders'!M18=\"M\",(CONCATENATE('Campers & Leaders'!L18,\" \",'Campers & Leaders'!K18)),\"\")","v":""},{"$f":"IF('Campers & Leaders'!M36=\"M\",(CONCATENATE('Campers & Leaders'!L36,\" \",'Campers & Leaders'!K36)),\"\")","v":""}]
[null,null,null,null,null,null,null,null,null,null,null,null,null,null,null,null,null,null,null,null,{"$f":"IF('Campers & Leaders'!D19=\"M\",(CONCATENATE('Campers & Leaders'!C19,\" \",'Campers & Leaders'!B19)),\"\")","v":""},{"$f":"IF('Campers & Leaders'!D37=\"M\",(CONCATENATE('Campers & Leaders'!C37,\" \",'Campers & Leaders'!B37)),\"\")","v":""},null,{"$f":"IF('Campers & Leaders'!M19=\"M\",(CONCATENATE('Campers & Leaders'!L19,\" \",'Campers & Leaders'!K19)),\"\")","v":""},{"$f":"IF('Campers & Leaders'!M37=\"M\",(CONCATENATE('Campers & Leaders'!L37,\" \",'Campers & Leaders'!K37)),\"\")","v":""}]
[null,"Male Cabin One",null,null,null,null,null,"Male Cabin Two",null,null,null,null,null,"Male Cabin Three",null,null,null,null,null,null,{"$f":"IF('Campers & Leaders'!D20=\"M\",(CONCATENATE('Campers & Leaders'!C20,\" \",'Campers & Leaders'!B20)),\"\")","v":""},{"$f":"IF('Campers & Leaders'!D38=\"M\",(CONCATENATE('Campers & Leaders'!C38,\" \",'Campers & Leaders'!B38)),\"\")","v":""},null,{"$f":"IF('Campers & Leaders'!M20=\"M\",(CONCATENATE('Campers & Leaders'!L20,\" \",'Campers & Leaders'!K20)),\"\")","v":""},{"$f":"IF('Campers & Leaders'!M38=\"M\",(CONCATENATE('Campers & Leaders'!L38,\" \",'Campers & Leaders'!K38)),\"\")","v":""}]
[null,null,null,null,null,null,null,null,null,null,null,null,null,null,null,null,null,null,null,null,{"$f":"IF('Campers & Leaders'!D21=\"M\",(CONCATENATE('Campers & Leaders'!C21,\" \",'Campers & Leaders'!B21)),\"\")","v":""},{"$f":"IF('Campers & Leaders'!D39=\"M\",(CONCATENATE('Campers & Leaders'!C39,\" \",'Campers & Leaders'!B39)),\"\")","v":""},null,{"$f":"IF('Campers & Leaders'!M21=\"M\",(CONCATENATE('Campers & Leaders'!L21,\" \",'Campers & Leaders'!K21)),\"\")","v":""},{"$f":"IF('Campers & Leaders'!M39=\"M\",(CONCATENATE('Campers & Leaders'!L39,\" \",'Campers & Leaders'!K39)),\"\")","v":""}]
[null,null,"1. Leader's Name",null,null,null,null,null,"1. Leader's Name",null,null,null,null,null,"1. Leader's Name",null,null,null,null,null,{"$f":"IF('Campers & Leaders'!D22=\"M\",(CONCATENATE('Campers & Leaders'!C22,\" \",'Campers & Leaders'!B22)),\"\")","v":""},{"$f":"IF('Campers & Leaders'!D40=\"M\",(CONCATENATE('Campers & Leaders'!C40,\" \",'Campers & Leaders'!B40)),\"\")","v":""},null,{"$f":"IF('Campers & Leaders'!M22=\"M\",(CONCATENATE('Campers & Leaders'!L22,\" \",'Campers & Leaders'!K22)),\"\")","v":""},{"$f":"IF('Campers & Leaders'!M40=\"M\",(CONCATENATE('Campers & Leaders'!L40,\" \",'Campers & Leaders'!K40)),\"\")","v":""}]
[null,null,"2. Leader's Name",null,null,null,null,null,"2. Leader's Name",null,null,null,null,null,"2. Leader's Name",null,null,null,null,null,{"$f":"IF('Campers & Leaders'!D23=\"M\",(CONCATENATE('Campers & Leaders'!C23,\" \",'Campers & Leaders'!B23)),\"\")","v":""},{"$f":"IF('Campers & Leaders'!D41=\"M\",(CONCATENATE('Campers & Leaders'!C41,\" \",'Campers & Leaders'!B41)),\"\")","v":""},null,{"$f":"IF('Campers & Leaders'!M23=\"M\",(CONCATENATE('Campers & Leaders'!L23,\" \",'Campers & Leaders'!K23)),\"\")","v":""},{"$f":"IF('Campers & Leaders'!M41=\"M\",(CONCATENATE('Campers & Leaders'!L41,\" \",'Campers & Leaders'!K41)),\"\")","v":""}]
[null,null,"3. Leader's Name",null,null,null,null,null,"3. Leader's Name",null,null,null,null,null,"3. Leader's Name",null,null,null,null,null,{"$f":"IF('Campers & Leaders'!D24=\"M\",(CONCATENATE('Campers & Leaders'!C24,\" \",'Campers & Leaders'!B24)),\"\")","v":""},{"$f":"IF('Campers & Leaders'!D42=\"M\",(CONCATENATE('Campers & Leaders'!C42,\" \",'Campers & Leaders'!B42)),\"\")","v":""},null,{"$f":"IF('Campers & Leaders'!M24=\"M\",(CONCATENATE('Campers & Leaders'!L24,\" \",'Campers & Leaders'!K24)),\"\")","v":""},{"$f":"IF('Campers & Leaders'!M42=\"M\",(CONCATENATE('Campers & Leaders'!L42,\" \",'Campers & Leaders'!K42)),\"\")","v":""}]
[null,null,"4. Leader's Name",null,null,null,null,null,"4. Leader's Name",null,null,null,null,null,"4. Leader's Name",null,null,null,null,null,{"$f":"IF('Campers & Leaders'!D25=\"M\",(CONCATENATE('Campers & Leaders'!C25,\" \",'Campers & Leaders'!B25)),\"\")","v":""},{"$f":"IF('Campers & Leaders'!D43=\"M\",(CONCATENATE('Campers & Leaders'!C43,\" \",'Campers & Leaders'!B43)),\"\")","v":""},null,{"$f":"IF('Campers & Leaders'!M25=\"M\",(CONCATENATE('Campers & Leaders'!L25,\" \",'Campers & Leaders'!K25)),\"\")","v":""},{"$f":"IF('Campers & Leaders'!M43=\"M\",(CONCATENATE('Campers & Leaders'!L43,\" \",'Campers & Leaders'!K43)),\"\")","v":""}]
[null,null,"5. Leader's Name",null,null,null,null,null,"5. Leader's Name",null,null,null,null,null,"5. Leader's Name",null,null,null,null,null,{"$f":"IF('Campers & Leaders'!D26=\"M\",(CONCATENATE('Campers & Leaders'!C26,\" \",'Campers & Leaders'!B26)),\"\")","v":""},{"$f":"IF('Campers & Leaders'!D44=\"M\",(CONCATENATE('Campers & Leaders'!C44,\" \",'Campers & Leaders'!B44)),\"\")","v":""},null,{"$f":"IF('Campers & Leaders'!M26=\"M\",(CONCATENATE('Campers & Leaders'!L26,\" \",'Campers & Leaders'!K26)),\"\")","v":""},{"$f":"IF('Campers & Leaders'!M44=\"M\",(CONCATENATE('Campers & Leaders'!L44,\" \",'Campers & Leaders'!K44)),\"\")","v":""}]
[null,null,null,null,null,null,null,null,null,null,null,null,null,null,null,null,null,null,null,null,{"$f":"IF('Campers & Leaders'!D27=\"M\",(CONCATENATE('Campers & Leaders'!C27,\" \",'Campers & Leaders'!B27)),\"\")","v":""},{"$f":"IF('Campers & Leaders'!D45=\"M\",(CONCATENATE('Campers & Leaders'!C45,\" \",'Campers & Leaders'!B45)),\"\")","v":""},null,{"$f":"IF('Campers & Leaders'!M27=\"M\",(CONCATENATE('Campers & Leaders'!L27,\" \",'Campers & Leaders'!K27)),\"\")","v":""},{"$f":"IF('Campers & Leaders'!M45=\"M\",(CONCATENATE('Campers & Leaders'!L45,\" \",'Campers & Leaders'!K45)),\"\")","v":""}]
[null,null,"1. Camper's Name",null,null,null,null,null,"1. Camper's Name",null,null,null,null,null,"1. Camper's Name",null,null,null,null,null,{"$f":"IF('Campers & Leaders'!D28=\"M\",(CONCATENATE('Campers & Leaders'!C28,\" \",'Campers & Leaders'!B28)),\"\")","v":""},{"$f":"IF('Campers & Leaders'!D46=\"M\",(CONCATENATE('Campers & Leaders'!C46,\" \",'Campers & Leaders'!B46)),\"\")","v":""},null,{"$f":"IF('Campers & Leaders'!M28=\"M\",(CONCATENATE('Campers & Leaders'!L28,\" \",'Campers & Leaders'!K28)),\"\")","v":""},{"$f":"IF('Campers & Leaders'!M46=\"M\",(CONCATENATE('Campers & Leaders'!L46,\" \",'Campers & Leaders'!K46)),\"\")","v":""}]
[null,null,"2. Camper's Name",null,null,null,null,null,"2. Camper's Name",null,null,null,null,null,"2. Camper's Name",null,null,null,null,null,{"$f":"IF('Campers & Leaders'!D29=\"M\",(CONCATENATE('Campers & Leaders'!C29,\" \",'Campers & Leaders'!B29)),\"\")","v":""},{"$f":"IF('Campers & Leaders'!D47=\"M\",(CONCATENATE('Campers & Leaders'!C47,\" \",'Campers & Leaders'!B47)),\"\")","v":""},null,{"$f":"IF('Campers & Leaders'!M29=\"M\",(CONCATENATE('Campers & Leaders'!L29,\" \",'Campers & Leaders'!K29)),\"\")","v":""},{"$f":"IF('Campers & Leaders'!M47=\"M\",(CONCATENATE('Campers & Leaders'!L47,\" \",'Campers & Leaders'!K47)),\"\")","v":""}]
[null,null,"3. Camper's Name",null,null,null,null,null,"3. Camper's Name",null,null,null,null,null,"3. Camper's Name",null,null,null,null,null,{"$f":"IF('Campers & Leaders'!D30=\"M\",(CONCATENATE('Campers & Leaders'!C30,\" \",'Campers & Leaders'!B30)),\"\")","v":""},{"$f":"IF('Campers & Leaders'!D48=\"M\",(CONCATENATE('Campers & Leaders'!C48,\" \",'Campers & Leaders'!B48)),\"\")","v":""},null,{"$f":"IF('Campers & Leaders'!M30=\"M\",(CONCATENATE('Campers & Leaders'!L30,\" \",'Campers & Leaders'!K30)),\"\")","v":""},{"$f":"IF('Campers & Leaders'!M48=\"M\",(CONCATENATE('Campers & Leaders'!L48,\" \",'Campers & Leaders'!K48)),\"\")","v":""}]
[null,null,"4. Camper's Name",null,null,null,null,null,"4. Camper's Name",null,null,null,null,null,"4. Camper's Name",null,null,null,null,null,{"$f":"IF('Campers & Leaders'!D31=\"M\",(CONCATENATE('Campers & Leaders'!C31,\" \",'Campers & Leaders'!B31)),\"\")","v":""},{"$f":"IF('Campers & Leaders'!D49=\"M\",(CONCATENATE('Campers & Leaders'!C49,\" \",'Campers & Leaders'!B49)),\"\")","v":""},null,{"$f":"IF('Campers & Leaders'!M31=\"M\",(CONCATENATE('Campers & Leaders'!L31,\" \",'Campers & Leaders'!K31)),\"\")","v":""},{"$f":"IF('Campers & Leaders'!M49=\"M\",(CONCATENATE('Campers & Leaders'!L49,\" \",'Campers & Leaders'!K49)),\"\")","v":""}]
[null,null,"5. Camper's Name",null,null,null,null,null,"5. Camper's Name",null,null,null,null,null,"5. Camper's Name",null,null,null,null,null,{"$f":"IF('Campers & Leaders'!D32=\"M\",(CONCATENATE('Campers & Leaders'!C32,\" \",'Campers & Leaders'!B32)),\"\")","v":""},{"$f":"IF('Campers & Leaders'!D50=\"M\",(CONCATENATE('Campers & Leaders'!C50,\" \",'Campers & Leaders'!B50)),\"\")","v":""},null,{"$f":"IF('Campers & Leaders'!M32=\"M\",(CONCATENATE('Campers & Leaders'!L32,\" \",'Campers & Leaders'!K32)),\"\")","v":""},{"$f":"IF('Campers & Leaders'!M50=\"M\",(CONCATENATE('Campers & Leaders'!L50,\" \",'Campers & Leaders'!K50)),\"\")","v":""}]
[null,null,"6. Camper's Name",null,null,null,null,null,"6. Camper's Name",null,null,null,null,null,"6. Camper's Name",null,null,null,null,null,{"$f":"IF('Campers & Leaders'!D33=\"M\",(CONCATENATE('Campers & Leaders'!C33,\" \",'Campers & Leaders'!B33)),\"\")","v":""},{"$f":"IF('Campers & Leaders'!D51=\"M\",(CONCATENATE('Campers & Leaders'!C51,\" \",'Campers & Leaders'!B51)),\"\")","v":""},null,{"$f":"IF('Campers & Leaders'!M33=\"M\",(CONCATENATE('Campers & Leaders'!L33,\" \",'Campers & Leaders'!K33)),\"\")","v":""},{"$f":"IF('Campers & Leaders'!M51=\"M\",(CONCATENATE('Campers & Leaders'!L51,\" \",'Campers & Leaders'!K51)),\"\")","v":""}]
[null,null,"7. Camper's Name",null,null,null,null,null,"7. Camper's Name",null,null,null,null,null,"7. Camper's Name"]
[null,null,"8. Camper's Name",null,null,null,null,null,"8. Camper's Name",null,null,null,null,null,"8. Camper's Name"]
[null,null,"9. Camper's Name",null,null,null,null,null,"9. Camper's Name",null,null,null,null,null,"9. Camper's Name"]
[null,null,"10. Camper's Name",null,null,null,null,null,"10. Camper's Name",null,null,null,null,null,"10. Camper's Name"]
[null,null,"11. Camper's Name",null,null,null,null,null,"11. Camper's Name",null,null,null,null,null,"11. Camper's Name"]
[null,null,"12. Camper's Name",null,null,null,null,null,"12. Camper's Name",null,null,null,null,null,"12. Camper's Name"]
[null,null,"13. Camper's Name",null,null,null,null,null,"13. Camper's Name",null,null,null,null,null,"13. Camper's Name"]
[null,null,"14. Camper's Name",null,null,null,null,null,"14. Camper's Name",null,null,null,null,null,"14. Camper's Name"]
[null,null,"15. Camper's Name",null,null,null,null,null,"15. Camper's Name",null,null,null,null,null,"15. Camper's Name"]
[null,null,"16. Camper's Name",null,null,null,null,null,"16. Camper's Name",null,null,null,null,null,"16. Camper's Name"]
[null,null,"17. Camper's Name",null,null,null,null,null,"17. Camper's Name",null,null,null,null,null,"17. Camper's Name"]
[null,null,"18. Camper's Name",null,null,null,null,null,"18. Camper's Name",null,null,null,null,null,"18. Camper's Name"]

{"sheet":"Female Cabin Roster","index":8,"n_rows":36,"n_cols":25,"rows_kept":36,"cut":false,"hidden":false,"merged":[[0,20,2,21],[0,23,2,24],[7,13,7,17],[2,0,2,16],[7,1,7,5],[7,7,7,11],[1,1,1,13],[3,5,3,16],[4,5,4,16],[3,3,3,4],[5,2,5,17]]}
[null,null,null,null,null,null,null,null,null,null,null,null,null,null,null,null,null,null,null,null,"Female Camper Name List\n(name will disappear when assigned to housing)",null,null,"Female Leader Name List"]
[null,"Adventures Baja 1st Choice Female Cabin Roster"]
[]
[null,null,"Area #",{"$f":"'Campers & Leaders'!L7","v":0},null,null,null,null,null,null,null,null,null,null,null,null,null,null,null,null,{"$f":"IF('Campers & Leaders'!E16=\"F\",(CONCATENATE('Campers & Leaders'!C16,\" \",'Campers & Leaders'!B16)),\"\")","v":""},{"$f":"IF('Campers & Leaders'!E34=\"F\",(CONCATENATE('Campers & Leaders'!C34,\" \",'Campers & Leaders'!B34)),\"\")","v":""},null,{"$f":"IF('Campers & Leaders'!N16=\"F\",(CONCATENATE('Campers & Leaders'!L16,\" \",'Campers & Leaders'!K16)),\"\")","v":""},{"$f":"IF('Campers & Leaders'!O16=\"F\",(CONCATENATE('Campers & Leaders'!M16,\" \",'Campers & Leaders'!L16)),\"\")","v":""}]
[null,null,"Area Name",{"$f":"'Campers & Leaders'!L8","v":0},null,null,null,null,null,null,null,null,null,null,null,null,null,null,null,null,{"$f":"IF('Campers & Leaders'!E17=\"F\",(CONCATENATE('Campers & Leaders'!C17,\" \",'Campers & Leaders'!B17)),\"\")","v":""},{"$f":"IF('Campers & Leaders'!E35=\"F\",(CONCATENATE('Campers & Leaders'!C35,\" \",'Campers & Leaders'!B35)),\"\")","v":""},null,{"$f":"IF('Campers & Leaders'!N17=\"F\",(CONCATENATE('Campers & Leaders'!L17,\" \",'Campers & Leaders'!K17)),\"\")","v":""},{"$f":"IF('Campers & Leaders'!O17=\"F\",(CONCATENATE('Campers & Leaders'!M17,\" \",'Campers & Leaders'!L17)),\"\")","v":""}]
[null,null,"**REMINDER: Cabins at Adventures Baja sleep 12 people TOTAL**",null,null,null,null,null,null,null,null,null,null,null,null,null,null,null,null,null,{"$f":"IF('Campers & Leaders'!E18=\"F\",(CONCATENATE('Campers & Leaders'!C18,\" \",'Campers & Leaders'!B18)),\"\")","v":""},{"$f":"IF('Campers & Leaders'!E36=\"F\",(CONCATENATE('Campers & Leaders'!C36,\" \",'Campers & Leaders'!B36)),\"\")","v":""},null,{"$f":"IF('Campers & Leaders'!N18=\"F\",(CONCATENATE('Campers & Leaders'!L18,\" \",'Campers & Leaders'!K18)),\"\")","v":""},{"$f":"IF('Campers & Leaders'!O18=\"F\",(CONCATENATE('Campers & Leaders'!M18,\" \",'Campers & Leaders'!L18)),\"\")","v":""}]
[null,null,null,null,null,null,null,null,null,null,null,null,null,null,null,null,null,null,null,null,{"$f":"IF('Campers & Leaders'!E19=\"F\",(CONCATENATE('Campers & Leaders'!C19,\" \",'Campers & Leaders'!B19)),\"\")","v":""},{"$f":"IF('Campers & Leaders'!E37=\"F\",(CONCATENATE('Campers & Leaders'!C37,\" \",'Campers & Leaders'!B37)),\"\")","v":""},null,{"$f":"IF('Campers & Leaders'!N19=\"F\",(CONCATENATE('Campers & Leaders'!L19,\" \",'Campers & Leaders'!K19)),\"\")","v":""},{"$f":"IF('Campers & Leaders'!O19=\"F\",(CONCATENATE('Campers & Leaders'!M19,\" \",'Campers & Leaders'!L19)),\"\")","v":""}]
[null,"Female Cabin One",null,null,null,null,null,"Female Cabin Two",null,null,null,null,null,"Female Cabin Three",null,null,null,null,null,null,{"$f":"IF('Campers & Leaders'!E20=\"F\",(CONCATENATE('Campers & Leaders'!C20,\" \",'Campers & Leaders'!B20)),\"\")","v":""},{"$f":"IF('Campers & Leaders'!E38=\"F\",(CONCATENATE('Campers & Leaders'!C38,\" \",'Campers & Leaders'!B38)),\"\")","v":""},null,{"$f":"IF('Campers & Leaders'!N20=\"F\",(CONCATENATE('Campers & Leaders'!L20,\" \",'Campers & Leaders'!K20)),\"\")","v":""},{"$f":"IF('Campers & Leaders'!O20=\"F\",(CONCATENATE('Campers & Leaders'!M20,\" \",'Campers & Leaders'!L20)),\"\")","v":""}]
[null,null,null,null,null,null,null,null,null,null,null,null,null,null,null,null,null,null,null,null,{"$f":"IF('Campers & Leaders'!E21=\"F\",(CONCATENATE('Campers & Leaders'!C21,\" \",'Campers & Leaders'!B21)),\"\")","v":""},{"$f":"IF('Campers & Leaders'!E39=\"F\",(CONCATENATE('Campers & Leaders'!C39,\" \",'Campers & Leaders'!B39)),\"\")","v":""},null,{"$f":"IF('Campers & Leaders'!N21=\"F\",(CONCATENATE('Campers & Leaders'!L21,\" \",'Campers & Leaders'!K21)),\"\")","v":""},{"$f":"IF('Campers & Leaders'!O21=\"F\",(CONCATENATE('Campers & Leaders'!M21,\" \",'Campers & Leaders'!L21)),\"\")","v":""}]
[null,null,"1. Leader's Name",null,null,null,null,null,"1. Leader's Name",null,null,null,null,null,"1. Leader's Name",null,null,null,null,null,{"$f":"IF('Campers & Leaders'!E22=\"F\",(CONCATENATE('Campers & Leaders'!C22,\" \",'Campers & Leaders'!B22)),\"\")","v":""},{"$f":"IF('Campers & Leaders'!E40=\"F\",(CONCATENATE('Campers & Leaders'!C40,\" \",'Campers & Leaders'!B40)),\"\")","v":""},null,{"$f":"IF('Campers & Leaders'!N22=\"F\",(CONCATENATE('Campers & Leaders'!L22,\" \",'Campers & Leaders'!K22)),\"\")","v":""},{"$f":"IF('Campers & Leaders'!O22=\"F\",(CONCATENATE('Campers & Leaders'!M22,\" \",'Campers & Leaders'!L22)),\"\")","v":""}]
[null,null,"2. Leader's Name",null,null,null,null,null,"2. Leader's Name",null,null,null,null,null,"2. Leader's Name",null,null,null,null,null,{"$f":"IF('Campers & Leaders'!E23=\"F\",(CONCATENATE('Campers & Leaders'!C23,\" \",'Campers & Leaders'!B23)),\"\")","v":""},{"$f":"IF('Campers & Leaders'!E41=\"F\",(CONCATENATE('Campers & Leaders'!C41,\" \",'Campers & Leaders'!B41)),\"\")","v":""},null,{"$f":"IF('Campers & Leaders'!N23=\"F\",(CONCATENATE('Campers & Leaders'!L23,\" \",'Campers & Leaders'!K23)),\"\")","v":""},{"$f":"IF('Campers & Leaders'!O23=\"F\",(CONCATENATE('Campers & Leaders'!M23,\" \",'Campers & Leaders'!L23)),\"\")","v":""}]
[null,null,"3. Leader's Name",null,null,null,null,null,"3. Leader's Name",null,null,null,null,null,"3. Leader's Name",null,null,null,null,null,{"$f":"IF('Campers & Leaders'!E24=\"F\",(CONCATENATE('Campers & Leaders'!C24,\" \",'Campers & Leaders'!B24)),\"\")","v":""},{"$f":"IF('Campers & Leaders'!E42=\"F\",(CONCATENATE('Campers & Leaders'!C42,\" \",'Campers & Leaders'!B42)),\"\")","v":""},null,{"$f":"IF('Campers & Leaders'!N24=\"F\",(CONCATENATE('Campers & Leaders'!L24,\" \",'Campers & Leaders'!K24)),\"\")","v":""},{"$f":"IF('Campers & Leaders'!O24=\"F\",(CONCATENATE('Campers & Leaders'!M24,\" \",'Campers & Leaders'!L24)),\"\")","v":""}]
[null,null,"4. Leader's Name",null,null,null,null,null,"4. Leader's Name",null,null,null,null,null,"4. Leader's Name",null,null,null,null,null,{"$f":"IF('Campers & Leaders'!E25=\"F\",(CONCATENATE('Campers & Leaders'!C25,\" \",'Campers & Leaders'!B25)),\"\")","v":""},{"$f":"IF('Campers & Leaders'!E43=\"F\",(CONCATENATE('Campers & Leaders'!C43,\" \",'Campers & Leaders'!B43)),\"\")","v":""},null,{"$f":"IF('Campers & Leaders'!N25=\"F\",(CONCATENATE('Campers & Leaders'!L25,\" \",'Campers & Leaders'!K25)),\"\")","v":""},{"$f":"IF('Campers & Leaders'!O25=\"F\",(CONCATENATE('Campers & Leaders'!M25,\" \",'Campers & Leaders'!L25)),\"\")","v":""}]
[null,null,"5. Leader's Name",null,null,null,null,null,"5. Leader's Name",null,null,null,null,null,"5. Leader's Name",null,null,null,null,null,{"$f":"IF('Campers & Leaders'!E26=\"F\",(CONCATENATE('Campers & Leaders'!C26,\" \",'Campers & Leaders'!B26)),\"\")","v":""},{"$f":"IF('Campers & Leaders'!E44=\"F\",(CONCATENATE('Campers & Leaders'!C44,\" \",'Campers & Leaders'!B44)),\"\")","v":""},null,{"$f":"IF('Campers & Leaders'!N26=\"F\",(CONCATENATE('Campers & Leaders'!L26,\" \",'Campers & Leaders'!K26)),\"\")","v":""},{"$f":"IF('Campers & Leaders'!O26=\"F\",(CONCATENATE('Campers & Leaders'!M26,\" \",'Campers & Leaders'!L26)),\"\")","v":""}]
[null,null,null,null,null,null,null,null,null,null,null,null,null,null,null,null,null,null,null,null,{"$f":"IF('Campers & Leaders'!E27=\"F\",(CONCATENATE('Campers & Leaders'!C27,\" \",'Campers & Leaders'!B27)),\"\")","v":""},{"$f":"IF('Campers & Leaders'!E45=\"F\",(CONCATENATE('Campers & Leaders'!C45,\" \",'Campers & Leaders'!B45)),\"\")","v":""},null,{"$f":"IF('Campers & Leaders'!N27=\"F\",(CONCATENATE('Campers & Leaders'!L27,\" \",'Campers & Leaders'!K27)),\"\")","v":""},{"$f":"IF('Campers & Leaders'!O27=\"F\",(CONCATENATE('Campers & Leaders'!M27,\" \",'Campers & Leaders'!L27)),\"\")","v":""}]
[null,null,"1. Camper's Name",null,null,null,null,null,"1. Camper's Name",null,null,null,null,null,"1. Camper's Name",null,null,null,null,null,{"$f":"IF('Campers & Leaders'!E28=\"F\",(CONCATENATE('Campers & Leaders'!C28,\" \",'Campers & Leaders'!B28)),\"\")","v":""},{"$f":"IF('Campers & Leaders'!E46=\"F\",(CONCATENATE('Campers & Leaders'!C46,\" \",'Campers & Leaders'!B46)),\"\")","v":""},null,{"$f":"IF('Campers & Leaders'!N28=\"F\",(CONCATENATE('Campers & Leaders'!L28,\" \",'Campers & Leaders'!K28)),\"\")","v":""},{"$f":"IF('Campers & Leaders'!O28=\"F\",(CONCATENATE('Campers & Leaders'!M28,\" \",'Campers & Leaders'!L28)),\"\")","v":""}]
[null,null,"2. Camper's Name",null,null,null,null,null,"2. Camper's Name",null,null,null,null,null,"2. Camper's Name",null,null,null,null,null,{"$f":"IF('Campers & Leaders'!E29=\"F\",(CONCATENATE('Campers & Leaders'!C29,\" \",'Campers & Leaders'!B29)),\"\")","v":""},{"$f":"IF('Campers & Leaders'!E47=\"F\",(CONCATENATE('Campers & Leaders'!C47,\" \",'Campers & Leaders'!B47)),\"\")","v":""},null,{"$f":"IF('Campers & Leaders'!N29=\"F\",(CONCATENATE('Campers & Leaders'!L29,\" \",'Campers & Leaders'!K29)),\"\")","v":""},{"$f":"IF('Campers & Leaders'!O29=\"F\",(CONCATENATE('Campers & Leaders'!M29,\" \",'Campers & Leaders'!L29)),\"\")","v":""}]
[null,null,"3. Camper's Name",null,null,null,null,null,"3. Camper's Name",null,null,null,null,null,"3. Camper's Name",null,null,null,null,null,{"$f":"IF('Campers & Leaders'!E30=\"F\",(CONCATENATE('Campers & Leaders'!C30,\" \",'Campers & Leaders'!B30)),\"\")","v":""},{"$f":"IF('Campers & Leaders'!E48=\"F\",(CONCATENATE('Campers & Leaders'!C48,\" \",'Campers & Leaders'!B48)),\"\")","v":""},null,{"$f":"IF('Campers & Leaders'!N30=\"F\",(CONCATENATE('Campers & Leaders'!L30,\" \",'Campers & Leaders'!K30)),\"\")","v":""},{"$f":"IF('Campers & Leaders'!O30=\"F\",(CONCATENATE('Campers & Leaders'!M30,\" \",'Campers & Leaders'!L30)),\"\")","v":""}]
[null,null,"4. Camper's Name",null,null,null,null,null,"4. Camper's Name",null,null,null,null,null,"4. Camper's Name",null,null,null,null,null,{"$f":"IF('Campers & Leaders'!E31=\"F\",(CONCATENATE('Campers & Leaders'!C31,\" \",'Campers & Leaders'!B31)),\"\")","v":""},{"$f":"IF('Campers & Leaders'!E49=\"F\",(CONCATENATE('Campers & Leaders'!C49,\" \",'Campers & Leaders'!B49)),\"\")","v":""},null,{"$f":"IF('Campers & Leaders'!N31=\"F\",(CONCATENATE('Campers & Leaders'!L31,\" \",'Campers & Leaders'!K31)),\"\")","v":""},{"$f":"IF('Campers & Leaders'!O31=\"F\",(CONCATENATE('Campers & Leaders'!M31,\" \",'Campers & Leaders'!L31)),\"\")","v":""}]
[null,null,"5. Camper's Name",null,null,null,null,null,"5. Camper's Name",null,null,null,null,null,"5. Camper's Name",null,null,null,null,null,{"$f":"IF('Campers & Leaders'!E32=\"F\",(CONCATENATE('Campers & Leaders'!C32,\" \",'Campers & Leaders'!B32)),\"\")","v":""},{"$f":"IF('Campers & Leaders'!E50=\"F\",(CONCATENATE('Campers & Leaders'!C50,\" \",'Campers & Leaders'!B50)),\"\")","v":""},null,{"$f":"IF('Campers & Leaders'!N32=\"F\",(CONCATENATE('Campers & Leaders'!L32,\" \",'Campers & Leaders'!K32)),\"\")","v":""},{"$f":"IF('Campers & Leaders'!O32=\"F\",(CONCATENATE('Campers & Leaders'!M32,\" \",'Campers & Leaders'!L32)),\"\")","v":""}]
[null,null,"6. Camper's Name",null,null,null,null,null,"6. Camper's Name",null,null,null,null,null,"6. Camper's Name",null,null,null,null,null,{"$f":"IF('Campers & Leaders'!E33=\"F\",(CONCATENATE('Campers & Leaders'!C33,\" \",'Campers & Leaders'!B33)),\"\")","v":""},{"$f":"IF('Campers & Leaders'!E51=\"F\",(CONCATENATE('Campers & Leaders'!C51,\" \",'Campers & Leaders'!B51)),\"\")","v":""},null,{"$f":"IF('Campers & Leaders'!N33=\"F\",(CONCATENATE('Campers & Leaders'!L33,\" \",'Campers & Leaders'!K33)),\"\")","v":""},{"$f":"IF('Campers & Leaders'!O33=\"F\",(CONCATENATE('Campers & Leaders'!M33,\" \",'Campers & Leaders'!L33)),\"\")","v":""}]
[null,null,"7. Camper's Name",null,null,null,null,null,"7. Camper's Name",null,null,null,null,null,"7. Camper's Name"]
[null,null,"8. Camper's Name",null,null,null,null,null,"8. Camper's Name",null,null,null,null,null,"8. Camper's Name",null,null,null,null,null,null,{"$f":"IF('Campers & Leaders'!N35<>0,(CONCATENATE('Campers & Leaders'!L35,\" \",'Campers & Leaders'!K35)),\"\")","v":""}]
[null,null,"9. Camper's Name",null,null,null,null,null,"9. Camper's Name",null,null,null,null,null,"9. Camper's Name",null,null,null,null,null,null,{"$f":"IF('Campers & Leaders'!N36<>0,(CONCATENATE('Campers & Leaders'!L36,\" \",'Campers & Leaders'!K36)),\"\")","v":""}]
[null,null,"10. Camper's Name",null,null,null,null,null,"10. Camper's Name",null,null,null,null,null,"10. Camper's Name",null,null,null,null,null,null,{"$f":"IF('Campers & Leaders'!N37<>0,(CONCATENATE('Campers & Leaders'!L37,\" \",'Campers & Leaders'!K37)),\"\")","v":""}]
[null,null,"11. Camper's Name",null,null,null,null,null,"11. Camper's Name",null,null,null,null,null,"11. Camper's Name",null,null,null,null,null,null,{"$f":"IF('Campers & Leaders'!N38<>0,(CONCATENATE('Campers & Leaders'!L38,\" \",'Campers & Leaders'!K38)),\"\")","v":""}]
[null,null,"12. Camper's Name",null,null,null,null,null,"12. Camper's Name",null,null,null,null,null,"12. Camper's Name",null,null,null,null,null,null,{"$f":"IF('Campers & Leaders'!N39<>0,(CONCATENATE('Campers & Leaders'!L39,\" \",'Campers & Leaders'!K39)),\"\")","v":""}]
[null,null,"13. Camper's Name",null,null,null,null,null,"13. Camper's Name",null,null,null,null,null,"13. Camper's Name",null,null,null,null,null,null,{"$f":"IF('Campers & Leaders'!N40<>0,(CONCATENATE('Campers & Leaders'!L40,\" \",'Campers & Leaders'!K40)),\"\")","v":""}]
[null,null,"14. Camper's Name",null,null,null,null,null,"14. Camper's Name",null,null,null,null,null,"14. Camper's Name",null,null,null,null,null,null,{"$f":"IF('Campers & Leaders'!N41<>0,(CONCATENATE('Campers & Leaders'!L41,\" \",'Campers & Leaders'!K41)),\"\")","v":""}]
[null,null,"15. Camper's Name",null,null,null,null,null,"15. Camper's Name",null,null,null,null,null,"15. Camper's Name",null,null,null,null,null,null,{"$f":"IF('Campers & Leaders'!N42<>0,(CONCATENATE('Campers & Leaders'!L42,\" \",'Campers & Leaders'!K42)),\"\")","v":""}]
[null,null,"16. Camper's Name",null,null,null,null,null,"16. Camper's Name",null,null,null,null,null,"16. Camper's Name",null,null,null,null,null,null,{"$f":"IF('Campers & Leaders'!N43<>0,(CONCATENATE('Campers & Leaders'!L43,\" \",'Campers & Leaders'!K43)),\"\")","v":""}]
[null,null,"17. Camper's Name",null,null,null,null,null,"17. Camper's Name",null,null,null,null,null,"17. Camper's Name",null,null,null,null,null,null,{"$f":"IF('Campers & Leaders'!N44<>0,(CONCATENATE('Campers & Leaders'!L44,\" \",'Campers & Leaders'!K44)),\"\")","v":""}]
[null,null,"18. Camper's Name",null,null,null,null,null,"18. Camper's Name",null,null,null,null,null,"18. Camper's Name",null,null,null,null,null,null,{"$f":"IF('Campers & Leaders'!N45<>0,(CONCATENATE('Campers & Leaders'!L45,\" \",'Campers & Leaders'!K45)),\"\")","v":""}]
[null,null,null,null,null,null,null,null,null,null,null,null,null,null,null,null,null,null,null,null,null,{"$f":"IF('Campers & Leaders'!N46<>0,(CONCATENATE('Campers & Leaders'!L46,\" \",'Campers & Leaders'!K46)),\"\")","v":""}]
[null,null,null,null,null,null,null,null,null,null,null,null,null,null,null,null,null,null,null,null,null,{"$f":"IF('Campers & Leaders'!N47<>0,(CONCATENATE('Campers & Leaders'!L47,\" \",'Campers & Leaders'!K47)),\"\")","v":""}]
[null,null,null,null,null,null,null,null,null,null,null,null,null,null,null,null,null,null,null,null,null,{"$f":"IF('Campers & Leaders'!N48<>0,(CONCATENATE('Campers & Leaders'!L48,\" \",'Campers & Leaders'!K48)),\"\")","v":""}]

{"sheet":"Housing Request","index":9,"n_rows":32,"n_cols":14,"rows_kept":32,"cut":false,"hidden":false,"merged":[[0,4,0,14],[1,4,1,14],[24,2,24,3],[4,1,4,2],[6,1,6,2],[8,1,8,2],[22,8,22,9],[17,1,17,13],[8,11,8,12],[8,4,8,6],[6,11,6,12],[6,7,6,8],[21,8,21,9],[15,1,15,13],[10,5,10,6],[23,2,23,3],[30,2,30,3],[31,2,31,3],[31,8,31,9],[28,2,28,3],[28,8,28,9],[29,2,29,3],[29,8,29,9],[21,2,21,3],[22,2,22,3],[3,4,3,14],[2,4,2,14],[24,8,24,9],[11,5,11,6],[12,5,12,6]]}
[null,null,null,null,"HOUSING REQUEST FORM"]
[]
[]
[]
[null,"Area Number",null,null,{"$f":"'Area Registration'!I4","v":0},null,null,null,null,null,"Area Name",{"$f":"'Area Registration'!$I$5","v":0}]
[]
[null,"Camp Dates",null,null,{"$f":"'Area Registration'!$C$5","v":"7/5/2019 - 7/10/19"},null,null,{"$f":"'Area Registration'!$F$5","v":"00:00:00"},null,"Preferred Area Name"]
[]
[null,"Trip Leader",null,null,null,null,null,null,null,null,"Phone Number"]
[]
[null,"Number of Male Campers",null,null,null,{"$f":"'Campers & Leaders'!D52","v":0},null,null,"Number of Female Campers",null,null,{"$f":"'Campers & Leaders'!E52","v":0}]
[null,"Number of Male Leaders",null,null,null,{"$f":"'Campers & Leaders'!M52","v":0},null,null,"Number of Female Leaders",null,null,{"$f":"'Campers & Leaders'!N52","v":0}]
[null,"Total Number of Males",null,null,null,{"$f":"F11+F12","v":0},null,null,"Total Number of Females",null,null,{"$f":"L11+L12","v":0}]
[]
[null,"Do you have any campers with disabilities? Explain."]
[]
[null,"Any other items that Head Leaders should be aware of?"]
[]
[]
[null,"Male Housing Requests",null,null,null,"(Reminder: Cabins sleep 12 people MAX) "]
[]
[null,"Cabin Total",{"$f":"COUNTA('Male Cabin Roster'!E10:E33)","v":0},null,null,"Leader Names",null,null,{"$f":"'Male Cabin Roster'!$E10","v":0},null,{"$f":"'Male Cabin Roster'!E11","v":0},{"$f":"'Male Cabin Roster'!E12","v":0},{"$f":"'Male Cabin Roster'!E13","v":0},{"$f":"'Male Cabin Roster'!E14","v":0}]
[null,"Cabin Total",{"$f":"COUNTA('Male Cabin Roster'!K10:K33)","v":0},null,null,"Leader Names",null,null,{"$f":"'Male Cabin Roster'!K10","v":0},null,{"$f":"'Male Cabin Roster'!K11","v":0},{"$f":"'Male Cabin Roster'!K12","v":0},{"$f":"'Male Cabin Roster'!K13","v":0},{"$f":"'Male Cabin Roster'!K14","v":0}]
[null,"Cabin Total",{"$f":"COUNTA('Male Cabin Roster'!Q9:Q32)","v":0},null,null,"Leader Names"]
[null,null,null,null,null,null,null,null,{"$f":"'Male Cabin Roster'!Q10","v":0},null,{"$f":"'Male Cabin Roster'!Q11","v":0},{"$f":"'Male Cabin Roster'!Q12","v":0},{"$f":"'Male Cabin Roster'!Q13","v":0},{"$f":"'Male Cabin Roster'!Q14","v":0}]
[]
[null,"Female Housing Requests",null,null,null,"(Reminder: Cabins sleep 12 people MAX) "]
[]
[null,"Cabin Total",{"$f":"COUNTA('Male Cabin Roster'!E17:E40)","v":0},null,null,"Leader Names",null,null,{"$f":"'Male Cabin Roster'!$E17","v":0},null,{"$f":"'Male Cabin Roster'!E18","v":0},{"$f":"'Male Cabin Roster'!E19","v":0},{"$f":"'Male Cabin Roster'!E20","v":0},{"$f":"'Male Cabin Roster'!E21","v":0}]
[null,"Cabin Total",{"$f":"COUNTA('Male Cabin Roster'!K17:K40)","v":0},null,null,"Leader Names",null,null,{"$f":"'Male Cabin Roster'!K17","v":0},null,{"$f":"'Male Cabin Roster'!K18","v":0},{"$f":"'Male Cabin Roster'!K19","v":0},{"$f":"'Male Cabin Roster'!K20","v":0},{"$f":"'Male Cabin Roster'!K21","v":0}]
[null,"Cabin Total",{"$f":"COUNTA('Male Cabin Roster'!Q16:Q39)","v":0},null,null,"Leader Names"]
[null,null,null,null,null,null,null,null,{"$f":"'Male Cabin Roster'!Q17","v":0},null,{"$f":"'Male Cabin Roster'!Q18","v":0},{"$f":"'Male Cabin Roster'!Q19","v":0},{"$f":"'Male Cabin Roster'!Q20","v":0},{"$f":"'Male Cabin Roster'!Q21","v":0}]

{"sheet":"Hidden Sheet","index":10,"n_rows":163,"n_cols":13,"rows_kept":163,"cut":false,"hidden":true,"merged":[]}
[null,"Female Leader Total From A Form",{"$f":"Financials!#REF!","v":{"$error":"#REF!"}},null,"Female Camper Names","Male Camper Names","Female Leader Names","Male Leader Names",null,"Actual Female Camper Name","Actual Male Camper Names","Actual Female Leader Names","Actual Male Leader Names"]
[null,"Female Camper Total From A Form",{"$f":"'Campers Page 2'!N57","v":0}]
[null,null,null,null,{"$f":"IF('Campers & Leaders'!E16=\"F\",(CONCATENATE('Campers & Leaders'!C16,\" \",'Campers & Leaders'!B16)),\"\")","v":""},{"$f":"IF('Campers & Leaders'!D16=\"M\",(CONCATENATE('Campers & Leaders'!C16,\" \",'Campers & Leaders'!B16)),\"\")","v":""},{"$f":"IF('Campers & Leaders'!N16=\"F\",(CONCATENATE('Campers & Leaders'!L16,\" \",'Campers & Leaders'!K16)),\"\")","v":""},{"$f":"IF('Campers & Leaders'!M16=\"M\",(CONCATENATE('Campers & Leaders'!L16,\" \",'Campers & Leaders'!K16)),\"\")","v":""},null,{"$f":"IFERROR(INDEX($E$2:$E$162,SMALL(IF(($E$2:$E$162)<>\"\",ROW($E$1:$E$161),\"\"),ROW(J1))),\"\")","v":""},{"$f":"IFERROR(INDEX($F$2:$F$162,SMALL(IF(($F$2:$F$162)<>\"\",ROW($F$1:$F$161),\"\"),ROW(K1))),\"\")","v":""},{"$f":"IFERROR(INDEX($G$2:$G$32,SMALL(IF(($G$2:$G$32)<>\"\",ROW($G$1:$G$31),\"\"),ROW(L1))),\"\")","v":""},{"$f":"IFERROR(INDEX($H$2:$H$32,SMALL(IF(($H$2:$H$32)<>\"\",ROW($H$1:$H$31),\"\"),ROW(M1))),\"\")","v":""}]
[null,"Female Leader Total From Cabin Roster",{"$f":"COUNTA('Female Cabin Roster'!E10:E14,'Female Cabin Roster'!K10:K14,'Female Cabin Roster'!Q10:Q14,'Female Cabin Roster'!#REF!,'Female Cabin Roster'!#REF!,'Female Cabin Roster'!#REF!,'Female Cabin Roster'!#REF!,'Female Cabin Roster'!#REF!,'Female Cabin Roster'!#REF!,'Female Cabin Roster'!#REF!,'Female Cabin Roster'!#REF!,'Female Cabin Roster'!#REF!)","v":9},null,{"$f":"IF('Campers & Leaders'!E17=\"F\",(CONCATENATE('Campers & Leaders'!C17,\" \",'Campers & Leaders'!B17)),\"\")","v":""},{"$f":"IF('Campers & Leaders'!D17=\"M\",(CONCATENATE('Campers & Leaders'!C17,\" \",'Campers & Leaders'!B17)),\"\")","v":""},{"$f":"IF('Campers & Leaders'!N17=\"F\",(CONCATENATE('Campers & Leaders'!L17,\" \",'Campers & Leaders'!K17)),\"\")","v":""},{"$f":"IF('Campers & Leaders'!M17=\"M\",(CONCATENATE('Campers & Leaders'!L17,\" \",'Campers & Leaders'!K17)),\"\")","v":""},null,{"$f":"IFERROR(INDEX($E$2:$E$162,SMALL(IF(($E$2:$E$162)<>\"\",ROW($E$1:$E$161),\"\"),ROW(J2))),\"\")","v":""},{"$f":"IFERROR(INDEX($F$2:$F$162,SMALL(IF(($F$2:$F$162)<>\"\",ROW($F$1:$F$161),\"\"),ROW(K2))),\"\")","v":""},{"$f":"IFERROR(INDEX($G$2:$G$32,SMALL(IF(($G$2:$G$32)<>\"\",ROW($G$1:$G$31),\"\"),ROW(L2))),\"\")","v":""},{"$f":"IFERROR(INDEX($H$2:$H$32,SMALL(IF(($H$2:$H$32)<>\"\",ROW($H$1:$H$31),\"\"),ROW(M2))),\"\")","v":""}]
[null,"Female Camper Total From Cabin Roster",{"$f":"COUNTA('Female Cabin Roster'!E16:E33,'Female Cabin Roster'!K16:K33,'Female Cabin Roster'!Q16:Q33,'Female Cabin Roster'!#REF!,'Female Cabin Roster'!#REF!,'Female Cabin Roster'!#REF!,'Female Cabin Roster'!#REF!,'Female Cabin Roster'!#REF!,'Female Cabin Roster'!#REF!,'Female Cabin Roster'!#REF!,'Female Cabin Roster'!#REF!,'Female Cabin Roster'!#REF!)","v":9},null,{"$f":"IF('Campers & Leaders'!E18=\"F\",(CONCATENATE('Campers & Leaders'!C18,\" \",'Campers & Leaders'!B18)),\"\")","v":""},{"$f":"IF('Campers & Leaders'!D18=\"M\",(CONCATENATE('Campers & Leaders'!C18,\" \",'Campers & Leaders'!B18)),\"\")","v":""},{"$f":"IF('Campers & Leaders'!N18=\"F\",(CONCATENATE('Campers & Leaders'!L18,\" \",'Campers & Leaders'!K18)),\"\")","v":""},{"$f":"IF('Campers & Leaders'!M18=\"M\",(CONCATENATE('Campers & Leaders'!L18,\" \",'Campers & Leaders'!K18)),\"\")","v":""},null,{"$f":"IFERROR(INDEX($E$2:$E$162,SMALL(IF(($E$2:$E$162)<>\"\",ROW($E$1:$E$161),\"\"),ROW(J3))),\"\")","v":""},{"$f":"IFERROR(INDEX($F$2:$F$162,SMALL(IF(($F$2:$F$162)<>\"\",ROW($F$1:$F$161),\"\"),ROW(K3))),\"\")","v":""},{"$f":"IFERROR(INDEX($G$2:$G$32,SMALL(IF(($G$2:$G$32)<>\"\",ROW($G$1:$G$31),\"\"),ROW(L3))),\"\")","v":""},{"$f":"IFERROR(INDEX($H$2:$H$32,SMALL(IF(($H$2:$H$32)<>\"\",ROW($H$1:$H$31),\"\"),ROW(M3))),\"\")","v":""}]
[null,null,null,null,{"$f":"IF('Campers & Leaders'!E19=\"F\",(CONCATENATE('Campers & Leaders'!C19,\" \",'Campers & Leaders'!B19)),\"\")","v":""},{"$f":"IF('Campers & Leaders'!D19=\"M\",(CONCATENATE('Campers & Leaders'!C19,\" \",'Campers & Leaders'!B19)),\"\")","v":""},{"$f":"IF('Campers & Leaders'!N19=\"F\",(CONCATENATE('Campers & Leaders'!L19,\" \",'Campers & Leaders'!K19)),\"\")","v":""},{"$f":"IF('Campers & Leaders'!M19=\"M\",(CONCATENATE('Campers & Leaders'!L19,\" \",'Campers & Leaders'!K19)),\"\")","v":""},null,{"$f":"IFERROR(INDEX($E$2:$E$162,SMALL(IF(($E$2:$E$162)<>\"\",ROW($E$1:$E$161),\"\"),ROW(J4))),\"\")","v":""},{"$f":"IFERROR(INDEX($F$2:$F$162,SMALL(IF(($F$2:$F$162)<>\"\",ROW($F$1:$F$161),\"\"),ROW(K4))),\"\")","v":""},{"$f":"IFERROR(INDEX($G$2:$G$32,SMALL(IF(($G$2:$G$32)<>\"\",ROW($G$1:$G$31),\"\"),ROW(L4))),\"\")","v":""},{"$f":"IFERROR(INDEX($H$2:$H$32,SMALL(IF(($H$2:$H$32)<>\"\",ROW($H$1:$H$31),\"\"),ROW(M4))),\"\")","v":""}]
[null,"Male Leader Total From A Form",{"$f":"Financials!#REF!","v":{"$error":"#REF!"}},null,{"$f":"IF('Campers & Leaders'!E20=\"F\",(CONCATENATE('Campers & Leaders'!C20,\" \",'Campers & Leaders'!B20)),\"\")","v":""},{"$f":"IF('Campers & Leaders'!D20=\"M\",(CONCATENATE('Campers & Leaders'!C20,\" \",'Campers & Leaders'!B20)),\"\")","v":""},{"$f":"IF('Campers & Leaders'!N20=\"F\",(CONCATENATE('Campers & Leaders'!L20,\" \",'Campers & Leaders'!K20)),\"\")","v":""},{"$f":"IF('Campers & Leaders'!M20=\"M\",(CONCATENATE('Campers & Leaders'!L20,\" \",'Campers & Leaders'!K20)),\"\")","v":""},null,{"$f":"IFERROR(INDEX($E$2:$E$162,SMALL(IF(($E$2:$E$162)<>\"\",ROW($E$1:$E$161),\"\"),ROW(J5))),\"\")","v":""},{"$f":"IFERROR(INDEX($F$2:$F$162,SMALL(IF(($F$2:$F$162)<>\"\",ROW($F$1:$F$161),\"\"),ROW(K5))),\"\")","v":""},{"$f":"IFERROR(INDEX($G$2:$G$32,SMALL(IF(($G$2:$G$32)<>\"\",ROW($G$1:$G$31),\"\"),ROW(L5))),\"\")","v":""},{"$f":"IFERROR(INDEX($H$2:$H$32,SMALL(IF(($H$2:$H$32)<>\"\",ROW($H$1:$H$31),\"\"),ROW(M5))),\"\")","v":""}]
[null,"Male Camper Total From A Form",{"$f":"'Campers Page 2'!M57","v":0},null,{"$f":"IF('Campers & Leaders'!E21=\"F\",(CONCATENATE('Campers & Leaders'!C21,\" \",'Campers & Leaders'!B21)),\"\")","v":""},{"$f":"IF('Campers & Leaders'!D21=\"M\",(CONCATENATE('Campers & Leaders'!C21,\" \",'Campers & Leaders'!B21)),\"\")","v":""},{"$f":"IF('Campers & Leaders'!N21=\"F\",(CONCATENATE('Campers & Leaders'!L21,\" \",'Campers & Leaders'!K21)),\"\")","v":""},{"$f":"IF('Campers & Leaders'!M21=\"M\",(CONCATENATE('Campers & Leaders'!L21,\" \",'Campers & Leaders'!K21)),\"\")","v":""},null,{"$f":"IFERROR(INDEX($E$2:$E$162,SMALL(IF(($E$2:$E$162)<>\"\",ROW($E$1:$E$161),\"\"),ROW(J6))),\"\")","v":""},{"$f":"IFERROR(INDEX($F$2:$F$162,SMALL(IF(($F$2:$F$162)<>\"\",ROW($F$1:$F$161),\"\"),ROW(K6))),\"\")","v":""},{"$f":"IFERROR(INDEX($G$2:$G$32,SMALL(IF(($G$2:$G$32)<>\"\",ROW($G$1:$G$31),\"\"),ROW(L6))),\"\")","v":""},{"$f":"IFERROR(INDEX($H$2:$H$32,SMALL(IF(($H$2:$H$32)<>\"\",ROW($H$1:$H$31),\"\"),ROW(M6))),\"\")","v":""}]
[null,null,null,null,{"$f":"IF('Campers & Leaders'!E22=\"F\",(CONCATENATE('Campers & Leaders'!C22,\" \",'Campers & Leaders'!B22)),\"\")","v":""},{"$f":"IF('Campers & Leaders'!D22=\"M\",(CONCATENATE('Campers & Leaders'!C22,\" \",'Campers & Leaders'!B22)),\"\")","v":""},{"$f":"IF('Campers & Leaders'!N22=\"F\",(CONCATENATE('Campers & Leaders'!L22,\" \",'Campers & Leaders'!K22)),\"\")","v":""},{"$f":"IF('Campers & Leaders'!M22=\"M\",(CONCATENATE('Campers & Leaders'!L22,\" \",'Campers & Leaders'!K22)),\"\")","v":""},null,{"$f":"IFERROR(INDEX($E$2:$E$162,SMALL(IF(($E$2:$E$162)<>\"\",ROW($E$1:$E$161),\"\"),ROW(J7))),\"\")","v":""},{"$f":"IFERROR(INDEX($F$2:$F$162,SMALL(IF(($F$2:$F$162)<>\"\",ROW($F$1:$F$161),\"\"),ROW(K7))),\"\")","v":""},{"$f":"IFERROR(INDEX($G$2:$G$32,SMALL(IF(($G$2:$G$32)<>\"\",ROW($G$1:$G$31),\"\"),ROW(L7))),\"\")","v":""},{"$f":"IFERROR(INDEX($H$2:$H$32,SMALL(IF(($H$2:$H$32)<>\"\",ROW($H$1:$H$31),\"\"),ROW(M7))),\"\")","v":""}]
[null,"Male Leader Total From Cabin Roster",{"$f":"COUNTA('Male Cabin Roster'!E10:E14,'Male Cabin Roster'!K10:K14,'Male Cabin Roster'!Q10:Q14,'Male Cabin Roster'!#REF!,'Male Cabin Roster'!#REF!,'Male Cabin Roster'!#REF!,'Male Cabin Roster'!#REF!,'Male Cabin Roster'!#REF!,'Male Cabin Roster'!#REF!,'Male Cabin Roster'!#REF!,'Male Cabin Roster'!#REF!,'Male Cabin Roster'!#REF!)","v":9},null,{"$f":"IF('Campers & Leaders'!E23=\"F\",(CONCATENATE('Campers & Leaders'!C23,\" \",'Campers & Leaders'!B23)),\"\")","v":""},{"$f":"IF('Campers & Leaders'!D23=\"M\",(CONCATENATE('Campers & Leaders'!C23,\" \",'Campers & Leaders'!B23)),\"\")","v":""},{"$f":"IF('Campers & Leaders'!N23=\"F\",(CONCATENATE('Campers & Leaders'!L23,\" \",'Campers & Leaders'!K23)),\"\")","v":""},{"$f":"IF('Campers & Leaders'!M23=\"M\",(CONCATENATE('Campers & Leaders'!L23,\" \",'Campers & Leaders'!K23)),\"\")","v":""},null,{"$f":"IFERROR(INDEX($E$2:$E$162,SMALL(IF(($E$2:$E$162)<>\"\",ROW($E$1:$E$161),\"\"),ROW(J8))),\"\")","v":""},{"$f":"IFERROR(INDEX($F$2:$F$162,SMALL(IF(($F$2:$F$162)<>\"\",ROW($F$1:$F$161),\"\"),ROW(K8))),\"\")","v":""},{"$f":"IFERROR(INDEX($G$2:$G$32,SMALL(IF(($G$2:$G$32)<>\"\",ROW($G$1:$G$31),\"\"),ROW(L8))),\"\")","v":""},{"$f":"IFERROR(INDEX($H$2:$H$32,SMALL(IF(($H$2:$H$32)<>\"\",ROW($H$1:$H$31),\"\"),ROW(M8))),\"\")","v":""}]
[null,"Male Camper Total From A Form",{"$f":"COUNTA('Male Cabin Roster'!E16:E33,'Male Cabin Roster'!K16:K33,'Male Cabin Roster'!Q16:Q33,'Male Cabin Roster'!#REF!,'Male Cabin Roster'!#REF!,'Male Cabin Roster'!#REF!,'Male Cabin Roster'!#REF!,'Male Cabin Roster'!#REF!,'Male Cabin Roster'!#REF!,'Male Cabin Roster'!#REF!,'Male Cabin Roster'!#REF!,'Male Cabin Roster'!#REF!)","v":9},null,{"$f":"IF('Campers & Leaders'!E24=\"F\",(CONCATENATE('Campers & Leaders'!C24,\" \",'Campers & Leaders'!B24)),\"\")","v":""},{"$f":"IF('Campers & Leaders'!D24=\"M\",(CONCATENATE('Campers & Leaders'!C24,\" \",'Campers & Leaders'!B24)),\"\")","v":""},{"$f":"IF('Campers & Leaders'!N24=\"F\",(CONCATENATE('Campers & Leaders'!L24,\" \",'Campers & Leaders'!K24)),\"\")","v":""},{"$f":"IF('Campers & Leaders'!M24=\"M\",(CONCATENATE('Campers & Leaders'!L24,\" \",'Campers & Leaders'!K24)),\"\")","v":""},null,{"$f":"IFERROR(INDEX($E$2:$E$162,SMALL(IF(($E$2:$E$162)<>\"\",ROW($E$1:$E$161),\"\"),ROW(J9))),\"\")","v":""},{"$f":"IFERROR(INDEX($F$2:$F$162,SMALL(IF(($F$2:$F$162)<>\"\",ROW($F$1:$F$161),\"\"),ROW(K9))),\"\")","v":""},{"$f":"IFERROR(INDEX($G$2:$G$32,SMALL(IF(($G$2:$G$32)<>\"\",ROW($G$1:$G$31),\"\"),ROW(L9))),\"\")","v":""},{"$f":"IFERROR(INDEX($H$2:$H$32,SMALL(IF(($H$2:$H$32)<>\"\",ROW($H$1:$H$31),\"\"),ROW(M9))),\"\")","v":""}]
[null,null,null,null,{"$f":"IF('Campers & Leaders'!E25=\"F\",(CONCATENATE('Campers & Leaders'!C25,\" \",'Campers & Leaders'!B25)),\"\")","v":""},{"$f":"IF('Campers & Leaders'!D25=\"M\",(CONCATENATE('Campers & Leaders'!C25,\" \",'Campers & Leaders'!B25)),\"\")","v":""},{"$f":"IF('Campers & Leaders'!N25=\"F\",(CONCATENATE('Campers & Leaders'!L25,\" \",'Campers & Leaders'!K25)),\"\")","v":""},{"$f":"IF('Campers & Leaders'!M25=\"M\",(CONCATENATE('Campers & Leaders'!L25,\" \",'Campers & Leaders'!K25)),\"\")","v":""},null,{"$f":"IFERROR(INDEX($E$2:$E$162,SMALL(IF(($E$2:$E$162)<>\"\",ROW($E$1:$E$161),\"\"),ROW(J10))),\"\")","v":""},{"$f":"IFERROR(INDEX($F$2:$F$162,SMALL(IF(($F$2:$F$162)<>\"\",ROW($F$1:$F$161),\"\"),ROW(K10))),\"\")","v":""},{"$f":"IFERROR(INDEX($G$2:$G$32,SMALL(IF(($G$2:$G$32)<>\"\",ROW($G$1:$G$31),\"\"),ROW(L10))),\"\")","v":""},{"$f":"IFERROR(INDEX($H$2:$H$32,SMALL(IF(($H$2:$H$32)<>\"\",ROW($H$1:$H$31),\"\"),ROW(M10))),\"\")","v":""}]
[null,null,null,null,{"$f":"IF('Campers & Leaders'!E26=\"F\",(CONCATENATE('Campers & Leaders'!C26,\" \",'Campers & Leaders'!B26)),\"\")","v":""},{"$f":"IF('Campers & Leaders'!D26=\"M\",(CONCATENATE('Campers & Leaders'!C26,\" \",'Campers & Leaders'!B26)),\"\")","v":""},{"$f":"IF('Campers & Leaders'!N26=\"F\",(CONCATENATE('Campers & Leaders'!L26,\" \",'Campers & Leaders'!K26)),\"\")","v":""},{"$f":"IF('Campers & Leaders'!M26=\"M\",(CONCATENATE('Campers & Leaders'!L26,\" \",'Campers & Leaders'!K26)),\"\")","v":""},null,{"$f":"IFERROR(INDEX($E$2:$E$162,SMALL(IF(($E$2:$E$162)<>\"\",ROW($E$1:$E$161),\"\"),ROW(J11))),\"\")","v":""},{"$f":"IFERROR(INDEX($F$2:$F$162,SMALL(IF(($F$2:$F$162)<>\"\",ROW($F$1:$F$161),\"\"),ROW(K11))),\"\")","v":""},{"$f":"IFERROR(INDEX($G$2:$G$32,SMALL(IF(($G$2:$G$32)<>\"\",ROW($G$1:$G$31),\"\"),ROW(L11))),\"\")","v":""},{"$f":"IFERROR(INDEX($H$2:$H$32,SMALL(IF(($H$2:$H$32)<>\"\",ROW($H$1:$H$31),\"\"),ROW(M11))),\"\")","v":""}]
[null,null,null,null,{"$f":"IF('Campers & Leaders'!E27=\"F\",(CONCATENATE('Campers & Leaders'!C27,\" \",'Campers & Leaders'!B27)),\"\")","v":""},{"$f":"IF('Campers & Leaders'!D27=\"M\",(CONCATENATE('Campers & Leaders'!C27,\" \",'Campers & Leaders'!B27)),\"\")","v":""},{"$f":"IF('Campers & Leaders'!N27=\"F\",(CONCATENATE('Campers & Leaders'!L27,\" \",'Campers & Leaders'!K27)),\"\")","v":""},{"$f":"IF('Campers & Leaders'!M27=\"M\",(CONCATENATE('Campers & Leaders'!L27,\" \",'Campers & Leaders'!K27)),\"\")","v":""},null,{"$f":"IFERROR(INDEX($E$2:$E$162,SMALL(IF(($E$2:$E$162)<>\"\",ROW($E$1:$E$161),\"\"),ROW(J12))),\"\")","v":""},{"$f":"IFERROR(INDEX($F$2:$F$162,SMALL(IF(($F$2:$F$162)<>\"\",ROW($F$1:$F$161),\"\"),ROW(K12))),\"\")","v":""},{"$f":"IFERROR(INDEX($G$2:$G$32,SMALL(IF(($G$2:$G$32)<>\"\",ROW($G$1:$G$31),\"\"),ROW(L12))),\"\")","v":""},{"$f":"IFERROR(INDEX($H$2:$H$32,SMALL(IF(($H$2:$H$32)<>\"\",ROW($H$1:$H$31),\"\"),ROW(M12))),\"\")","v":""}]
[null,null,null,null,{"$f":"IF('Campers & Leaders'!E28=\"F\",(CONCATENATE('Campers & Leaders'!C28,\" \",'Campers & Leaders'!B28)),\"\")","v":""},{"$f":"IF('Campers & Leaders'!D28=\"M\",(CONCATENATE('Campers & Leaders'!C28,\" \",'Campers & Leaders'!B28)),\"\")","v":""},{"$f":"IF('Campers & Leaders'!N28=\"F\",(CONCATENATE('Campers & Leaders'!L28,\" \",'Campers & Leaders'!K28)),\"\")","v":""},{"$f":"IF('Campers & Leaders'!M28=\"M\",(CONCATENATE('Campers & Leaders'!L28,\" \",'Campers & Leaders'!K28)),\"\")","v":""},null,{"$f":"IFERROR(INDEX($E$2:$E$162,SMALL(IF(($E$2:$E$162)<>\"\",ROW($E$1:$E$161),\"\"),ROW(J13))),\"\")","v":""},{"$f":"IFERROR(INDEX($F$2:$F$162,SMALL(IF(($F$2:$F$162)<>\"\",ROW($F$1:$F$161),\"\"),ROW(K13))),\"\")","v":""},{"$f":"IFERROR(INDEX($G$2:$G$32,SMALL(IF(($G$2:$G$32)<>\"\",ROW($G$1:$G$31),\"\"),ROW(L13))),\"\")","v":""},{"$f":"IFERROR(INDEX($H$2:$H$32,SMALL(IF(($H$2:$H$32)<>\"\",ROW($H$1:$H$31),\"\"),ROW(M13))),\"\")","v":""}]
[null,null,null,null,{"$f":"IF('Campers & Leaders'!E29=\"F\",(CONCATENATE('Campers & Leaders'!C29,\" \",'Campers & Leaders'!B29)),\"\")","v":""},{"$f":"IF('Campers & Leaders'!D29=\"M\",(CONCATENATE('Campers & Leaders'!C29,\" \",'Campers & Leaders'!B29)),\"\")","v":""},{"$f":"IF('Campers & Leaders'!N29=\"F\",(CONCATENATE('Campers & Leaders'!L29,\" \",'Campers & Leaders'!K29)),\"\")","v":""},{"$f":"IF('Campers & Leaders'!M29=\"M\",(CONCATENATE('Campers & Leaders'!L29,\" \",'Campers & Leaders'!K29)),\"\")","v":""},null,{"$f":"IFERROR(INDEX($E$2:$E$162,SMALL(IF(($E$2:$E$162)<>\"\",ROW($E$1:$E$161),\"\"),ROW(J14))),\"\")","v":""},{"$f":"IFERROR(INDEX($F$2:$F$162,SMALL(IF(($F$2:$F$162)<>\"\",ROW($F$1:$F$161),\"\"),ROW(K14))),\"\")","v":""},{"$f":"IFERROR(INDEX($G$2:$G$32,SMALL(IF(($G$2:$G$32)<>\"\",ROW($G$1:$G$31),\"\"),ROW(L14))),\"\")","v":""},{"$f":"IFERROR(INDEX($H$2:$H$32,SMALL(IF(($H$2:$H$32)<>\"\",ROW($H$1:$H$31),\"\"),ROW(M14))),\"\")","v":""}]
[null,null,null,null,{"$f":"IF('Campers & Leaders'!E30=\"F\",(CONCATENATE('Campers & Leaders'!C30,\" \",'Campers & Leaders'!B30)),\"\")","v":""},{"$f":"IF('Campers & Leaders'!D30=\"M\",(CONCATENATE('Campers & Leaders'!C30,\" \",'Campers & Leaders'!B30)),\"\")","v":""},{"$f":"IF('Campers & Leaders'!N30=\"F\",(CONCATENATE('Campers & Leaders'!L30,\" \",'Campers & Leaders'!K30)),\"\")","v":""},{"$f":"IF('Campers & Leaders'!M30=\"M\",(CONCATENATE('Campers & Leaders'!L30,\" \",'Campers & Leaders'!K30)),\"\")","v":""},null,{"$f":"IFERROR(INDEX($E$2:$E$162,SMALL(IF(($E$2:$E$162)<>\"\",ROW($E$1:$E$161),\"\"),ROW(J15))),\"\")","v":""},{"$f":"IFERROR(INDEX($F$2:$F$162,SMALL(IF(($F$2:$F$162)<>\"\",ROW($F$1:$F$161),\"\"),ROW(K15))),\"\")","v":""},{"$f":"IFERROR(INDEX($G$2:$G$32,SMALL(IF(($G$2:$G$32)<>\"\",ROW($G$1:$G$31),\"\"),ROW(L15))),\"\")","v":""},{"$f":"IFERROR(INDEX($H$2:$H$32,SMALL(IF(($H$2:$H$32)<>\"\",ROW($H$1:$H$31),\"\"),ROW(M15))),\"\")","v":""}]
[null,null,null,null,{"$f":"IF('Campers & Leaders'!E31=\"F\",(CONCATENATE('Campers & Leaders'!C31,\" \",'Campers & Leaders'!B31)),\"\")","v":""},{"$f":"IF('Campers & Leaders'!D31=\"M\",(CONCATENATE('Campers & Leaders'!C31,\" \",'Campers & Leaders'!B31)),\"\")","v":""},{"$f":"IF('Campers & Leaders'!N31=\"F\",(CONCATENATE('Campers & Leaders'!L31,\" \",'Campers & Leaders'!K31)),\"\")","v":""},{"$f":"IF('Campers & Leaders'!M31=\"M\",(CONCATENATE('Campers & Leaders'!L31,\" \",'Campers & Leaders'!K31)),\"\")","v":""},null,{"$f":"IFERROR(INDEX($E$2:$E$162,SMALL(IF(($E$2:$E$162)<>\"\",ROW($E$1:$E$161),\"\"),ROW(J16))),\"\")","v":""},{"$f":"IFERROR(INDEX($F$2:$F$162,SMALL(IF(($F$2:$F$162)<>\"\",ROW($F$1:$F$161),\"\"),ROW(K16))),\"\")","v":""},{"$f":"IFERROR(INDEX($G$2:$G$32,SMALL(IF(($G$2:$G$32)<>\"\",ROW($G$1:$G$31),\"\"),ROW(L16))),\"\")","v":""},{"$f":"IFERROR(INDEX($H$2:$H$32,SMALL(IF(($H$2:$H$32)<>\"\",ROW($H$1:$H$31),\"\"),ROW(M16))),\"\")","v":""}]
[null,null,null,null,{"$f":"IF('Campers & Leaders'!E32=\"F\",(CONCATENATE('Campers & Leaders'!C32,\" \",'Campers & Leaders'!B32)),\"\")","v":""},{"$f":"IF('Campers & Leaders'!D32=\"M\",(CONCATENATE('Campers & Leaders'!C32,\" \",'Campers & Leaders'!B32)),\"\")","v":""},{"$f":"IF('Campers & Leaders'!N32=\"F\",(CONCATENATE('Campers & Leaders'!L32,\" \",'Campers & Leaders'!K32)),\"\")","v":""},{"$f":"IF('Campers & Leaders'!M32=\"M\",(CONCATENATE('Campers & Leaders'!L32,\" \",'Campers & Leaders'!K32)),\"\")","v":""},null,{"$f":"IFERROR(INDEX($E$2:$E$162,SMALL(IF(($E$2:$E$162)<>\"\",ROW($E$1:$E$161),\"\"),ROW(J17))),\"\")","v":""},{"$f":"IFERROR(INDEX($F$2:$F$162,SMALL(IF(($F$2:$F$162)<>\"\",ROW($F$1:$F$161),\"\"),ROW(K17))),\"\")","v":""},{"$f":"IFERROR(INDEX($G$2:$G$32,SMALL(IF(($G$2:$G$32)<>\"\",ROW($G$1:$G$31),\"\"),ROW(L17))),\"\")","v":""},{"$f":"IFERROR(INDEX($H$2:$H$32,SMALL(IF(($H$2:$H$32)<>\"\",ROW($H$1:$H$31),\"\"),ROW(M17))),\"\")","v":""}]
[null,null,null,null,{"$f":"IF('Campers & Leaders'!E33=\"F\",(CONCATENATE('Campers & Leaders'!C33,\" \",'Campers & Leaders'!B33)),\"\")","v":""},{"$f":"IF('Campers & Leaders'!D33=\"M\",(CONCATENATE('Campers & Leaders'!C33,\" \",'Campers & Leaders'!B33)),\"\")","v":""},{"$f":"IF('Campers & Leaders'!N33=\"F\",(CONCATENATE('Campers & Leaders'!L33,\" \",'Campers & Leaders'!K33)),\"\")","v":""},{"$f":"IF('Campers & Leaders'!M33=\"M\",(CONCATENATE('Campers & Leaders'!L33,\" \",'Campers & Leaders'!K33)),\"\")","v":""},null,{"$f":"IFERROR(INDEX($E$2:$E$162,SMALL(IF(($E$2:$E$162)<>\"\",ROW($E$1:$E$161),\"\"),ROW(J18))),\"\")","v":""},{"$f":"IFERROR(INDEX($F$2:$F$162,SMALL(IF(($F$2:$F$162)<>\"\",ROW($F$1:$F$161),\"\"),ROW(K18))),\"\")","v":""},{"$f":"IFERROR(INDEX($G$2:$G$32,SMALL(IF(($G$2:$G$32)<>\"\",ROW($G$1:$G$31),\"\"),ROW(L18))),\"\")","v":""},{"$f":"IFERROR(INDEX($H$2:$H$32,SMALL(IF(($H$2:$H$32)<>\"\",ROW($H$1:$H$31),\"\"),ROW(M18))),\"\")","v":""}]
[null,null,null,null,{"$f":"IF('Campers & Leaders'!E34=\"F\",(CONCATENATE('Campers & Leaders'!C34,\" \",'Campers & Leaders'!B34)),\"\")","v":""},{"$f":"IF('Campers & Leaders'!D34=\"M\",(CONCATENATE('Campers & Leaders'!C34,\" \",'Campers & Leaders'!B34)),\"\")","v":""},{"$f":"IF('Campers & Leaders'!N34=\"F\",(CONCATENATE('Campers & Leaders'!L34,\" \",'Campers & Leaders'!K34)),\"\")","v":""},{"$f":"IF('Campers & Leaders'!M34=\"M\",(CONCATENATE('Campers & Leaders'!L34,\" \",'Campers & Leaders'!K34)),\"\")","v":""},null,{"$f":"IFERROR(INDEX($E$2:$E$162,SMALL(IF(($E$2:$E$162)<>\"\",ROW($E$1:$E$161),\"\"),ROW(J19))),\"\")","v":""},{"$f":"IFERROR(INDEX($F$2:$F$162,SMALL(IF(($F$2:$F$162)<>\"\",ROW($F$1:$F$161),\"\"),ROW(K19))),\"\")","v":""},{"$f":"IFERROR(INDEX($G$2:$G$32,SMALL(IF(($G$2:$G$32)<>\"\",ROW($G$1:$G$31),\"\"),ROW(L19))),\"\")","v":""},{"$f":"IFERROR(INDEX($H$2:$H$32,SMALL(IF(($H$2:$H$32)<>\"\",ROW($H$1:$H$31),\"\"),ROW(M19))),\"\")","v":""}]
[null,null,null,null,{"$f":"IF('Campers & Leaders'!E35=\"F\",(CONCATENATE('Campers & Leaders'!C35,\" \",'Campers & Leaders'!B35)),\"\")","v":""},{"$f":"IF('Campers & Leaders'!D35=\"M\",(CONCATENATE('Campers & Leaders'!C35,\" \",'Campers & Leaders'!B35)),\"\")","v":""},{"$f":"IF('Campers & Leaders'!N35=\"F\",(CONCATENATE('Campers & Leaders'!L35,\" \",'Campers & Leaders'!K35)),\"\")","v":""},{"$f":"IF('Campers & Leaders'!M35=\"M\",(CONCATENATE('Campers & Leaders'!L35,\" \",'Campers & Leaders'!K35)),\"\")","v":""},null,{"$f":"IFERROR(INDEX($E$2:$E$162,SMALL(IF(($E$2:$E$162)<>\"\",ROW($E$1:$E$161),\"\"),ROW(J20))),\"\")","v":""},{"$f":"IFERROR(INDEX($F$2:$F$162,SMALL(IF(($F$2:$F$162)<>\"\",ROW($F$1:$F$161),\"\"),ROW(K20))),\"\")","v":""},{"$f":"IFERROR(INDEX($G$2:$G$32,SMALL(IF(($G$2:$G$32)<>\"\",ROW($G$1:$G$31),\"\"),ROW(L20))),\"\")","v":""},{"$f":"IFERROR(INDEX($H$2:$H$32,SMALL(IF(($H$2:$H$32)<>\"\",ROW($H$1:$H$31),\"\"),ROW(M20))),\"\")","v":""}]
[null,null,null,null,{"$f":"IF('Campers & Leaders'!E36=\"F\",(CONCATENATE('Campers & Leaders'!C36,\" \",'Campers & Leaders'!B36)),\"\")","v":""},{"$f":"IF('Campers & Leaders'!D36=\"M\",(CONCATENATE('Campers & Leaders'!C36,\" \",'Campers & Leaders'!B36)),\"\")","v":""},{"$f":"IF('Campers & Leaders'!N36=\"F\",(CONCATENATE('Campers & Leaders'!L36,\" \",'Campers & Leaders'!K36)),\"\")","v":""},{"$f":"IF('Campers & Leaders'!M36=\"M\",(CONCATENATE('Campers & Leaders'!L36,\" \",'Campers & Leaders'!K36)),\"\")","v":""},null,{"$f":"IFERROR(INDEX($E$2:$E$162,SMALL(IF(($E$2:$E$162)<>\"\",ROW($E$1:$E$161),\"\"),ROW(J21))),\"\")","v":""},{"$f":"IFERROR(INDEX($F$2:$F$162,SMALL(IF(($F$2:$F$162)<>\"\",ROW($F$1:$F$161),\"\"),ROW(K21))),\"\")","v":""},{"$f":"IFERROR(INDEX($G$2:$G$32,SMALL(IF(($G$2:$G$32)<>\"\",ROW($G$1:$G$31),\"\"),ROW(L21))),\"\")","v":""},{"$f":"IFERROR(INDEX($H$2:$H$32,SMALL(IF(($H$2:$H$32)<>\"\",ROW($H$1:$H$31),\"\"),ROW(M21))),\"\")","v":""}]
[null,null,null,null,{"$f":"IF('Campers & Leaders'!E37=\"F\",(CONCATENATE('Campers & Leaders'!C37,\" \",'Campers & Leaders'!B37)),\"\")","v":""},{"$f":"IF('Campers & Leaders'!D37=\"M\",(CONCATENATE('Campers & Leaders'!C37,\" \",'Campers & Leaders'!B37)),\"\")","v":""},{"$f":"IF('Campers & Leaders'!N37=\"F\",(CONCATENATE('Campers & Leaders'!L37,\" \",'Campers & Leaders'!K37)),\"\")","v":""},{"$f":"IF('Campers & Leaders'!M37=\"M\",(CONCATENATE('Campers & Leaders'!L37,\" \",'Campers & Leaders'!K37)),\"\")","v":""},null,{"$f":"IFERROR(INDEX($E$2:$E$162,SMALL(IF(($E$2:$E$162)<>\"\",ROW($E$1:$E$161),\"\"),ROW(J22))),\"\")","v":""},{"$f":"IFERROR(INDEX($F$2:$F$162,SMALL(IF(($F$2:$F$162)<>\"\",ROW($F$1:$F$161),\"\"),ROW(K22))),\"\")","v":""},{"$f":"IFERROR(INDEX($G$2:$G$32,SMALL(IF(($G$2:$G$32)<>\"\",ROW($G$1:$G$31),\"\"),ROW(L22))),\"\")","v":""},{"$f":"IFERROR(INDEX($H$2:$H$32,SMALL(IF(($H$2:$H$32)<>\"\",ROW($H$1:$H$31),\"\"),ROW(M22))),\"\")","v":""}]
[null,null,null,null,{"$f":"IF('Campers & Leaders'!E38=\"F\",(CONCATENATE('Campers & Leaders'!C38,\" \",'Campers & Leaders'!B38)),\"\")","v":""},{"$f":"IF('Campers & Leaders'!D38=\"M\",(CONCATENATE('Campers & Leaders'!C38,\" \",'Campers & Leaders'!B38)),\"\")","v":""},{"$f":"IF('Campers & Leaders'!N38=\"F\",(CONCATENATE('Campers & Leaders'!L38,\" \",'Campers & Leaders'!K38)),\"\")","v":""},{"$f":"IF('Campers & Leaders'!M38=\"M\",(CONCATENATE('Campers & Leaders'!L38,\" \",'Campers & Leaders'!K38)),\"\")","v":""},null,{"$f":"IFERROR(INDEX($E$2:$E$162,SMALL(IF(($E$2:$E$162)<>\"\",ROW($E$1:$E$161),\"\"),ROW(J23))),\"\")","v":""},{"$f":"IFERROR(INDEX($F$2:$F$162,SMALL(IF(($F$2:$F$162)<>\"\",ROW($F$1:$F$161),\"\"),ROW(K23))),\"\")","v":""},{"$f":"IFERROR(INDEX($G$2:$G$32,SMALL(IF(($G$2:$G$32)<>\"\",ROW($G$1:$G$31),\"\"),ROW(L23))),\"\")","v":""},{"$f":"IFERROR(INDEX($H$2:$H$32,SMALL(IF(($H$2:$H$32)<>\"\",ROW($H$1:$H$31),\"\"),ROW(M23))),\"\")","v":""}]
[null,null,null,null,{"$f":"IF('Campers & Leaders'!E39=\"F\",(CONCATENATE('Campers & Leaders'!C39,\" \",'Campers & Leaders'!B39)),\"\")","v":""},{"$f":"IF('Campers & Leaders'!D39=\"M\",(CONCATENATE('Campers & Leaders'!C39,\" \",'Campers & Leaders'!B39)),\"\")","v":""},{"$f":"IF('Campers & Leaders'!N39=\"F\",(CONCATENATE('Campers & Leaders'!L39,\" \",'Campers & Leaders'!K39)),\"\")","v":""},{"$f":"IF('Campers & Leaders'!M39=\"M\",(CONCATENATE('Campers & Leaders'!L39,\" \",'Campers & Leaders'!K39)),\"\")","v":""},null,{"$f":"IFERROR(INDEX($E$2:$E$162,SMALL(IF(($E$2:$E$162)<>\"\",ROW($E$1:$E$161),\"\"),ROW(J24))),\"\")","v":""},{"$f":"IFERROR(INDEX($F$2:$F$162,SMALL(IF(($F$2:$F$162)<>\"\",ROW($F$1:$F$161),\"\"),ROW(K24))),\"\")","v":""},{"$f":"IFERROR(INDEX($G$2:$G$32,SMALL(IF(($G$2:$G$32)<>\"\",ROW($G$1:$G$31),\"\"),ROW(L24))),\"\")","v":""},{"$f":"IFERROR(INDEX($H$2:$H$32,SMALL(IF(($H$2:$H$32)<>\"\",ROW($H$1:$H$31),\"\"),ROW(M24))),\"\")","v":""}]
[null,null,null,null,{"$f":"IF('Campers & Leaders'!E40=\"F\",(CONCATENATE('Campers & Leaders'!C40,\" \",'Campers & Leaders'!B40)),\"\")","v":""},{"$f":"IF('Campers & Leaders'!D40=\"M\",(CONCATENATE('Campers & Leaders'!C40,\" \",'Campers & Leaders'!B40)),\"\")","v":""},{"$f":"IF('Campers & Leaders'!N40=\"F\",(CONCATENATE('Campers & Leaders'!L40,\" \",'Campers & Leaders'!K40)),\"\")","v":""},{"$f":"IF('Campers & Leaders'!M40=\"M\",(CONCATENATE('Campers & Leaders'!L40,\" \",'Campers & Leaders'!K40)),\"\")","v":""},null,{"$f":"IFERROR(INDEX($E$2:$E$162,SMALL(IF(($E$2:$E$162)<>\"\",ROW($E$1:$E$161),\"\"),ROW(J25))),\"\")","v":""},{"$f":"IFERROR(INDEX($F$2:$F$162,SMALL(IF(($F$2:$F$162)<>\"\",ROW($F$1:$F$161),\"\"),ROW(K25))),\"\")","v":""},{"$f":"IFERROR(INDEX($G$2:$G$32,SMALL(IF(($G$2:$G$32)<>\"\",ROW($G$1:$G$31),\"\"),ROW(L25))),\"\")","v":""},{"$f":"IFERROR(INDEX($H$2:$H$32,SMALL(IF(($H$2:$H$32)<>\"\",ROW($H$1:$H$31),\"\"),ROW(M25))),\"\")","v":""}]
[null,null,null,null,{"$f":"IF('Campers & Leaders'!E41=\"F\",(CONCATENATE('Campers & Leaders'!C41,\" \",'Campers & Leaders'!B41)),\"\")","v":""},{"$f":"IF('Campers & Leaders'!D41=\"M\",(CONCATENATE('Campers & Leaders'!C41,\" \",'Campers & Leaders'!B41)),\"\")","v":""},{"$f":"IF('Campers & Leaders'!N41=\"F\",(CONCATENATE('Campers & Leaders'!L41,\" \",'Campers & Leaders'!K41)),\"\")","v":""},{"$f":"IF('Campers & Leaders'!M41=\"M\",(CONCATENATE('Campers & Leaders'!L41,\" \",'Campers & Leaders'!K41)),\"\")","v":""},null,{"$f":"IFERROR(INDEX($E$2:$E$162,SMALL(IF(($E$2:$E$162)<>\"\",ROW($E$1:$E$161),\"\"),ROW(J26))),\"\")","v":""},{"$f":"IFERROR(INDEX($F$2:$F$162,SMALL(IF(($F$2:$F$162)<>\"\",ROW($F$1:$F$161),\"\"),ROW(K26))),\"\")","v":""},{"$f":"IFERROR(INDEX($G$2:$G$32,SMALL(IF(($G$2:$G$32)<>\"\",ROW($G$1:$G$31),\"\"),ROW(L26))),\"\")","v":""},{"$f":"IFERROR(INDEX($H$2:$H$32,SMALL(IF(($H$2:$H$32)<>\"\",ROW($H$1:$H$31),\"\"),ROW(M26))),\"\")","v":""}]
[null,null,null,null,{"$f":"IF('Campers & Leaders'!E42=\"F\",(CONCATENATE('Campers & Leaders'!C42,\" \",'Campers & Leaders'!B42)),\"\")","v":""},{"$f":"IF('Campers & Leaders'!D42=\"M\",(CONCATENATE('Campers & Leaders'!C42,\" \",'Campers & Leaders'!B42)),\"\")","v":""},{"$f":"IF('Campers & Leaders'!N42=\"F\",(CONCATENATE('Campers & Leaders'!L42,\" \",'Campers & Leaders'!K42)),\"\")","v":""},{"$f":"IF('Campers & Leaders'!M42=\"M\",(CONCATENATE('Campers & Leaders'!L42,\" \",'Campers & Leaders'!K42)),\"\")","v":""},null,{"$f":"IFERROR(INDEX($E$2:$E$162,SMALL(IF(($E$2:$E$162)<>\"\",ROW($E$1:$E$161),\"\"),ROW(J27))),\"\")","v":""},{"$f":"IFERROR(INDEX($F$2:$F$162,SMALL(IF(($F$2:$F$162)<>\"\",ROW($F$1:$F$161),\"\"),ROW(K27))),\"\")","v":""},{"$f":"IFERROR(INDEX($G$2:$G$32,SMALL(IF(($G$2:$G$32)<>\"\",ROW($G$1:$G$31),\"\"),ROW(L27))),\"\")","v":""},{"$f":"IFERROR(INDEX($H$2:$H$32,SMALL(IF(($H$2:$H$32)<>\"\",ROW($H$1:$H$31),\"\"),ROW(M27))),\"\")","v":""}]
[null,null,null,null,{"$f":"IF('Campers & Leaders'!E43=\"F\",(CONCATENATE('Campers & Leaders'!C43,\" \",'Campers & Leaders'!B43)),\"\")","v":""},{"$f":"IF('Campers & Leaders'!D43=\"M\",(CONCATENATE('Campers & Leaders'!C43,\" \",'Campers & Leaders'!B43)),\"\")","v":""},{"$f":"IF('Campers & Leaders'!N43=\"F\",(CONCATENATE('Campers & Leaders'!L43,\" \",'Campers & Leaders'!K43)),\"\")","v":""},{"$f":"IF('Campers & Leaders'!M43=\"M\",(CONCATENATE('Campers & Leaders'!L43,\" \",'Campers & Leaders'!K43)),\"\")","v":""},null,{"$f":"IFERROR(INDEX($E$2:$E$162,SMALL(IF(($E$2:$E$162)<>\"\",ROW($E$1:$E$161),\"\"),ROW(J28))),\"\")","v":""},{"$f":"IFERROR(INDEX($F$2:$F$162,SMALL(IF(($F$2:$F$162)<>\"\",ROW($F$1:$F$161),\"\"),ROW(K28))),\"\")","v":""},{"$f":"IFERROR(INDEX($G$2:$G$32,SMALL(IF(($G$2:$G$32)<>\"\",ROW($G$1:$G$31),\"\"),ROW(L28))),\"\")","v":""},{"$f":"IFERROR(INDEX($H$2:$H$32,SMALL(IF(($H$2:$H$32)<>\"\",ROW($H$1:$H$31),\"\"),ROW(M28))),\"\")","v":""}]
[null,null,null,null,{"$f":"IF('Campers & Leaders'!E44=\"F\",(CONCATENATE('Campers & Leaders'!C44,\" \",'Campers & Leaders'!B44)),\"\")","v":""},{"$f":"IF('Campers & Leaders'!D44=\"M\",(CONCATENATE('Campers & Leaders'!C44,\" \",'Campers & Leaders'!B44)),\"\")","v":""},{"$f":"IF('Campers & Leaders'!N44=\"F\",(CONCATENATE('Campers & Leaders'!L44,\" \",'Campers & Leaders'!K44)),\"\")","v":""},{"$f":"IF('Campers & Leaders'!M44=\"M\",(CONCATENATE('Campers & Leaders'!L44,\" \",'Campers & Leaders'!K44)),\"\")","v":""},null,{"$f":"IFERROR(INDEX($E$2:$E$162,SMALL(IF(($E$2:$E$162)<>\"\",ROW($E$1:$E$161),\"\"),ROW(J29))),\"\")","v":""},{"$f":"IFERROR(INDEX($F$2:$F$162,SMALL(IF(($F$2:$F$162)<>\"\",ROW($F$1:$F$161),\"\"),ROW(K29))),\"\")","v":""},{"$f":"IFERROR(INDEX($G$2:$G$32,SMALL(IF(($G$2:$G$32)<>\"\",ROW($G$1:$G$31),\"\"),ROW(L29))),\"\")","v":""},{"$f":"IFERROR(INDEX($H$2:$H$32,SMALL(IF(($H$2:$H$32)<>\"\",ROW($H$1:$H$31),\"\"),ROW(M29))),\"\")","v":""}]
[null,null,null,null,{"$f":"IF('Campers & Leaders'!E45=\"F\",(CONCATENATE('Campers & Leaders'!C45,\" \",'Campers & Leaders'!B45)),\"\")","v":""},{"$f":"IF('Campers & Leaders'!D45=\"M\",(CONCATENATE('Campers & Leaders'!C45,\" \",'Campers & Leaders'!B45)),\"\")","v":""},{"$f":"IF('Campers & Leaders'!N45=\"F\",(CONCATENATE('Campers & Leaders'!L45,\" \",'Campers & Leaders'!K45)),\"\")","v":""},{"$f":"IF('Campers & Leaders'!M45=\"M\",(CONCATENATE('Campers & Leaders'!L45,\" \",'Campers & Leaders'!K45)),\"\")","v":""},null,{"$f":"IFERROR(INDEX($E$2:$E$162,SMALL(IF(($E$2:$E$162)<>\"\",ROW($E$1:$E$161),\"\"),ROW(J30))),\"\")","v":""},{"$f":"IFERROR(INDEX($F$2:$F$162,SMALL(IF(($F$2:$F$162)<>\"\",ROW($F$1:$F$161),\"\"),ROW(K30))),\"\")","v":""},{"$f":"IFERROR(INDEX($G$2:$G$32,SMALL(IF(($G$2:$G$32)<>\"\",ROW($G$1:$G$31),\"\"),ROW(L30))),\"\")","v":""},{"$f":"IFERROR(INDEX($H$2:$H$32,SMALL(IF(($H$2:$H$32)<>\"\",ROW($H$1:$H$31),\"\"),ROW(M30))),\"\")","v":""}]
[null,null,null,null,{"$f":"IF('Campers & Leaders'!E46=\"F\",(CONCATENATE('Campers & Leaders'!C46,\" \",'Campers & Leaders'!B46)),\"\")","v":""},{"$f":"IF('Campers & Leaders'!D46=\"M\",(CONCATENATE('Campers & Leaders'!C46,\" \",'Campers & Leaders'!B46)),\"\")","v":""},{"$f":"IF('Campers & Leaders'!N46=\"F\",(CONCATENATE('Campers & Leaders'!L46,\" \",'Campers & Leaders'!K46)),\"\")","v":""},{"$f":"IF('Campers & Leaders'!M46=\"M\",(CONCATENATE('Campers & Leaders'!L46,\" \",'Campers & Leaders'!K46)),\"\")","v":""},null,{"$f":"IFERROR(INDEX($E$2:$E$162,SMALL(IF(($E$2:$E$162)<>\"\",ROW($E$1:$E$161),\"\"),ROW(J31))),\"\")","v":""},{"$f":"IFERROR(INDEX($F$2:$F$162,SMALL(IF(($F$2:$F$162)<>\"\",ROW($F$1:$F$161),\"\"),ROW(K31))),\"\")","v":""},"End","End"]
[null,null,null,null,{"$f":"IF('Campers & Leaders'!E47=\"F\",(CONCATENATE('Campers & Leaders'!C47,\" \",'Campers & Leaders'!B47)),\"\")","v":""},{"$f":"IF('Campers & Leaders'!D47=\"M\",(CONCATENATE('Campers & Leaders'!C47,\" \",'Campers & Leaders'!B47)),\"\")","v":""},{"$f":"IF('Campers & Leaders'!N47=\"F\",(CONCATENATE('Campers & Leaders'!L47,\" \",'Campers & Leaders'!K47)),\"\")","v":""},{"$f":"IF('Campers & Leaders'!M47=\"M\",(CONCATENATE('Campers & Leaders'!L47,\" \",'Campers & Leaders'!K47)),\"\")","v":""},null,{"$f":"IFERROR(INDEX($E$2:$E$162,SMALL(IF(($E$2:$E$162)<>\"\",ROW($E$1:$E$161),\"\"),ROW(J32))),\"\")","v":""},{"$f":"IFERROR(INDEX($F$2:$F$162,SMALL(IF(($F$2:$F$162)<>\"\",ROW($F$1:$F$161),\"\"),ROW(K32))),\"\")","v":""}]
[null,null,null,null,{"$f":"IF('Campers & Leaders'!E48=\"F\",(CONCATENATE('Campers & Leaders'!C48,\" \",'Campers & Leaders'!B48)),\"\")","v":""},{"$f":"IF('Campers & Leaders'!D48=\"M\",(CONCATENATE('Campers & Leaders'!C48,\" \",'Campers & Leaders'!B48)),\"\")","v":""},{"$f":"IF('Campers & Leaders'!N48=\"F\",(CONCATENATE('Campers & Leaders'!L48,\" \",'Campers & Leaders'!K48)),\"\")","v":""},{"$f":"IF('Campers & Leaders'!M48=\"M\",(CONCATENATE('Campers & Leaders'!L48,\" \",'Campers & Leaders'!K48)),\"\")","v":""},null,{"$f":"IFERROR(INDEX($E$2:$E$162,SMALL(IF(($E$2:$E$162)<>\"\",ROW($E$1:$E$161),\"\"),ROW(J33))),\"\")","v":""},{"$f":"IFERROR(INDEX($F$2:$F$162,SMALL(IF(($F$2:$F$162)<>\"\",ROW($F$1:$F$161),\"\"),ROW(K33))),\"\")","v":""}]
[null,null,null,null,{"$f":"IF('Campers & Leaders'!E49=\"F\",(CONCATENATE('Campers & Leaders'!C49,\" \",'Campers & Leaders'!B49)),\"\")","v":""},{"$f":"IF('Campers & Leaders'!D49=\"M\",(CONCATENATE('Campers & Leaders'!C49,\" \",'Campers & Leaders'!B49)),\"\")","v":""},{"$f":"IF('Campers & Leaders'!N49=\"F\",(CONCATENATE('Campers & Leaders'!L49,\" \",'Campers & Leaders'!K49)),\"\")","v":""},{"$f":"IF('Campers & Leaders'!M49=\"M\",(CONCATENATE('Campers & Leaders'!L49,\" \",'Campers & Leaders'!K49)),\"\")","v":""},null,{"$f":"IFERROR(INDEX($E$2:$E$162,SMALL(IF(($E$2:$E$162)<>\"\",ROW($E$1:$E$161),\"\"),ROW(J34))),\"\")","v":""},{"$f":"IFERROR(INDEX($F$2:$F$162,SMALL(IF(($F$2:$F$162)<>\"\",ROW($F$1:$F$161),\"\"),ROW(K34))),\"\")","v":""}]
[null,null,null,null,{"$f":"IF('Campers & Leaders'!E50=\"F\",(CONCATENATE('Campers & Leaders'!C50,\" \",'Campers & Leaders'!B50)),\"\")","v":""},{"$f":"IF('Campers & Leaders'!D50=\"M\",(CONCATENATE('Campers & Leaders'!C50,\" \",'Campers & Leaders'!B50)),\"\")","v":""},{"$f":"IF('Campers & Leaders'!N50=\"F\",(CONCATENATE('Campers & Leaders'!L50,\" \",'Campers & Leaders'!K50)),\"\")","v":""},{"$f":"IF('Campers & Leaders'!M50=\"M\",(CONCATENATE('Campers & Leaders'!L50,\" \",'Campers & Leaders'!K50)),\"\")","v":""},null,{"$f":"IFERROR(INDEX($E$2:$E$162,SMALL(IF(($E$2:$E$162)<>\"\",ROW($E$1:$E$161),\"\"),ROW(J35))),\"\")","v":""},{"$f":"IFERROR(INDEX($F$2:$F$162,SMALL(IF(($F$2:$F$162)<>\"\",ROW($F$1:$F$161),\"\"),ROW(K35))),\"\")","v":""}]
[null,null,null,null,{"$f":"IF('Campers & Leaders'!E51=\"F\",(CONCATENATE('Campers & Leaders'!C51,\" \",'Campers & Leaders'!B51)),\"\")","v":""},{"$f":"IF('Campers & Leaders'!D51=\"M\",(CONCATENATE('Campers & Leaders'!C51,\" \",'Campers & Leaders'!B51)),\"\")","v":""},{"$f":"IF('Campers & Leaders'!N51=\"F\",(CONCATENATE('Campers & Leaders'!L51,\" \",'Campers & Leaders'!K51)),\"\")","v":""},{"$f":"IF('Campers & Leaders'!M51=\"M\",(CONCATENATE('Campers & Leaders'!L51,\" \",'Campers & Leaders'!K51)),\"\")","v":""},null,{"$f":"IFERROR(INDEX($E$2:$E$162,SMALL(IF(($E$2:$E$162)<>\"\",ROW($E$1:$E$161),\"\"),ROW(J36))),\"\")","v":""},{"$f":"IFERROR(INDEX($F$2:$F$162,SMALL(IF(($F$2:$F$162)<>\"\",ROW($F$1:$F$161),\"\"),ROW(K36))),\"\")","v":""}]
[null,null,null,null,null,null,null,null,null,{"$f":"IFERROR(INDEX($E$2:$E$162,SMALL(IF(($E$2:$E$162)<>\"\",ROW($E$1:$E$161),\"\"),ROW(J37))),\"\")","v":""},{"$f":"IFERROR(INDEX($F$2:$F$162,SMALL(IF(($F$2:$F$162)<>\"\",ROW($F$1:$F$161),\"\"),ROW(K37))),\"\")","v":""}]
[null,null,null,null,null,null,null,null,null,{"$f":"IFERROR(INDEX($E$2:$E$162,SMALL(IF(($E$2:$E$162)<>\"\",ROW($E$1:$E$161),\"\"),ROW(J38))),\"\")","v":""},{"$f":"IFERROR(INDEX($F$2:$F$162,SMALL(IF(($F$2:$F$162)<>\"\",ROW($F$1:$F$161),\"\"),ROW(K38))),\"\")","v":""}]
[null,null,null,null,null,null,null,null,null,{"$f":"IFERROR(INDEX($E$2:$E$162,SMALL(IF(($E$2:$E$162)<>\"\",ROW($E$1:$E$161),\"\"),ROW(J39))),\"\")","v":""},{"$f":"IFERROR(INDEX($F$2:$F$162,SMALL(IF(($F$2:$F$162)<>\"\",ROW($F$1:$F$161),\"\"),ROW(K39))),\"\")","v":""}]
[null,null,null,null,null,null,null,null,null,{"$f":"IFERROR(INDEX($E$2:$E$162,SMALL(IF(($E$2:$E$162)<>\"\",ROW($E$1:$E$161),\"\"),ROW(J40))),\"\")","v":""},{"$f":"IFERROR(INDEX($F$2:$F$162,SMALL(IF(($F$2:$F$162)<>\"\",ROW($F$1:$F$161),\"\"),ROW(K40))),\"\")","v":""}]
[null,null,null,null,null,null,null,null,null,{"$f":"IFERROR(INDEX($E$2:$E$162,SMALL(IF(($E$2:$E$162)<>\"\",ROW($E$1:$E$161),\"\"),ROW(J41))),\"\")","v":""},{"$f":"IFERROR(INDEX($F$2:$F$162,SMALL(IF(($F$2:$F$162)<>\"\",ROW($F$1:$F$161),\"\"),ROW(K41))),\"\")","v":""}]
[null,null,null,null,null,null,null,null,null,{"$f":"IFERROR(INDEX($E$2:$E$162,SMALL(IF(($E$2:$E$162)<>\"\",ROW($E$1:$E$161),\"\"),ROW(J42))),\"\")","v":""},{"$f":"IFERROR(INDEX($F$2:$F$162,SMALL(IF(($F$2:$F$162)<>\"\",ROW($F$1:$F$161),\"\"),ROW(K42))),\"\")","v":""}]
[null,null,null,null,null,null,null,null,null,{"$f":"IFERROR(INDEX($E$2:$E$162,SMALL(IF(($E$2:$E$162)<>\"\",ROW($E$1:$E$161),\"\"),ROW(J43))),\"\")","v":""},{"$f":"IFERROR(INDEX($F$2:$F$162,SMALL(IF(($F$2:$F$162)<>\"\",ROW($F$1:$F$161),\"\"),ROW(K43))),\"\")","v":""}]
[null,null,null,null,null,null,null,null,null,{"$f":"IFERROR(INDEX($E$2:$E$162,SMALL(IF(($E$2:$E$162)<>\"\",ROW($E$1:$E$161),\"\"),ROW(J44))),\"\")","v":""},{"$f":"IFERROR(INDEX($F$2:$F$162,SMALL(IF(($F$2:$F$162)<>\"\",ROW($F$1:$F$161),\"\"),ROW(K44))),\"\")","v":""}]
[null,null,null,null,null,null,null,null,null,{"$f":"IFERROR(INDEX($E$2:$E$162,SMALL(IF(($E$2:$E$162)<>\"\",ROW($E$1:$E$161),\"\"),ROW(J45))),\"\")","v":""},{"$f":"IFERROR(INDEX($F$2:$F$162,SMALL(IF(($F$2:$F$162)<>\"\",ROW($F$1:$F$161),\"\"),ROW(K45))),\"\")","v":""}]
[null,null,null,null,null,null,null,null,null,{"$f":"IFERROR(INDEX($E$2:$E$162,SMALL(IF(($E$2:$E$162)<>\"\",ROW($E$1:$E$161),\"\"),ROW(J46))),\"\")","v":""},{"$f":"IFERROR(INDEX($F$2:$F$162,SMALL(IF(($F$2:$F$162)<>\"\",ROW($F$1:$F$161),\"\"),ROW(K46))),\"\")","v":""}]
[null,null,null,null,null,null,null,null,null,{"$f":"IFERROR(INDEX($E$2:$E$162,SMALL(IF(($E$2:$E$162)<>\"\",ROW($E$1:$E$161),\"\"),ROW(J47))),\"\")","v":""},{"$f":"IFERROR(INDEX($F$2:$F$162,SMALL(IF(($F$2:$F$162)<>\"\",ROW($F$1:$F$161),\"\"),ROW(K47))),\"\")","v":""}]
[null,null,null,null,null,null,null,null,null,{"$f":"IFERROR(INDEX($E$2:$E$162,SMALL(IF(($E$2:$E$162)<>\"\",ROW($E$1:$E$161),\"\"),ROW(J48))),\"\")","v":""},{"$f":"IFERROR(INDEX($F$2:$F$162,SMALL(IF(($F$2:$F$162)<>\"\",ROW($F$1:$F$161),\"\"),ROW(K48))),\"\")","v":""}]
[null,null,null,null,null,null,null,null,null,{"$f":"IFERROR(INDEX($E$2:$E$162,SMALL(IF(($E$2:$E$162)<>\"\",ROW($E$1:$E$161),\"\"),ROW(J49))),\"\")","v":""},{"$f":"IFERROR(INDEX($F$2:$F$162,SMALL(IF(($F$2:$F$162)<>\"\",ROW($F$1:$F$161),\"\"),ROW(K49))),\"\")","v":""}]
[null,null,null,null,null,null,null,null,null,{"$f":"IFERROR(INDEX($E$2:$E$162,SMALL(IF(($E$2:$E$162)<>\"\",ROW($E$1:$E$161),\"\"),ROW(J50))),\"\")","v":""},{"$f":"IFERROR(INDEX($F$2:$F$162,SMALL(IF(($F$2:$F$162)<>\"\",ROW($F$1:$F$161),\"\"),ROW(K50))),\"\")","v":""}]
[null,null,null,null,null,null,null,null,null,{"$f":"IFERROR(INDEX($E$2:$E$162,SMALL(IF(($E$2:$E$162)<>\"\",ROW($E$1:$E$161),\"\"),ROW(J51))),\"\")","v":""},{"$f":"IFERROR(INDEX($F$2:$F$162,SMALL(IF(($F$2:$F$162)<>\"\",ROW($F$1:$F$161),\"\"),ROW(K51))),\"\")","v":""}]
[null,null,null,null,null,null,null,null,null,{"$f":"IFERROR(INDEX($E$2:$E$162,SMALL(IF(($E$2:$E$162)<>\"\",ROW($E$1:$E$161),\"\"),ROW(J52))),\"\")","v":""},{"$f":"IFERROR(INDEX($F$2:$F$162,SMALL(IF(($F$2:$F$162)<>\"\",ROW($F$1:$F$161),\"\"),ROW(K52))),\"\")","v":""}]
[null,null,null,null,null,null,null,null,null,{"$f":"IFERROR(INDEX($E$2:$E$162,SMALL(IF(($E$2:$E$162)<>\"\",ROW($E$1:$E$161),\"\"),ROW(J53))),\"\")","v":""},{"$f":"IFERROR(INDEX($F$2:$F$162,SMALL(IF(($F$2:$F$162)<>\"\",ROW($F$1:$F$161),\"\"),ROW(K53))),\"\")","v":""}]
[null,null,null,null,null,null,null,null,null,{"$f":"IFERROR(INDEX($E$2:$E$162,SMALL(IF(($E$2:$E$162)<>\"\",ROW($E$1:$E$161),\"\"),ROW(J54))),\"\")","v":""},{"$f":"IFERROR(INDEX($F$2:$F$162,SMALL(IF(($F$2:$F$162)<>\"\",ROW($F$1:$F$161),\"\"),ROW(K54))),\"\")","v":""}]
[null,null,null,null,null,null,null,null,null,{"$f":"IFERROR(INDEX($E$2:$E$162,SMALL(IF(($E$2:$E$162)<>\"\",ROW($E$1:$E$161),\"\"),ROW(J55))),\"\")","v":""},{"$f":"IFERROR(INDEX($F$2:$F$162,SMALL(IF(($F$2:$F$162)<>\"\",ROW($F$1:$F$161),\"\"),ROW(K55))),\"\")","v":""}]
[null,null,null,null,null,null,null,null,null,{"$f":"IFERROR(INDEX($E$2:$E$162,SMALL(IF(($E$2:$E$162)<>\"\",ROW($E$1:$E$161),\"\"),ROW(J56))),\"\")","v":""},{"$f":"IFERROR(INDEX($F$2:$F$162,SMALL(IF(($F$2:$F$162)<>\"\",ROW($F$1:$F$161),\"\"),ROW(K56))),\"\")","v":""}]
[null,null,null,null,null,null,null,null,null,{"$f":"IFERROR(INDEX($E$2:$E$162,SMALL(IF(($E$2:$E$162)<>\"\",ROW($E$1:$E$161),\"\"),ROW(J57))),\"\")","v":""},{"$f":"IFERROR(INDEX($F$2:$F$162,SMALL(IF(($F$2:$F$162)<>\"\",ROW($F$1:$F$161),\"\"),ROW(K57))),\"\")","v":""}]
[null,null,null,null,null,null,null,null,null,{"$f":"IFERROR(INDEX($E$2:$E$162,SMALL(IF(($E$2:$E$162)<>\"\",ROW($E$1:$E$161),\"\"),ROW(J58))),\"\")","v":""},{"$f":"IFERROR(INDEX($F$2:$F$162,SMALL(IF(($F$2:$F$162)<>\"\",ROW($F$1:$F$161),\"\"),ROW(K58))),\"\")","v":""}]
[null,null,null,null,null,null,null,null,null,{"$f":"IFERROR(INDEX($E$2:$E$162,SMALL(IF(($E$2:$E$162)<>\"\",ROW($E$1:$E$161),\"\"),ROW(J59))),\"\")","v":""},{"$f":"IFERROR(INDEX($F$2:$F$162,SMALL(IF(($F$2:$F$162)<>\"\",ROW($F$1:$F$161),\"\"),ROW(K59))),\"\")","v":""}]
[null,null,null,null,null,null,null,null,null,{"$f":"IFERROR(INDEX($E$2:$E$162,SMALL(IF(($E$2:$E$162)<>\"\",ROW($E$1:$E$161),\"\"),ROW(J60))),\"\")","v":""},{"$f":"IFERROR(INDEX($F$2:$F$162,SMALL(IF(($F$2:$F$162)<>\"\",ROW($F$1:$F$161),\"\"),ROW(K60))),\"\")","v":""}]
[null,null,null,null,null,null,null,null,null,{"$f":"IFERROR(INDEX($E$2:$E$162,SMALL(IF(($E$2:$E$162)<>\"\",ROW($E$1:$E$161),\"\"),ROW(J61))),\"\")","v":""},{"$f":"IFERROR(INDEX($F$2:$F$162,SMALL(IF(($F$2:$F$162)<>\"\",ROW($F$1:$F$161),\"\"),ROW(K61))),\"\")","v":""}]
[null,null,null,null,null,null,null,null,null,{"$f":"IFERROR(INDEX($E$2:$E$162,SMALL(IF(($E$2:$E$162)<>\"\",ROW($E$1:$E$161),\"\"),ROW(J62))),\"\")","v":""},{"$f":"IFERROR(INDEX($F$2:$F$162,SMALL(IF(($F$2:$F$162)<>\"\",ROW($F$1:$F$161),\"\"),ROW(K62))),\"\")","v":""}]
[null,null,null,null,null,null,null,null,null,{"$f":"IFERROR(INDEX($E$2:$E$162,SMALL(IF(($E$2:$E$162)<>\"\",ROW($E$1:$E$161),\"\"),ROW(J63))),\"\")","v":""},{"$f":"IFERROR(INDEX($F$2:$F$162,SMALL(IF(($F$2:$F$162)<>\"\",ROW($F$1:$F$161),\"\"),ROW(K63))),\"\")","v":""}]
[null,null,null,null,null,null,null,null,null,{"$f":"IFERROR(INDEX($E$2:$E$162,SMALL(IF(($E$2:$E$162)<>\"\",ROW($E$1:$E$161),\"\"),ROW(J64))),\"\")","v":""},{"$f":"IFERROR(INDEX($F$2:$F$162,SMALL(IF(($F$2:$F$162)<>\"\",ROW($F$1:$F$161),\"\"),ROW(K64))),\"\")","v":""}]
[null,null,null,null,null,null,null,null,null,{"$f":"IFERROR(INDEX($E$2:$E$162,SMALL(IF(($E$2:$E$162)<>\"\",ROW($E$1:$E$161),\"\"),ROW(J65))),\"\")","v":""},{"$f":"IFERROR(INDEX($F$2:$F$162,SMALL(IF(($F$2:$F$162)<>\"\",ROW($F$1:$F$161),\"\"),ROW(K65))),\"\")","v":""}]
[null,null,null,null,null,null,null,null,null,{"$f":"IFERROR(INDEX($E$2:$E$162,SMALL(IF(($E$2:$E$162)<>\"\",ROW($E$1:$E$161),\"\"),ROW(J66))),\"\")","v":""},{"$f":"IFERROR(INDEX($F$2:$F$162,SMALL(IF(($F$2:$F$162)<>\"\",ROW($F$1:$F$161),\"\"),ROW(K66))),\"\")","v":""}]
[null,null,null,null,null,null,null,null,null,{"$f":"IFERROR(INDEX($E$2:$E$162,SMALL(IF(($E$2:$E$162)<>\"\",ROW($E$1:$E$161),\"\"),ROW(J67))),\"\")","v":""},{"$f":"IFERROR(INDEX($F$2:$F$162,SMALL(IF(($F$2:$F$162)<>\"\",ROW($F$1:$F$161),\"\"),ROW(K67))),\"\")","v":""}]
[null,null,null,null,null,null,null,null,null,{"$f":"IFERROR(INDEX($E$2:$E$162,SMALL(IF(($E$2:$E$162)<>\"\",ROW($E$1:$E$161),\"\"),ROW(J68))),\"\")","v":""},{"$f":"IFERROR(INDEX($F$2:$F$162,SMALL(IF(($F$2:$F$162)<>\"\",ROW($F$1:$F$161),\"\"),ROW(K68))),\"\")","v":""}]
[null,null,null,null,null,null,null,null,null,{"$f":"IFERROR(INDEX($E$2:$E$162,SMALL(IF(($E$2:$E$162)<>\"\",ROW($E$1:$E$161),\"\"),ROW(J69))),\"\")","v":""},{"$f":"IFERROR(INDEX($F$2:$F$162,SMALL(IF(($F$2:$F$162)<>\"\",ROW($F$1:$F$161),\"\"),ROW(K69))),\"\")","v":""}]
[null,null,null,null,null,null,null,null,null,{"$f":"IFERROR(INDEX($E$2:$E$162,SMALL(IF(($E$2:$E$162)<>\"\",ROW($E$1:$E$161),\"\"),ROW(J70))),\"\")","v":""},{"$f":"IFERROR(INDEX($F$2:$F$162,SMALL(IF(($F$2:$F$162)<>\"\",ROW($F$1:$F$161),\"\"),ROW(K70))),\"\")","v":""}]
[null,null,null,null,null,null,null,null,null,{"$f":"IFERROR(INDEX($E$2:$E$162,SMALL(IF(($E$2:$E$162)<>\"\",ROW($E$1:$E$161),\"\"),ROW(J71))),\"\")","v":""},{"$f":"IFERROR(INDEX($F$2:$F$162,SMALL(IF(($F$2:$F$162)<>\"\",ROW($F$1:$F$161),\"\"),ROW(K71))),\"\")","v":""}]
[null,null,null,null,null,null,null,null,null,{"$f":"IFERROR(INDEX($E$2:$E$162,SMALL(IF(($E$2:$E$162)<>\"\",ROW($E$1:$E$161),\"\"),ROW(J72))),\"\")","v":""},{"$f":"IFERROR(INDEX($F$2:$F$162,SMALL(IF(($F$2:$F$162)<>\"\",ROW($F$1:$F$161),\"\"),ROW(K72))),\"\")","v":""}]
[null,null,null,null,null,null,null,null,null,{"$f":"IFERROR(INDEX($E$2:$E$162,SMALL(IF(($E$2:$E$162)<>\"\",ROW($E$1:$E$161),\"\"),ROW(J73))),\"\")","v":""},{"$f":"IFERROR(INDEX($F$2:$F$162,SMALL(IF(($F$2:$F$162)<>\"\",ROW($F$1:$F$161),\"\"),ROW(K73))),\"\")","v":""}]
[null,null,null,null,null,null,null,null,null,{"$f":"IFERROR(INDEX($E$2:$E$162,SMALL(IF(($E$2:$E$162)<>\"\",ROW($E$1:$E$161),\"\"),ROW(J74))),\"\")","v":""},{"$f":"IFERROR(INDEX($F$2:$F$162,SMALL(IF(($F$2:$F$162)<>\"\",ROW($F$1:$F$161),\"\"),ROW(K74))),\"\")","v":""}]
[null,null,null,null,null,null,null,null,null,{"$f":"IFERROR(INDEX($E$2:$E$162,SMALL(IF(($E$2:$E$162)<>\"\",ROW($E$1:$E$161),\"\"),ROW(J75))),\"\")","v":""},{"$f":"IFERROR(INDEX($F$2:$F$162,SMALL(IF(($F$2:$F$162)<>\"\",ROW($F$1:$F$161),\"\"),ROW(K75))),\"\")","v":""}]
[null,null,null,null,null,null,null,null,null,{"$f":"IFERROR(INDEX($E$2:$E$162,SMALL(IF(($E$2:$E$162)<>\"\",ROW($E$1:$E$161),\"\"),ROW(J76))),\"\")","v":""},{"$f":"IFERROR(INDEX($F$2:$F$162,SMALL(IF(($F$2:$F$162)<>\"\",ROW($F$1:$F$161),\"\"),ROW(K76))),\"\")","v":""}]
[null,null,null,null,null,null,null,null,null,{"$f":"IFERROR(INDEX($E$2:$E$162,SMALL(IF(($E$2:$E$162)<>\"\",ROW($E$1:$E$161),\"\"),ROW(J77))),\"\")","v":""},{"$f":"IFERROR(INDEX($F$2:$F$162,SMALL(IF(($F$2:$F$162)<>\"\",ROW($F$1:$F$161),\"\"),ROW(K77))),\"\")","v":""}]
[null,null,null,null,null,null,null,null,null,{"$f":"IFERROR(INDEX($E$2:$E$162,SMALL(IF(($E$2:$E$162)<>\"\",ROW($E$1:$E$161),\"\"),ROW(J78))),\"\")","v":""},{"$f":"IFERROR(INDEX($F$2:$F$162,SMALL(IF(($F$2:$F$162)<>\"\",ROW($F$1:$F$161),\"\"),ROW(K78))),\"\")","v":""}]
[null,null,null,null,null,null,null,null,null,{"$f":"IFERROR(INDEX($E$2:$E$162,SMALL(IF(($E$2:$E$162)<>\"\",ROW($E$1:$E$161),\"\"),ROW(J79))),\"\")","v":""},{"$f":"IFERROR(INDEX($F$2:$F$162,SMALL(IF(($F$2:$F$162)<>\"\",ROW($F$1:$F$161),\"\"),ROW(K79))),\"\")","v":""}]
[null,null,null,null,null,null,null,null,null,{"$f":"IFERROR(INDEX($E$2:$E$162,SMALL(IF(($E$2:$E$162)<>\"\",ROW($E$1:$E$161),\"\"),ROW(J80))),\"\")","v":""},{"$f":"IFERROR(INDEX($F$2:$F$162,SMALL(IF(($F$2:$F$162)<>\"\",ROW($F$1:$F$161),\"\"),ROW(K80))),\"\")","v":""}]
[null,null,null,null,null,null,null,null,null,{"$f":"IFERROR(INDEX($E$2:$E$162,SMALL(IF(($E$2:$E$162)<>\"\",ROW($E$1:$E$161),\"\"),ROW(J81))),\"\")","v":""},{"$f":"IFERROR(INDEX($F$2:$F$162,SMALL(IF(($F$2:$F$162)<>\"\",ROW($F$1:$F$161),\"\"),ROW(K81))),\"\")","v":""}]
[null,null,null,null,null,null,null,null,null,{"$f":"IFERROR(INDEX($E$2:$E$162,SMALL(IF(($E$2:$E$162)<>\"\",ROW($E$1:$E$161),\"\"),ROW(J82))),\"\")","v":""},{"$f":"IFERROR(INDEX($F$2:$F$162,SMALL(IF(($F$2:$F$162)<>\"\",ROW($F$1:$F$161),\"\"),ROW(K82))),\"\")","v":""}]
[null,null,null,null,null,null,null,null,null,{"$f":"IFERROR(INDEX($E$2:$E$162,SMALL(IF(($E$2:$E$162)<>\"\",ROW($E$1:$E$161),\"\"),ROW(J83))),\"\")","v":""},{"$f":"IFERROR(INDEX($F$2:$F$162,SMALL(IF(($F$2:$F$162)<>\"\",ROW($F$1:$F$161),\"\"),ROW(K83))),\"\")","v":""}]
[null,null,null,null,null,null,null,null,null,{"$f":"IFERROR(INDEX($E$2:$E$162,SMALL(IF(($E$2:$E$162)<>\"\",ROW($E$1:$E$161),\"\"),ROW(J84))),\"\")","v":""},{"$f":"IFERROR(INDEX($F$2:$F$162,SMALL(IF(($F$2:$F$162)<>\"\",ROW($F$1:$F$161),\"\"),ROW(K84))),\"\")","v":""}]
[null,null,null,null,null,null,null,null,null,{"$f":"IFERROR(INDEX($E$2:$E$162,SMALL(IF(($E$2:$E$162)<>\"\",ROW($E$1:$E$161),\"\"),ROW(J85))),\"\")","v":""},{"$f":"IFERROR(INDEX($F$2:$F$162,SMALL(IF(($F$2:$F$162)<>\"\",ROW($F$1:$F$161),\"\"),ROW(K85))),\"\")","v":""}]
[null,null,null,null,null,null,null,null,null,{"$f":"IFERROR(INDEX($E$2:$E$162,SMALL(IF(($E$2:$E$162)<>\"\",ROW($E$1:$E$161),\"\"),ROW(J86))),\"\")","v":""},{"$f":"IFERROR(INDEX($F$2:$F$162,SMALL(IF(($F$2:$F$162)<>\"\",ROW($F$1:$F$161),\"\"),ROW(K86))),\"\")","v":""}]
[null,null,null,null,null,null,null,null,null,{"$f":"IFERROR(INDEX($E$2:$E$162,SMALL(IF(($E$2:$E$162)<>\"\",ROW($E$1:$E$161),\"\"),ROW(J87))),\"\")","v":""},{"$f":"IFERROR(INDEX($F$2:$F$162,SMALL(IF(($F$2:$F$162)<>\"\",ROW($F$1:$F$161),\"\"),ROW(K87))),\"\")","v":""}]
[null,null,null,null,null,null,null,null,null,{"$f":"IFERROR(INDEX($E$2:$E$162,SMALL(IF(($E$2:$E$162)<>\"\",ROW($E$1:$E$161),\"\"),ROW(J88))),\"\")","v":""},{"$f":"IFERROR(INDEX($F$2:$F$162,SMALL(IF(($F$2:$F$162)<>\"\",ROW($F$1:$F$161),\"\"),ROW(K88))),\"\")","v":""}]
[null,null,null,null,null,null,null,null,null,{"$f":"IFERROR(INDEX($E$2:$E$162,SMALL(IF(($E$2:$E$162)<>\"\",ROW($E$1:$E$161),\"\"),ROW(J89))),\"\")","v":""},{"$f":"IFERROR(INDEX($F$2:$F$162,SMALL(IF(($F$2:$F$162)<>\"\",ROW($F$1:$F$161),\"\"),ROW(K89))),\"\")","v":""}]
[null,null,null,null,null,null,null,null,null,{"$f":"IFERROR(INDEX($E$2:$E$162,SMALL(IF(($E$2:$E$162)<>\"\",ROW($E$1:$E$161),\"\"),ROW(J90))),\"\")","v":""},{"$f":"IFERROR(INDEX($F$2:$F$162,SMALL(IF(($F$2:$F$162)<>\"\",ROW($F$1:$F$161),\"\"),ROW(K90))),\"\")","v":""}]
[null,null,null,null,null,null,null,null,null,{"$f":"IFERROR(INDEX($E$2:$E$162,SMALL(IF(($E$2:$E$162)<>\"\",ROW($E$1:$E$161),\"\"),ROW(J91))),\"\")","v":""},{"$f":"IFERROR(INDEX($F$2:$F$162,SMALL(IF(($F$2:$F$162)<>\"\",ROW($F$1:$F$161),\"\"),ROW(K91))),\"\")","v":""}]
[null,null,null,null,null,null,null,null,null,{"$f":"IFERROR(INDEX($E$2:$E$162,SMALL(IF(($E$2:$E$162)<>\"\",ROW($E$1:$E$161),\"\"),ROW(J92))),\"\")","v":""},{"$f":"IFERROR(INDEX($F$2:$F$162,SMALL(IF(($F$2:$F$162)<>\"\",ROW($F$1:$F$161),\"\"),ROW(K92))),\"\")","v":""}]
[null,null,null,null,null,null,null,null,null,{"$f":"IFERROR(INDEX($E$2:$E$162,SMALL(IF(($E$2:$E$162)<>\"\",ROW($E$1:$E$161),\"\"),ROW(J93))),\"\")","v":""},{"$f":"IFERROR(INDEX($F$2:$F$162,SMALL(IF(($F$2:$F$162)<>\"\",ROW($F$1:$F$161),\"\"),ROW(K93))),\"\")","v":""}]
[null,null,null,null,null,null,null,null,null,{"$f":"IFERROR(INDEX($E$2:$E$162,SMALL(IF(($E$2:$E$162)<>\"\",ROW($E$1:$E$161),\"\"),ROW(J94))),\"\")","v":""},{"$f":"IFERROR(INDEX($F$2:$F$162,SMALL(IF(($F$2:$F$162)<>\"\",ROW($F$1:$F$161),\"\"),ROW(K94))),\"\")","v":""}]
[null,null,null,null,null,null,null,null,null,{"$f":"IFERROR(INDEX($E$2:$E$162,SMALL(IF(($E$2:$E$162)<>\"\",ROW($E$1:$E$161),\"\"),ROW(J95))),\"\")","v":""},{"$f":"IFERROR(INDEX($F$2:$F$162,SMALL(IF(($F$2:$F$162)<>\"\",ROW($F$1:$F$161),\"\"),ROW(K95))),\"\")","v":""}]
[null,null,null,null,null,null,null,null,null,{"$f":"IFERROR(INDEX($E$2:$E$162,SMALL(IF(($E$2:$E$162)<>\"\",ROW($E$1:$E$161),\"\"),ROW(J96))),\"\")","v":""},{"$f":"IFERROR(INDEX($F$2:$F$162,SMALL(IF(($F$2:$F$162)<>\"\",ROW($F$1:$F$161),\"\"),ROW(K96))),\"\")","v":""}]
[null,null,null,null,null,null,null,null,null,{"$f":"IFERROR(INDEX($E$2:$E$162,SMALL(IF(($E$2:$E$162)<>\"\",ROW($E$1:$E$161),\"\"),ROW(J97))),\"\")","v":""},{"$f":"IFERROR(INDEX($F$2:$F$162,SMALL(IF(($F$2:$F$162)<>\"\",ROW($F$1:$F$161),\"\"),ROW(K97))),\"\")","v":""}]
[null,null,null,null,null,null,null,null,null,{"$f":"IFERROR(INDEX($E$2:$E$162,SMALL(IF(($E$2:$E$162)<>\"\",ROW($E$1:$E$161),\"\"),ROW(J98))),\"\")","v":""},{"$f":"IFERROR(INDEX($F$2:$F$162,SMALL(IF(($F$2:$F$162)<>\"\",ROW($F$1:$F$161),\"\"),ROW(K98))),\"\")","v":""}]
[null,null,null,null,null,null,null,null,null,{"$f":"IFERROR(INDEX($E$2:$E$162,SMALL(IF(($E$2:$E$162)<>\"\",ROW($E$1:$E$161),\"\"),ROW(J99))),\"\")","v":""},{"$f":"IFERROR(INDEX($F$2:$F$162,SMALL(IF(($F$2:$F$162)<>\"\",ROW($F$1:$F$161),\"\"),ROW(K99))),\"\")","v":""}]
[null,null,null,null,null,null,null,null,null,{"$f":"IFERROR(INDEX($E$2:$E$162,SMALL(IF(($E$2:$E$162)<>\"\",ROW($E$1:$E$161),\"\"),ROW(J100))),\"\")","v":""},{"$f":"IFERROR(INDEX($F$2:$F$162,SMALL(IF(($F$2:$F$162)<>\"\",ROW($F$1:$F$161),\"\"),ROW(K100))),\"\")","v":""}]
[null,null,null,null,null,null,null,null,null,{"$f":"IFERROR(INDEX($E$2:$E$162,SMALL(IF(($E$2:$E$162)<>\"\",ROW($E$1:$E$161),\"\"),ROW(J101))),\"\")","v":""},{"$f":"IFERROR(INDEX($F$2:$F$162,SMALL(IF(($F$2:$F$162)<>\"\",ROW($F$1:$F$161),\"\"),ROW(K101))),\"\")","v":""}]
[null,null,null,null,null,null,null,null,null,{"$f":"IFERROR(INDEX($E$2:$E$162,SMALL(IF(($E$2:$E$162)<>\"\",ROW($E$1:$E$161),\"\"),ROW(J102))),\"\")","v":""},{"$f":"IFERROR(INDEX($F$2:$F$162,SMALL(IF(($F$2:$F$162)<>\"\",ROW($F$1:$F$161),\"\"),ROW(K102))),\"\")","v":""}]
[null,null,null,null,null,null,null,null,null,{"$f":"IFERROR(INDEX($E$2:$E$162,SMALL(IF(($E$2:$E$162)<>\"\",ROW($E$1:$E$161),\"\"),ROW(J103))),\"\")","v":""},{"$f":"IFERROR(INDEX($F$2:$F$162,SMALL(IF(($F$2:$F$162)<>\"\",ROW($F$1:$F$161),\"\"),ROW(K103))),\"\")","v":""}]
[null,null,null,null,null,null,null,null,null,{"$f":"IFERROR(INDEX($E$2:$E$162,SMALL(IF(($E$2:$E$162)<>\"\",ROW($E$1:$E$161),\"\"),ROW(J104))),\"\")","v":""},{"$f":"IFERROR(INDEX($F$2:$F$162,SMALL(IF(($F$2:$F$162)<>\"\",ROW($F$1:$F$161),\"\"),ROW(K104))),\"\")","v":""}]
[null,null,null,null,null,null,null,null,null,{"$f":"IFERROR(INDEX($E$2:$E$162,SMALL(IF(($E$2:$E$162)<>\"\",ROW($E$1:$E$161),\"\"),ROW(J105))),\"\")","v":""},{"$f":"IFERROR(INDEX($F$2:$F$162,SMALL(IF(($F$2:$F$162)<>\"\",ROW($F$1:$F$161),\"\"),ROW(K105))),\"\")","v":""}]
[null,null,null,null,null,null,null,null,null,{"$f":"IFERROR(INDEX($E$2:$E$162,SMALL(IF(($E$2:$E$162)<>\"\",ROW($E$1:$E$161),\"\"),ROW(J106))),\"\")","v":""},{"$f":"IFERROR(INDEX($F$2:$F$162,SMALL(IF(($F$2:$F$162)<>\"\",ROW($F$1:$F$161),\"\"),ROW(K106))),\"\")","v":""}]
[null,null,null,null,null,null,null,null,null,{"$f":"IFERROR(INDEX($E$2:$E$162,SMALL(IF(($E$2:$E$162)<>\"\",ROW($E$1:$E$161),\"\"),ROW(J107))),\"\")","v":""},{"$f":"IFERROR(INDEX($F$2:$F$162,SMALL(IF(($F$2:$F$162)<>\"\",ROW($F$1:$F$161),\"\"),ROW(K107))),\"\")","v":""}]
[null,null,null,null,null,null,null,null,null,{"$f":"IFERROR(INDEX($E$2:$E$162,SMALL(IF(($E$2:$E$162)<>\"\",ROW($E$1:$E$161),\"\"),ROW(J108))),\"\")","v":""},{"$f":"IFERROR(INDEX($F$2:$F$162,SMALL(IF(($F$2:$F$162)<>\"\",ROW($F$1:$F$161),\"\"),ROW(K108))),\"\")","v":""}]
[null,null,null,null,null,null,null,null,null,{"$f":"IFERROR(INDEX($E$2:$E$162,SMALL(IF(($E$2:$E$162)<>\"\",ROW($E$1:$E$161),\"\"),ROW(J109))),\"\")","v":""},{"$f":"IFERROR(INDEX($F$2:$F$162,SMALL(IF(($F$2:$F$162)<>\"\",ROW($F$1:$F$161),\"\"),ROW(K109))),\"\")","v":""}]
[null,null,null,null,null,null,null,null,null,{"$f":"IFERROR(INDEX($E$2:$E$162,SMALL(IF(($E$2:$E$162)<>\"\",ROW($E$1:$E$161),\"\"),ROW(J110))),\"\")","v":""},{"$f":"IFERROR(INDEX($F$2:$F$162,SMALL(IF(($F$2:$F$162)<>\"\",ROW($F$1:$F$161),\"\"),ROW(K110))),\"\")","v":""}]
[null,null,null,null,null,null,null,null,null,{"$f":"IFERROR(INDEX($E$2:$E$162,SMALL(IF(($E$2:$E$162)<>\"\",ROW($E$1:$E$161),\"\"),ROW(J111))),\"\")","v":""},{"$f":"IFERROR(INDEX($F$2:$F$162,SMALL(IF(($F$2:$F$162)<>\"\",ROW($F$1:$F$161),\"\"),ROW(K111))),\"\")","v":""}]
[null,null,null,null,null,null,null,null,null,{"$f":"IFERROR(INDEX($E$2:$E$162,SMALL(IF(($E$2:$E$162)<>\"\",ROW($E$1:$E$161),\"\"),ROW(J112))),\"\")","v":""},{"$f":"IFERROR(INDEX($F$2:$F$162,SMALL(IF(($F$2:$F$162)<>\"\",ROW($F$1:$F$161),\"\"),ROW(K112))),\"\")","v":""}]
[null,null,null,null,null,null,null,null,null,{"$f":"IFERROR(INDEX($E$2:$E$162,SMALL(IF(($E$2:$E$162)<>\"\",ROW($E$1:$E$161),\"\"),ROW(J113))),\"\")","v":""},{"$f":"IFERROR(INDEX($F$2:$F$162,SMALL(IF(($F$2:$F$162)<>\"\",ROW($F$1:$F$161),\"\"),ROW(K113))),\"\")","v":""}]
[null,null,null,null,null,null,null,null,null,{"$f":"IFERROR(INDEX($E$2:$E$162,SMALL(IF(($E$2:$E$162)<>\"\",ROW($E$1:$E$161),\"\"),ROW(J114))),\"\")","v":""},{"$f":"IFERROR(INDEX($F$2:$F$162,SMALL(IF(($F$2:$F$162)<>\"\",ROW($F$1:$F$161),\"\"),ROW(K114))),\"\")","v":""}]
[null,null,null,null,null,null,null,null,null,{"$f":"IFERROR(INDEX($E$2:$E$162,SMALL(IF(($E$2:$E$162)<>\"\",ROW($E$1:$E$161),\"\"),ROW(J115))),\"\")","v":""},{"$f":"IFERROR(INDEX($F$2:$F$162,SMALL(IF(($F$2:$F$162)<>\"\",ROW($F$1:$F$161),\"\"),ROW(K115))),\"\")","v":""}]
[null,null,null,null,null,null,null,null,null,{"$f":"IFERROR(INDEX($E$2:$E$162,SMALL(IF(($E$2:$E$162)<>\"\",ROW($E$1:$E$161),\"\"),ROW(J116))),\"\")","v":""},{"$f":"IFERROR(INDEX($F$2:$F$162,SMALL(IF(($F$2:$F$162)<>\"\",ROW($F$1:$F$161),\"\"),ROW(K116))),\"\")","v":""}]
[null,null,null,null,null,null,null,null,null,{"$f":"IFERROR(INDEX($E$2:$E$162,SMALL(IF(($E$2:$E$162)<>\"\",ROW($E$1:$E$161),\"\"),ROW(J117))),\"\")","v":""},{"$f":"IFERROR(INDEX($F$2:$F$162,SMALL(IF(($F$2:$F$162)<>\"\",ROW($F$1:$F$161),\"\"),ROW(K117))),\"\")","v":""}]
[null,null,null,null,null,null,null,null,null,{"$f":"IFERROR(INDEX($E$2:$E$162,SMALL(IF(($E$2:$E$162)<>\"\",ROW($E$1:$E$161),\"\"),ROW(J118))),\"\")","v":""},{"$f":"IFERROR(INDEX($F$2:$F$162,SMALL(IF(($F$2:$F$162)<>\"\",ROW($F$1:$F$161),\"\"),ROW(K118))),\"\")","v":""}]
[null,null,null,null,null,null,null,null,null,{"$f":"IFERROR(INDEX($E$2:$E$162,SMALL(IF(($E$2:$E$162)<>\"\",ROW($E$1:$E$161),\"\"),ROW(J119))),\"\")","v":""},{"$f":"IFERROR(INDEX($F$2:$F$162,SMALL(IF(($F$2:$F$162)<>\"\",ROW($F$1:$F$161),\"\"),ROW(K119))),\"\")","v":""}]
[null,null,null,null,null,null,null,null,null,{"$f":"IFERROR(INDEX($E$2:$E$162,SMALL(IF(($E$2:$E$162)<>\"\",ROW($E$1:$E$161),\"\"),ROW(J120))),\"\")","v":""},{"$f":"IFERROR(INDEX($F$2:$F$162,SMALL(IF(($F$2:$F$162)<>\"\",ROW($F$1:$F$161),\"\"),ROW(K120))),\"\")","v":""}]
[null,null,null,null,null,null,null,null,null,{"$f":"IFERROR(INDEX($E$2:$E$162,SMALL(IF(($E$2:$E$162)<>\"\",ROW($E$1:$E$161),\"\"),ROW(J121))),\"\")","v":""},{"$f":"IFERROR(INDEX($F$2:$F$162,SMALL(IF(($F$2:$F$162)<>\"\",ROW($F$1:$F$161),\"\"),ROW(K121))),\"\")","v":""}]
[null,null,null,null,null,null,null,null,null,{"$f":"IFERROR(INDEX($E$2:$E$162,SMALL(IF(($E$2:$E$162)<>\"\",ROW($E$1:$E$161),\"\"),ROW(J122))),\"\")","v":""},{"$f":"IFERROR(INDEX($F$2:$F$162,SMALL(IF(($F$2:$F$162)<>\"\",ROW($F$1:$F$161),\"\"),ROW(K122))),\"\")","v":""}]
[null,null,null,null,null,null,null,null,null,{"$f":"IFERROR(INDEX($E$2:$E$162,SMALL(IF(($E$2:$E$162)<>\"\",ROW($E$1:$E$161),\"\"),ROW(J123))),\"\")","v":""},{"$f":"IFERROR(INDEX($F$2:$F$162,SMALL(IF(($F$2:$F$162)<>\"\",ROW($F$1:$F$161),\"\"),ROW(K123))),\"\")","v":""}]
[null,null,null,null,null,null,null,null,null,{"$f":"IFERROR(INDEX($E$2:$E$162,SMALL(IF(($E$2:$E$162)<>\"\",ROW($E$1:$E$161),\"\"),ROW(J124))),\"\")","v":""},{"$f":"IFERROR(INDEX($F$2:$F$162,SMALL(IF(($F$2:$F$162)<>\"\",ROW($F$1:$F$161),\"\"),ROW(K124))),\"\")","v":""}]
[null,null,null,null,null,null,null,null,null,{"$f":"IFERROR(INDEX($E$2:$E$162,SMALL(IF(($E$2:$E$162)<>\"\",ROW($E$1:$E$161),\"\"),ROW(J125))),\"\")","v":""},{"$f":"IFERROR(INDEX($F$2:$F$162,SMALL(IF(($F$2:$F$162)<>\"\",ROW($F$1:$F$161),\"\"),ROW(K125))),\"\")","v":""}]
[null,null,null,null,null,null,null,null,null,{"$f":"IFERROR(INDEX($E$2:$E$162,SMALL(IF(($E$2:$E$162)<>\"\",ROW($E$1:$E$161),\"\"),ROW(J126))),\"\")","v":""},{"$f":"IFERROR(INDEX($F$2:$F$162,SMALL(IF(($F$2:$F$162)<>\"\",ROW($F$1:$F$161),\"\"),ROW(K126))),\"\")","v":""}]
[null,null,null,null,null,null,null,null,null,{"$f":"IFERROR(INDEX($E$2:$E$162,SMALL(IF(($E$2:$E$162)<>\"\",ROW($E$1:$E$161),\"\"),ROW(J127))),\"\")","v":""},{"$f":"IFERROR(INDEX($F$2:$F$162,SMALL(IF(($F$2:$F$162)<>\"\",ROW($F$1:$F$161),\"\"),ROW(K127))),\"\")","v":""}]
[null,null,null,null,null,null,null,null,null,{"$f":"IFERROR(INDEX($E$2:$E$162,SMALL(IF(($E$2:$E$162)<>\"\",ROW($E$1:$E$161),\"\"),ROW(J128))),\"\")","v":""},{"$f":"IFERROR(INDEX($F$2:$F$162,SMALL(IF(($F$2:$F$162)<>\"\",ROW($F$1:$F$161),\"\"),ROW(K128))),\"\")","v":""}]
[null,null,null,null,null,null,null,null,null,{"$f":"IFERROR(INDEX($E$2:$E$162,SMALL(IF(($E$2:$E$162)<>\"\",ROW($E$1:$E$161),\"\"),ROW(J129))),\"\")","v":""},{"$f":"IFERROR(INDEX($F$2:$F$162,SMALL(IF(($F$2:$F$162)<>\"\",ROW($F$1:$F$161),\"\"),ROW(K129))),\"\")","v":""}]
[null,null,null,null,null,null,null,null,null,{"$f":"IFERROR(INDEX($E$2:$E$162,SMALL(IF(($E$2:$E$162)<>\"\",ROW($E$1:$E$161),\"\"),ROW(J130))),\"\")","v":""},{"$f":"IFERROR(INDEX($F$2:$F$162,SMALL(IF(($F$2:$F$162)<>\"\",ROW($F$1:$F$161),\"\"),ROW(K130))),\"\")","v":""}]
[null,null,null,null,null,null,null,null,null,{"$f":"IFERROR(INDEX($E$2:$E$162,SMALL(IF(($E$2:$E$162)<>\"\",ROW($E$1:$E$161),\"\"),ROW(J131))),\"\")","v":""},{"$f":"IFERROR(INDEX($F$2:$F$162,SMALL(IF(($F$2:$F$162)<>\"\",ROW($F$1:$F$161),\"\"),ROW(K131))),\"\")","v":""}]
[null,null,null,null,null,null,null,null,null,{"$f":"IFERROR(INDEX($E$2:$E$162,SMALL(IF(($E$2:$E$162)<>\"\",ROW($E$1:$E$161),\"\"),ROW(J132))),\"\")","v":""},{"$f":"IFERROR(INDEX($F$2:$F$162,SMALL(IF(($F$2:$F$162)<>\"\",ROW($F$1:$F$161),\"\"),ROW(K132))),\"\")","v":""}]
[null,null,null,null,null,null,null,null,null,{"$f":"IFERROR(INDEX($E$2:$E$162,SMALL(IF(($E$2:$E$162)<>\"\",ROW($E$1:$E$161),\"\"),ROW(J133))),\"\")","v":""},{"$f":"IFERROR(INDEX($F$2:$F$162,SMALL(IF(($F$2:$F$162)<>\"\",ROW($F$1:$F$161),\"\"),ROW(K133))),\"\")","v":""}]
[null,null,null,null,null,null,null,null,null,{"$f":"IFERROR(INDEX($E$2:$E$162,SMALL(IF(($E$2:$E$162)<>\"\",ROW($E$1:$E$161),\"\"),ROW(J134))),\"\")","v":""},{"$f":"IFERROR(INDEX($F$2:$F$162,SMALL(IF(($F$2:$F$162)<>\"\",ROW($F$1:$F$161),\"\"),ROW(K134))),\"\")","v":""}]
[null,null,null,null,null,null,null,null,null,{"$f":"IFERROR(INDEX($E$2:$E$162,SMALL(IF(($E$2:$E$162)<>\"\",ROW($E$1:$E$161),\"\"),ROW(J135))),\"\")","v":""},{"$f":"IFERROR(INDEX($F$2:$F$162,SMALL(IF(($F$2:$F$162)<>\"\",ROW($F$1:$F$161),\"\"),ROW(K135))),\"\")","v":""}]
[null,null,null,null,null,null,null,null,null,{"$f":"IFERROR(INDEX($E$2:$E$162,SMALL(IF(($E$2:$E$162)<>\"\",ROW($E$1:$E$161),\"\"),ROW(J136))),\"\")","v":""},{"$f":"IFERROR(INDEX($F$2:$F$162,SMALL(IF(($F$2:$F$162)<>\"\",ROW($F$1:$F$161),\"\"),ROW(K136))),\"\")","v":""}]
[null,null,null,null,null,null,null,null,null,{"$f":"IFERROR(INDEX($E$2:$E$162,SMALL(IF(($E$2:$E$162)<>\"\",ROW($E$1:$E$161),\"\"),ROW(J137))),\"\")","v":""},{"$f":"IFERROR(INDEX($F$2:$F$162,SMALL(IF(($F$2:$F$162)<>\"\",ROW($F$1:$F$161),\"\"),ROW(K137))),\"\")","v":""}]
[null,null,null,null,null,null,null,null,null,{"$f":"IFERROR(INDEX($E$2:$E$162,SMALL(IF(($E$2:$E$162)<>\"\",ROW($E$1:$E$161),\"\"),ROW(J138))),\"\")","v":""},{"$f":"IFERROR(INDEX($F$2:$F$162,SMALL(IF(($F$2:$F$162)<>\"\",ROW($F$1:$F$161),\"\"),ROW(K138))),\"\")","v":""}]
[null,null,null,null,null,null,null,null,null,{"$f":"IFERROR(INDEX($E$2:$E$162,SMALL(IF(($E$2:$E$162)<>\"\",ROW($E$1:$E$161),\"\"),ROW(J139))),\"\")","v":""},{"$f":"IFERROR(INDEX($F$2:$F$162,SMALL(IF(($F$2:$F$162)<>\"\",ROW($F$1:$F$161),\"\"),ROW(K139))),\"\")","v":""}]
[null,null,null,null,null,null,null,null,null,{"$f":"IFERROR(INDEX($E$2:$E$162,SMALL(IF(($E$2:$E$162)<>\"\",ROW($E$1:$E$161),\"\"),ROW(J140))),\"\")","v":""},{"$f":"IFERROR(INDEX($F$2:$F$162,SMALL(IF(($F$2:$F$162)<>\"\",ROW($F$1:$F$161),\"\"),ROW(K140))),\"\")","v":""}]
[null,null,null,null,null,null,null,null,null,{"$f":"IFERROR(INDEX($E$2:$E$162,SMALL(IF(($E$2:$E$162)<>\"\",ROW($E$1:$E$161),\"\"),ROW(J141))),\"\")","v":""},{"$f":"IFERROR(INDEX($F$2:$F$162,SMALL(IF(($F$2:$F$162)<>\"\",ROW($F$1:$F$161),\"\"),ROW(K141))),\"\")","v":""}]
[null,null,null,null,null,null,null,null,null,{"$f":"IFERROR(INDEX($E$2:$E$162,SMALL(IF(($E$2:$E$162)<>\"\",ROW($E$1:$E$161),\"\"),ROW(J142))),\"\")","v":""},{"$f":"IFERROR(INDEX($F$2:$F$162,SMALL(IF(($F$2:$F$162)<>\"\",ROW($F$1:$F$161),\"\"),ROW(K142))),\"\")","v":""}]
[null,null,null,null,null,null,null,null,null,{"$f":"IFERROR(INDEX($E$2:$E$162,SMALL(IF(($E$2:$E$162)<>\"\",ROW($E$1:$E$161),\"\"),ROW(J143))),\"\")","v":""},{"$f":"IFERROR(INDEX($F$2:$F$162,SMALL(IF(($F$2:$F$162)<>\"\",ROW($F$1:$F$161),\"\"),ROW(K143))),\"\")","v":""}]
[null,null,null,null,null,null,null,null,null,{"$f":"IFERROR(INDEX($E$2:$E$162,SMALL(IF(($E$2:$E$162)<>\"\",ROW($E$1:$E$161),\"\"),ROW(J144))),\"\")","v":""},{"$f":"IFERROR(INDEX($F$2:$F$162,SMALL(IF(($F$2:$F$162)<>\"\",ROW($F$1:$F$161),\"\"),ROW(K144))),\"\")","v":""}]
[null,null,null,null,null,null,null,null,null,{"$f":"IFERROR(INDEX($E$2:$E$162,SMALL(IF(($E$2:$E$162)<>\"\",ROW($E$1:$E$161),\"\"),ROW(J145))),\"\")","v":""},{"$f":"IFERROR(INDEX($F$2:$F$162,SMALL(IF(($F$2:$F$162)<>\"\",ROW($F$1:$F$161),\"\"),ROW(K145))),\"\")","v":""}]
[null,null,null,null,null,null,null,null,null,{"$f":"IFERROR(INDEX($E$2:$E$162,SMALL(IF(($E$2:$E$162)<>\"\",ROW($E$1:$E$161),\"\"),ROW(J146))),\"\")","v":""},{"$f":"IFERROR(INDEX($F$2:$F$162,SMALL(IF(($F$2:$F$162)<>\"\",ROW($F$1:$F$161),\"\"),ROW(K146))),\"\")","v":""}]
[null,null,null,null,null,null,null,null,null,{"$f":"IFERROR(INDEX($E$2:$E$162,SMALL(IF(($E$2:$E$162)<>\"\",ROW($E$1:$E$161),\"\"),ROW(J147))),\"\")","v":""},{"$f":"IFERROR(INDEX($F$2:$F$162,SMALL(IF(($F$2:$F$162)<>\"\",ROW($F$1:$F$161),\"\"),ROW(K147))),\"\")","v":""}]
[null,null,null,null,null,null,null,null,null,{"$f":"IFERROR(INDEX($E$2:$E$162,SMALL(IF(($E$2:$E$162)<>\"\",ROW($E$1:$E$161),\"\"),ROW(J148))),\"\")","v":""},{"$f":"IFERROR(INDEX($F$2:$F$162,SMALL(IF(($F$2:$F$162)<>\"\",ROW($F$1:$F$161),\"\"),ROW(K148))),\"\")","v":""}]
[null,null,null,null,null,null,null,null,null,{"$f":"IFERROR(INDEX($E$2:$E$162,SMALL(IF(($E$2:$E$162)<>\"\",ROW($E$1:$E$161),\"\"),ROW(J149))),\"\")","v":""},{"$f":"IFERROR(INDEX($F$2:$F$162,SMALL(IF(($F$2:$F$162)<>\"\",ROW($F$1:$F$161),\"\"),ROW(K149))),\"\")","v":""}]
[null,null,null,null,null,null,null,null,null,{"$f":"IFERROR(INDEX($E$2:$E$162,SMALL(IF(($E$2:$E$162)<>\"\",ROW($E$1:$E$161),\"\"),ROW(J150))),\"\")","v":""},{"$f":"IFERROR(INDEX($F$2:$F$162,SMALL(IF(($F$2:$F$162)<>\"\",ROW($F$1:$F$161),\"\"),ROW(K150))),\"\")","v":""}]
[null,null,null,null,null,null,null,null,null,{"$f":"IFERROR(INDEX($E$2:$E$162,SMALL(IF(($E$2:$E$162)<>\"\",ROW($E$1:$E$161),\"\"),ROW(J151))),\"\")","v":""},{"$f":"IFERROR(INDEX($F$2:$F$162,SMALL(IF(($F$2:$F$162)<>\"\",ROW($F$1:$F$161),\"\"),ROW(K151))),\"\")","v":""}]
[null,null,null,null,null,null,null,null,null,{"$f":"IFERROR(INDEX($E$2:$E$162,SMALL(IF(($E$2:$E$162)<>\"\",ROW($E$1:$E$161),\"\"),ROW(J152))),\"\")","v":""},{"$f":"IFERROR(INDEX($F$2:$F$162,SMALL(IF(($F$2:$F$162)<>\"\",ROW($F$1:$F$161),\"\"),ROW(K152))),\"\")","v":""}]
[null,null,null,null,null,null,null,null,null,{"$f":"IFERROR(INDEX($E$2:$E$162,SMALL(IF(($E$2:$E$162)<>\"\",ROW($E$1:$E$161),\"\"),ROW(J153))),\"\")","v":""},{"$f":"IFERROR(INDEX($F$2:$F$162,SMALL(IF(($F$2:$F$162)<>\"\",ROW($F$1:$F$161),\"\"),ROW(K153))),\"\")","v":""}]
[null,null,null,null,null,null,null,null,null,{"$f":"IFERROR(INDEX($E$2:$E$162,SMALL(IF(($E$2:$E$162)<>\"\",ROW($E$1:$E$161),\"\"),ROW(J154))),\"\")","v":""},{"$f":"IFERROR(INDEX($F$2:$F$162,SMALL(IF(($F$2:$F$162)<>\"\",ROW($F$1:$F$161),\"\"),ROW(K154))),\"\")","v":""}]
[null,null,null,null,null,null,null,null,null,{"$f":"IFERROR(INDEX($E$2:$E$162,SMALL(IF(($E$2:$E$162)<>\"\",ROW($E$1:$E$161),\"\"),ROW(J155))),\"\")","v":""},{"$f":"IFERROR(INDEX($F$2:$F$162,SMALL(IF(($F$2:$F$162)<>\"\",ROW($F$1:$F$161),\"\"),ROW(K155))),\"\")","v":""}]
[null,null,null,null,null,null,null,null,null,{"$f":"IFERROR(INDEX($E$2:$E$162,SMALL(IF(($E$2:$E$162)<>\"\",ROW($E$1:$E$161),\"\"),ROW(J156))),\"\")","v":""},{"$f":"IFERROR(INDEX($F$2:$F$162,SMALL(IF(($F$2:$F$162)<>\"\",ROW($F$1:$F$161),\"\"),ROW(K156))),\"\")","v":""}]
[null,null,null,null,null,null,null,null,null,{"$f":"IFERROR(INDEX($E$2:$E$162,SMALL(IF(($E$2:$E$162)<>\"\",ROW($E$1:$E$161),\"\"),ROW(J157))),\"\")","v":""},{"$f":"IFERROR(INDEX($F$2:$F$162,SMALL(IF(($F$2:$F$162)<>\"\",ROW($F$1:$F$161),\"\"),ROW(K157))),\"\")","v":""}]
[null,null,null,null,null,null,null,null,null,{"$f":"IFERROR(INDEX($E$2:$E$162,SMALL(IF(($E$2:$E$162)<>\"\",ROW($E$1:$E$161),\"\"),ROW(J158))),\"\")","v":""},{"$f":"IFERROR(INDEX($F$2:$F$162,SMALL(IF(($F$2:$F$162)<>\"\",ROW($F$1:$F$161),\"\"),ROW(K158))),\"\")","v":""}]
[null,null,null,null,null,null,null,null,null,{"$f":"IFERROR(INDEX($E$2:$E$162,SMALL(IF(($E$2:$E$162)<>\"\",ROW($E$1:$E$161),\"\"),ROW(J159))),\"\")","v":""},{"$f":"IFERROR(INDEX($F$2:$F$162,SMALL(IF(($F$2:$F$162)<>\"\",ROW($F$1:$F$161),\"\"),ROW(K159))),\"\")","v":""}]
[null,null,null,null,null,null,null,null,null,{"$f":"IFERROR(INDEX($E$2:$E$162,SMALL(IF(($E$2:$E$162)<>\"\",ROW($E$1:$E$161),\"\"),ROW(J160))),\"\")","v":""},{"$f":"IFERROR(INDEX($F$2:$F$162,SMALL(IF(($F$2:$F$162)<>\"\",ROW($F$1:$F$161),\"\"),ROW(K160))),\"\")","v":""}]
[null,null,null,null,null,null,null,null,null,"End","End"]

{"sheet":"Housing List","index":11,"n_rows":552,"n_cols":7,"rows_kept":552,"cut":false,"hidden":true,"merged":[]}
[{"$f":"'Housing Request'!$E$5","v":0},{"$f":"'Female Cabin Roster'!E10","v":0},"F","Leader",{"$f":"'Female Cabin Roster'!$B$8","v":"Female Cabin One"},{"$f":"IF(G1<=6,\"SS\",(IF(G1<300,\"BA\",\"HS\")))","v":{"$error":"#VALUE!"}},{"$f":"INT(LEFT(E1,3))","v":{"$error":"#VALUE!"}}]
[{"$f":"'Housing Request'!$E$5","v":0},{"$f":"'Female Cabin Roster'!E11","v":0},"F","Leader",{"$f":"'Female Cabin Roster'!$B$8","v":"Female Cabin One"},{"$error":"#VALUE!"},{"$error":"#VALUE!"}]
[{"$f":"'Housing Request'!$E$5","v":0},{"$f":"'Female Cabin Roster'!E12","v":0},"F","Leader",{"$f":"'Female Cabin Roster'!$B$8","v":"Female Cabin One"},{"$error":"#VALUE!"},{"$error":"#VALUE!"}]
[{"$f":"'Housing Request'!$E$5","v":0},{"$f":"'Female Cabin Roster'!E13","v":0},"F","Leader",{"$f":"'Female Cabin Roster'!$B$8","v":"Female Cabin One"},{"$error":"#VALUE!"},{"$error":"#VALUE!"}]
[{"$f":"'Housing Request'!$E$5","v":0},{"$f":"'Female Cabin Roster'!E14","v":0},"F","Leader",{"$f":"'Female Cabin Roster'!$B$8","v":"Female Cabin One"},{"$error":"#VALUE!"},{"$error":"#VALUE!"}]
[{"$f":"'Housing Request'!$E$5","v":0},{"$f":"'Female Cabin Roster'!E16","v":0},"F","Camper",{"$f":"'Female Cabin Roster'!$B$8","v":"Female Cabin One"},{"$error":"#VALUE!"},{"$error":"#VALUE!"}]
[{"$f":"'Housing Request'!$E$5","v":0},{"$f":"'Female Cabin Roster'!E17","v":0},"F","Camper",{"$f":"'Female Cabin Roster'!$B$8","v":"Female Cabin One"},{"$error":"#VALUE!"},{"$error":"#VALUE!"}]
[{"$f":"'Housing Request'!$E$5","v":0},{"$f":"'Female Cabin Roster'!E18","v":0},"F","Camper",{"$f":"'Female Cabin Roster'!$B$8","v":"Female Cabin One"},{"$error":"#VALUE!"},{"$error":"#VALUE!"}]
[{"$f":"'Housing Request'!$E$5","v":0},{"$f":"'Female Cabin Roster'!E19","v":0},"F","Camper",{"$f":"'Female Cabin Roster'!$B$8","v":"Female Cabin One"},{"$error":"#VALUE!"},{"$error":"#VALUE!"}]
[{"$f":"'Housing Request'!$E$5","v":0},{"$f":"'Female Cabin Roster'!E20","v":0},"F","Camper",{"$f":"'Female Cabin Roster'!$B$8","v":"Female Cabin One"},{"$error":"#VALUE!"},{"$error":"#VALUE!"}]
[{"$f":"'Housing Request'!$E$5","v":0},{"$f":"'Female Cabin Roster'!E21","v":0},"F","Camper",{"$f":"'Female Cabin Roster'!$B$8","v":"Female Cabin One"},{"$error":"#VALUE!"},{"$error":"#VALUE!"}]
[{"$f":"'Housing Request'!$E$5","v":0},{"$f":"'Female Cabin Roster'!E22","v":0},"F","Camper",{"$f":"'Female Cabin Roster'!$B$8","v":"Female Cabin One"},{"$error":"#VALUE!"},{"$error":"#VALUE!"}]
[{"$f":"'Housing Request'!$E$5","v":0},{"$f":"'Female Cabin Roster'!E23","v":0},"F","Camper",{"$f":"'Female Cabin Roster'!$B$8","v":"Female Cabin One"},{"$error":"#VALUE!"},{"$error":"#VALUE!"}]
[{"$f":"'Housing Request'!$E$5","v":0},{"$f":"'Female Cabin Roster'!E24","v":0},"F","Camper",{"$f":"'Female Cabin Roster'!$B$8","v":"Female Cabin One"},{"$error":"#VALUE!"},{"$error":"#VALUE!"}]
[{"$f":"'Housing Request'!$E$5","v":0},{"$f":"'Female Cabin Roster'!E25","v":0},"F","Camper",{"$f":"'Female Cabin Roster'!$B$8","v":"Female Cabin One"},{"$error":"#VALUE!"},{"$error":"#VALUE!"}]
[{"$f":"'Housing Request'!$E$5","v":0},{"$f":"'Female Cabin Roster'!E26","v":0},"F","Camper",{"$f":"'Female Cabin Roster'!$B$8","v":"Female Cabin One"},{"$error":"#VALUE!"},{"$error":"#VALUE!"}]
[{"$f":"'Housing Request'!$E$5","v":0},{"$f":"'Female Cabin Roster'!E27","v":0},"F","Camper",{"$f":"'Female Cabin Roster'!$B$8","v":"Female Cabin One"},{"$error":"#VALUE!"},{"$error":"#VALUE!"}]
[{"$f":"'Housing Request'!$E$5","v":0},{"$f":"'Female Cabin Roster'!E28","v":0},"F","Camper",{"$f":"'Female Cabin Roster'!$B$8","v":"Female Cabin One"},{"$error":"#VALUE!"},{"$error":"#VALUE!"}]
[{"$f":"'Housing Request'!$E$5","v":0},{"$f":"'Female Cabin Roster'!E29","v":0},"F","Camper",{"$f":"'Female Cabin Roster'!$B$8","v":"Female Cabin One"},{"$error":"#VALUE!"},{"$error":"#VALUE!"}]
[{"$f":"'Housing Request'!$E$5","v":0},{"$f":"'Female Cabin Roster'!E30","v":0},"F","Camper",{"$f":"'Female Cabin Roster'!$B$8","v":"Female Cabin One"},{"$error":"#VALUE!"},{"$error":"#VALUE!"}]
[{"$f":"'Housing Request'!$E$5","v":0},{"$f":"'Female Cabin Roster'!E31","v":0},"F","Camper",{"$f":"'Female Cabin Roster'!$B$8","v":"Female Cabin One"},{"$error":"#VALUE!"},{"$error":"#VALUE!"}]
[{"$f":"'Housing Request'!$E$5","v":0},{"$f":"'Female Cabin Roster'!E32","v":0},"F","Camper",{"$f":"'Female Cabin Roster'!$B$8","v":"Female Cabin One"},{"$error":"#VALUE!"},{"$error":"#VALUE!"}]
[{"$f":"'Housing Request'!$E$5","v":0},{"$f":"'Female Cabin Roster'!E33","v":0},"F","Camper",{"$f":"'Female Cabin Roster'!$B$8","v":"Female Cabin One"},{"$error":"#VALUE!"},{"$error":"#VALUE!"}]
[{"$f":"'Housing Request'!$E$5","v":0},{"$f":"'Female Cabin Roster'!K10","v":0},"F","Leader",{"$f":"'Female Cabin Roster'!$H$8","v":"Female Cabin Two"},{"$error":"#VALUE!"},{"$error":"#VALUE!"}]
[{"$f":"'Housing Request'!$E$5","v":0},{"$f":"'Female Cabin Roster'!K11","v":0},"F","Leader",{"$f":"'Female Cabin Roster'!$H$8","v":"Female Cabin Two"},{"$error":"#VALUE!"},{"$error":"#VALUE!"}]
[{"$f":"'Housing Request'!$E$5","v":0},{"$f":"'Female Cabin Roster'!K12","v":0},"F","Leader",{"$f":"'Female Cabin Roster'!$H$8","v":"Female Cabin Two"},{"$error":"#VALUE!"},{"$error":"#VALUE!"}]
[{"$f":"'Housing Request'!$E$5","v":0},{"$f":"'Female Cabin Roster'!K13","v":0},"F","Leader",{"$f":"'Female Cabin Roster'!$H$8","v":"Female Cabin Two"},{"$error":"#VALUE!"},{"$error":"#VALUE!"}]
[{"$f":"'Housing Request'!$E$5","v":0},{"$f":"'Female Cabin Roster'!K14","v":0},"F","Leader",{"$f":"'Female Cabin Roster'!$H$8","v":"Female Cabin Two"},{"$error":"#VALUE!"},{"$error":"#VALUE!"}]
[{"$f":"'Housing Request'!$E$5","v":0},{"$f":"'Female Cabin Roster'!K16","v":0},"F","Camper",{"$f":"'Female Cabin Roster'!$H$8","v":"Female Cabin Two"},{"$error":"#VALUE!"},{"$error":"#VALUE!"}]
[{"$f":"'Housing Request'!$E$5","v":0},{"$f":"'Female Cabin Roster'!K17","v":0},"F","Camper",{"$f":"'Female Cabin Roster'!$H$8","v":"Female Cabin Two"},{"$error":"#VALUE!"},{"$error":"#VALUE!"}]
[{"$f":"'Housing Request'!$E$5","v":0},{"$f":"'Female Cabin Roster'!K18","v":0},"F","Camper",{"$f":"'Female Cabin Roster'!$H$8","v":"Female Cabin Two"},{"$error":"#VALUE!"},{"$error":"#VALUE!"}]
[{"$f":"'Housing Request'!$E$5","v":0},{"$f":"'Female Cabin Roster'!K19","v":0},"F","Camper",{"$f":"'Female Cabin Roster'!$H$8","v":"Female Cabin Two"},{"$error":"#VALUE!"},{"$error":"#VALUE!"}]
[{"$f":"'Housing Request'!$E$5","v":0},{"$f":"'Female Cabin Roster'!K20","v":0},"F","Camper",{"$f":"'Female Cabin Roster'!$H$8","v":"Female Cabin Two"},{"$error":"#VALUE!"},{"$error":"#VALUE!"}]
[{"$f":"'Housing Request'!$E$5","v":0},{"$f":"'Female Cabin Roster'!K21","v":0},"F","Camper",{"$f":"'Female Cabin Roster'!$H$8","v":"Female Cabin Two"},{"$error":"#VALUE!"},{"$error":"#VALUE!"}]
[{"$f":"'Housing Request'!$E$5","v":0},{"$f":"'Female Cabin Roster'!K22","v":0},"F","Camper",{"$f":"'Female Cabin Roster'!$H$8","v":"Female Cabin Two"},{"$error":"#VALUE!"},{"$error":"#VALUE!"}]
[{"$f":"'Housing Request'!$E$5","v":0},{"$f":"'Female Cabin Roster'!K23","v":0},"F","Camper",{"$f":"'Female Cabin Roster'!$H$8","v":"Female Cabin Two"},{"$error":"#VALUE!"},{"$error":"#VALUE!"}]
[{"$f":"'Housing Request'!$E$5","v":0},{"$f":"'Female Cabin Roster'!K24","v":0},"F","Camper",{"$f":"'Female Cabin Roster'!$H$8","v":"Female Cabin Two"},{"$error":"#VALUE!"},{"$error":"#VALUE!"}]
[{"$f":"'Housing Request'!$E$5","v":0},{"$f":"'Female Cabin Roster'!K25","v":0},"F","Camper",{"$f":"'Female Cabin Roster'!$H$8","v":"Female Cabin Two"},{"$error":"#VALUE!"},{"$error":"#VALUE!"}]
[{"$f":"'Housing Request'!$E$5","v":0},{"$f":"'Female Cabin Roster'!K26","v":0},"F","Camper",{"$f":"'Female Cabin Roster'!$H$8","v":"Female Cabin Two"},{"$error":"#VALUE!"},{"$error":"#VALUE!"}]
[{"$f":"'Housing Request'!$E$5","v":0},{"$f":"'Female Cabin Roster'!K27","v":0},"F","Camper",{"$f":"'Female Cabin Roster'!$H$8","v":"Female Cabin Two"},{"$error":"#VALUE!"},{"$error":"#VALUE!"}]
[{"$f":"'Housing Request'!$E$5","v":0},{"$f":"'Female Cabin Roster'!K28","v":0},"F","Camper",{"$f":"'Female Cabin Roster'!$H$8","v":"Female Cabin Two"},{"$error":"#VALUE!"},{"$error":"#VALUE!"}]
[{"$f":"'Housing Request'!$E$5","v":0},{"$f":"'Female Cabin Roster'!K29","v":0},"F","Camper",{"$f":"'Female Cabin Roster'!$H$8","v":"Female Cabin Two"},{"$error":"#VALUE!"},{"$error":"#VALUE!"}]
[{"$f":"'Housing Request'!$E$5","v":0},{"$f":"'Female Cabin Roster'!K30","v":0},"F","Camper",{"$f":"'Female Cabin Roster'!$H$8","v":"Female Cabin Two"},{"$error":"#VALUE!"},{"$error":"#VALUE!"}]
[{"$f":"'Housing Request'!$E$5","v":0},{"$f":"'Female Cabin Roster'!K31","v":0},"F","Camper",{"$f":"'Female Cabin Roster'!$H$8","v":"Female Cabin Two"},{"$error":"#VALUE!"},{"$error":"#VALUE!"}]
[{"$f":"'Housing Request'!$E$5","v":0},{"$f":"'Female Cabin Roster'!K32","v":0},"F","Camper",{"$f":"'Female Cabin Roster'!$H$8","v":"Female Cabin Two"},{"$error":"#VALUE!"},{"$error":"#VALUE!"}]
[{"$f":"'Housing Request'!$E$5","v":0},{"$f":"'Female Cabin Roster'!K33","v":0},"F","Camper",{"$f":"'Female Cabin Roster'!$H$8","v":"Female Cabin Two"},{"$error":"#VALUE!"},{"$error":"#VALUE!"}]
[{"$f":"'Housing Request'!$E$5","v":0},{"$f":"'Female Cabin Roster'!Q10","v":0},"F","Leader",{"$f":"'Female Cabin Roster'!$N$8","v":"Female Cabin Three"},{"$error":"#VALUE!"},{"$error":"#VALUE!"}]
[{"$f":"'Housing Request'!$E$5","v":0},{"$f":"'Female Cabin Roster'!Q11","v":0},"F","Leader",{"$f":"'Female Cabin Roster'!$N$8","v":"Female Cabin Three"},{"$error":"#VALUE!"},{"$error":"#VALUE!"}]
[{"$f":"'Housing Request'!$E$5","v":0},{"$f":"'Female Cabin Roster'!Q12","v":0},"F","Leader",{"$f":"'Female Cabin Roster'!$N$8","v":"Female Cabin Three"},{"$error":"#VALUE!"},{"$error":"#VALUE!"}]
[{"$f":"'Housing Request'!$E$5","v":0},{"$f":"'Female Cabin Roster'!Q13","v":0},"F","Leader",{"$f":"'Female Cabin Roster'!$N$8","v":"Female Cabin Three"},{"$error":"#VALUE!"},{"$error":"#VALUE!"}]
[{"$f":"'Housing Request'!$E$5","v":0},{"$f":"'Female Cabin Roster'!Q14","v":0},"F","Leader",{"$f":"'Female Cabin Roster'!$N$8","v":"Female Cabin Three"},{"$error":"#VALUE!"},{"$error":"#VALUE!"}]
[{"$f":"'Housing Request'!$E$5","v":0},{"$f":"'Female Cabin Roster'!Q16","v":0},"F","Camper",{"$f":"'Female Cabin Roster'!$N$8","v":"Female Cabin Three"},{"$error":"#VALUE!"},{"$error":"#VALUE!"}]
[{"$f":"'Housing Request'!$E$5","v":0},{"$f":"'Female Cabin Roster'!Q17","v":0},"F","Camper",{"$f":"'Female Cabin Roster'!$N$8","v":"Female Cabin Three"},{"$error":"#VALUE!"},{"$error":"#VALUE!"}]
[{"$f":"'Housing Request'!$E$5","v":0},{"$f":"'Female Cabin Roster'!Q18","v":0},"F","Camper",{"$f":"'Female Cabin Roster'!$N$8","v":"Female Cabin Three"},{"$error":"#VALUE!"},{"$error":"#VALUE!"}]
[{"$f":"'Housing Request'!$E$5","v":0},{"$f":"'Female Cabin Roster'!Q19","v":0},"F","Camper",{"$f":"'Female Cabin Roster'!$N$8","v":"Female Cabin Three"},{"$error":"#VALUE!"},{"$error":"#VALUE!"}]
[{"$f":"'Housing Request'!$E$5","v":0},{"$f":"'Female Cabin Roster'!Q20","v":0},"F","Camper",{"$f":"'Female Cabin Roster'!$N$8","v":"Female Cabin Three"},{"$error":"#VALUE!"},{"$error":"#VALUE!"}]
[{"$f":"'Housing Request'!$E$5","v":0},{"$f":"'Female Cabin Roster'!Q21","v":0},"F","Camper",{"$f":"'Female Cabin Roster'!$N$8","v":"Female Cabin Three"},{"$error":"#VALUE!"},{"$error":"#VALUE!"}]
[{"$f":"'Housing Request'!$E$5","v":0},{"$f":"'Female Cabin Roster'!Q22","v":0},"F","Camper",{"$f":"'Female Cabin Roster'!$N$8","v":"Female Cabin Three"},{"$error":"#VALUE!"},{"$error":"#VALUE!"}]
[{"$f":"'Housing Request'!$E$5","v":0},{"$f":"'Female Cabin Roster'!Q23","v":0},"F","Camper",{"$f":"'Female Cabin Roster'!$N$8","v":"Female Cabin Three"},{"$error":"#VALUE!"},{"$error":"#VALUE!"}]
[{"$f":"'Housing Request'!$E$5","v":0},{"$f":"'Female Cabin Roster'!Q24","v":0},"F","Camper",{"$f":"'Female Cabin Roster'!$N$8","v":"Female Cabin Three"},{"$error":"#VALUE!"},{"$error":"#VALUE!"}]
[{"$f":"'Housing Request'!$E$5","v":0},{"$f":"'Female Cabin Roster'!Q25","v":0},"F","Camper",{"$f":"'Female Cabin Roster'!$N$8","v":"Female Cabin Three"},{"$error":"#VALUE!"},{"$error":"#VALUE!"}]
[{"$f":"'Housing Request'!$E$5","v":0},{"$f":"'Female Cabin Roster'!Q26","v":0},"F","Camper",{"$f":"'Female Cabin Roster'!$N$8","v":"Female Cabin Three"},{"$error":"#VALUE!"},{"$error":"#VALUE!"}]
[{"$f":"'Housing Request'!$E$5","v":0},{"$f":"'Female Cabin Roster'!Q27","v":0},"F","Camper",{"$f":"'Female Cabin Roster'!$N$8","v":"Female Cabin Three"},{"$error":"#VALUE!"},{"$error":"#VALUE!"}]
[{"$f":"'Housing Request'!$E$5","v":0},{"$f":"'Female Cabin Roster'!Q28","v":0},"F","Camper",{"$f":"'Female Cabin Roster'!$N$8","v":"Female Cabin Three"},{"$error":"#VALUE!"},{"$error":"#VALUE!"}]
[{"$f":"'Housing Request'!$E$5","v":0},{"$f":"'Female Cabin Roster'!Q29","v":0},"F","Camper",{"$f":"'Female Cabin Roster'!$N$8","v":"Female Cabin Three"},{"$f":"IF(G65<=6,\"SS\",(IF(G65<300,\"BA\",\"HS\")))","v":{"$error":"#VALUE!"}},{"$f":"INT(LEFT(E65,3))","v":{"$error":"#VALUE!"}}]
[{"$f":"'Housing Request'!$E$5","v":0},{"$f":"'Female Cabin Roster'!Q30","v":0},"F","Camper",{"$f":"'Female Cabin Roster'!$N$8","v":"Female Cabin Three"},{"$error":"#VALUE!"},{"$error":"#VALUE!"}]
[{"$f":"'Housing Request'!$E$5","v":0},{"$f":"'Female Cabin Roster'!Q31","v":0},"F","Camper",{"$f":"'Female Cabin Roster'!$N$8","v":"Female Cabin Three"},{"$error":"#VALUE!"},{"$error":"#VALUE!"}]
[{"$f":"'Housing Request'!$E$5","v":0},{"$f":"'Female Cabin Roster'!Q32","v":0},"F","Camper",{"$f":"'Female Cabin Roster'!$N$8","v":"Female Cabin Three"},{"$error":"#VALUE!"},{"$error":"#VALUE!"}]
[{"$f":"'Housing Request'!$E$5","v":0},{"$f":"'Female Cabin Roster'!Q33","v":0},"F","Camper",{"$f":"'Female Cabin Roster'!$N$8","v":"Female Cabin Three"},{"$error":"#VALUE!"},{"$error":"#VALUE!"}]
[{"$f":"'Housing Request'!$E$5","v":0},{"$f":"'Female Cabin Roster'!#REF!","v":{"$error":"#REF!"}},"F","Leader",{"$f":"'Female Cabin Roster'!#REF!","v":{"$error":"#REF!"}},{"$error":"#REF!"},{"$error":"#REF!"}]
[{"$f":"'Housing Request'!$E$5","v":0},{"$f":"'Female Cabin Roster'!#REF!","v":{"$error":"#REF!"}},"F","Leader",{"$f":"'Female Cabin Roster'!#REF!","v":{"$error":"#REF!"}},{"$error":"#REF!"},{"$error":"#REF!"}]
[{"$f":"'Housing Request'!$E$5","v":0},{"$f":"'Female Cabin Roster'!#REF!","v":{"$error":"#REF!"}},"F","Leader",{"$f":"'Female Cabin Roster'!#REF!","v":{"$error":"#REF!"}},{"$error":"#REF!"},{"$error":"#REF!"}]
[{"$f":"'Housing Request'!$E$5","v":0},{"$f":"'Female Cabin Roster'!#REF!","v":{"$error":"#REF!"}},"F","Leader",{"$f":"'Female Cabin Roster'!#REF!","v":{"$error":"#REF!"}},{"$error":"#REF!"},{"$error":"#REF!"}]
[{"$f":"'Housing Request'!$E$5","v":0},{"$f":"'Female Cabin Roster'!#REF!","v":{"$error":"#REF!"}},"F","Leader",{"$f":"'Female Cabin Roster'!#REF!","v":{"$error":"#REF!"}},{"$error":"#REF!"},{"$error":"#REF!"}]
[{"$f":"'Housing Request'!$E$5","v":0},{"$f":"'Female Cabin Roster'!#REF!","v":{"$error":"#REF!"}},"F","Camper",{"$f":"'Female Cabin Roster'!#REF!","v":{"$error":"#REF!"}},{"$error":"#REF!"},{"$error":"#REF!"}]
[{"$f":"'Housing Request'!$E$5","v":0},{"$f":"'Female Cabin Roster'!#REF!","v":{"$error":"#REF!"}},"F","Camper",{"$f":"'Female Cabin Roster'!#REF!","v":{"$error":"#REF!"}},{"$error":"#REF!"},{"$error":"#REF!"}]
[{"$f":"'Housing Request'!$E$5","v":0},{"$f":"'Female Cabin Roster'!#REF!","v":{"$error":"#REF!"}},"F","Camper",{"$f":"'Female Cabin Roster'!#REF!","v":{"$error":"#REF!"}},{"$error":"#REF!"},{"$error":"#REF!"}]
[{"$f":"'Housing Request'!$E$5","v":0},{"$f":"'Female Cabin Roster'!#REF!","v":{"$error":"#REF!"}},"F","Camper",{"$f":"'Female Cabin Roster'!#REF!","v":{"$error":"#REF!"}},{"$error":"#REF!"},{"$error":"#REF!"}]
[{"$f":"'Housing Request'!$E$5","v":0},{"$f":"'Female Cabin Roster'!#REF!","v":{"$error":"#REF!"}},"F","Camper",{"$f":"'Female Cabin Roster'!#REF!","v":{"$error":"#REF!"}},{"$error":"#REF!"},{"$error":"#REF!"}]
[{"$f":"'Housing Request'!$E$5","v":0},{"$f":"'Female Cabin Roster'!#REF!","v":{"$error":"#REF!"}},"F","Camper",{"$f":"'Female Cabin Roster'!#REF!","v":{"$error":"#REF!"}},{"$error":"#REF!"},{"$error":"#REF!"}]
[{"$f":"'Housing Request'!$E$5","v":0},{"$f":"'Female Cabin Roster'!#REF!","v":{"$error":"#REF!"}},"F","Camper",{"$f":"'Female Cabin Roster'!#REF!","v":{"$error":"#REF!"}},{"$error":"#REF!"},{"$error":"#REF!"}]
[{"$f":"'Housing Request'!$E$5","v":0},{"$f":"'Female Cabin Roster'!#REF!","v":{"$error":"#REF!"}},"F","Camper",{"$f":"'Female Cabin Roster'!#REF!","v":{"$error":"#REF!"}},{"$error":"#REF!"},{"$error":"#REF!"}]
[{"$f":"'Housing Request'!$E$5","v":0},{"$f":"'Female Cabin Roster'!#REF!","v":{"$error":"#REF!"}},"F","Camper",{"$f":"'Female Cabin Roster'!#REF!","v":{"$error":"#REF!"}},{"$error":"#REF!"},{"$error":"#REF!"}]
[{"$f":"'Housing Request'!$E$5","v":0},{"$f":"'Female Cabin Roster'!#REF!","v":{"$error":"#REF!"}},"F","Camper",{"$f":"'Female Cabin Roster'!#REF!","v":{"$error":"#REF!"}},{"$error":"#REF!"},{"$error":"#REF!"}]
[{"$f":"'Housing Request'!$E$5","v":0},{"$f":"'Female Cabin Roster'!#REF!","v":{"$error":"#REF!"}},"F","Camper",{"$f":"'Female Cabin Roster'!#REF!","v":{"$error":"#REF!"}},{"$error":"#REF!"},{"$error":"#REF!"}]
[{"$f":"'Housing Request'!$E$5","v":0},{"$f":"'Female Cabin Roster'!#REF!","v":{"$error":"#REF!"}},"F","Camper",{"$f":"'Female Cabin Roster'!#REF!","v":{"$error":"#REF!"}},{"$error":"#REF!"},{"$error":"#REF!"}]
[{"$f":"'Housing Request'!$E$5","v":0},{"$f":"'Female Cabin Roster'!#REF!","v":{"$error":"#REF!"}},"F","Camper",{"$f":"'Female Cabin Roster'!#REF!","v":{"$error":"#REF!"}},{"$error":"#REF!"},{"$error":"#REF!"}]
[{"$f":"'Housing Request'!$E$5","v":0},{"$f":"'Female Cabin Roster'!#REF!","v":{"$error":"#REF!"}},"F","Camper",{"$f":"'Female Cabin Roster'!#REF!","v":{"$error":"#REF!"}},{"$error":"#REF!"},{"$error":"#REF!"}]
[{"$f":"'Housing Request'!$E$5","v":0},{"$f":"'Female Cabin Roster'!#REF!","v":{"$error":"#REF!"}},"F","Camper",{"$f":"'Female Cabin Roster'!#REF!","v":{"$error":"#REF!"}},{"$error":"#REF!"},{"$error":"#REF!"}]
[{"$f":"'Housing Request'!$E$5","v":0},{"$f":"'Female Cabin Roster'!#REF!","v":{"$error":"#REF!"}},"F","Camper",{"$f":"'Female Cabin Roster'!#REF!","v":{"$error":"#REF!"}},{"$error":"#REF!"},{"$error":"#REF!"}]
[{"$f":"'Housing Request'!$E$5","v":0},{"$f":"'Female Cabin Roster'!#REF!","v":{"$error":"#REF!"}},"F","Camper",{"$f":"'Female Cabin Roster'!#REF!","v":{"$error":"#REF!"}},{"$error":"#REF!"},{"$error":"#REF!"}]
[{"$f":"'Housing Request'!$E$5","v":0},{"$f":"'Female Cabin Roster'!#REF!","v":{"$error":"#REF!"}},"F","Camper",{"$f":"'Female Cabin Roster'!#REF!","v":{"$error":"#REF!"}},{"$error":"#REF!"},{"$error":"#REF!"}]
[{"$f":"'Housing Request'!$E$5","v":0},{"$f":"'Female Cabin Roster'!#REF!","v":{"$error":"#REF!"}},"F","Leader",{"$f":"'Female Cabin Roster'!#REF!","v":{"$error":"#REF!"}},{"$error":"#REF!"},{"$error":"#REF!"}]
[{"$f":"'Housing Request'!$E$5","v":0},{"$f":"'Female Cabin Roster'!#REF!","v":{"$error":"#REF!"}},"F","Leader",{"$f":"'Female Cabin Roster'!#REF!","v":{"$error":"#REF!"}},{"$error":"#REF!"},{"$error":"#REF!"}]
[{"$f":"'Housing Request'!$E$5","v":0},{"$f":"'Female Cabin Roster'!#REF!","v":{"$error":"#REF!"}},"F","Leader",{"$f":"'Female Cabin Roster'!#REF!","v":{"$error":"#REF!"}},{"$error":"#REF!"},{"$error":"#REF!"}]
[{"$f":"'Housing Request'!$E$5","v":0},{"$f":"'Female Cabin Roster'!#REF!","v":{"$error":"#REF!"}},"F","Leader",{"$f":"'Female Cabin Roster'!#REF!","v":{"$error":"#REF!"}},{"$error":"#REF!"},{"$error":"#REF!"}]
[{"$f":"'Housing Request'!$E$5","v":0},{"$f":"'Female Cabin Roster'!#REF!","v":{"$error":"#REF!"}},"F","Leader",{"$f":"'Female Cabin Roster'!#REF!","v":{"$error":"#REF!"}},{"$error":"#REF!"},{"$error":"#REF!"}]
[{"$f":"'Housing Request'!$E$5","v":0},{"$f":"'Female Cabin Roster'!#REF!","v":{"$error":"#REF!"}},"F","Camper",{"$f":"'Female Cabin Roster'!#REF!","v":{"$error":"#REF!"}},{"$error":"#REF!"},{"$error":"#REF!"}]
[{"$f":"'Housing Request'!$E$5","v":0},{"$f":"'Female Cabin Roster'!#REF!","v":{"$error":"#REF!"}},"F","Camper",{"$f":"'Female Cabin Roster'!#REF!","v":{"$error":"#REF!"}},{"$error":"#REF!"},{"$error":"#REF!"}]
[{"$f":"'Housing Request'!$E$5","v":0},{"$f":"'Female Cabin Roster'!#REF!","v":{"$error":"#REF!"}},"F","Camper",{"$f":"'Female Cabin Roster'!#REF!","v":{"$error":"#REF!"}},{"$error":"#REF!"},{"$error":"#REF!"}]
[{"$f":"'Housing Request'!$E$5","v":0},{"$f":"'Female Cabin Roster'!#REF!","v":{"$error":"#REF!"}},"F","Camper",{"$f":"'Female Cabin Roster'!#REF!","v":{"$error":"#REF!"}},{"$error":"#REF!"},{"$error":"#REF!"}]
[{"$f":"'Housing Request'!$E$5","v":0},{"$f":"'Female Cabin Roster'!#REF!","v":{"$error":"#REF!"}},"F","Camper",{"$f":"'Female Cabin Roster'!#REF!","v":{"$error":"#REF!"}},{"$error":"#REF!"},{"$error":"#REF!"}]
[{"$f":"'Housing Request'!$E$5","v":0},{"$f":"'Female Cabin Roster'!#REF!","v":{"$error":"#REF!"}},"F","Camper",{"$f":"'Female Cabin Roster'!#REF!","v":{"$error":"#REF!"}},{"$error":"#REF!"},{"$error":"#REF!"}]
[{"$f":"'Housing Request'!$E$5","v":0},{"$f":"'Female Cabin Roster'!#REF!","v":{"$error":"#REF!"}},"F","Camper",{"$f":"'Female Cabin Roster'!#REF!","v":{"$error":"#REF!"}},{"$error":"#REF!"},{"$error":"#REF!"}]
[{"$f":"'Housing Request'!$E$5","v":0},{"$f":"'Female Cabin Roster'!#REF!","v":{"$error":"#REF!"}},"F","Camper",{"$f":"'Female Cabin Roster'!#REF!","v":{"$error":"#REF!"}},{"$error":"#REF!"},{"$error":"#REF!"}]
[{"$f":"'Housing Request'!$E$5","v":0},{"$f":"'Female Cabin Roster'!#REF!","v":{"$error":"#REF!"}},"F","Camper",{"$f":"'Female Cabin Roster'!#REF!","v":{"$error":"#REF!"}},{"$error":"#REF!"},{"$error":"#REF!"}]
[{"$f":"'Housing Request'!$E$5","v":0},{"$f":"'Female Cabin Roster'!#REF!","v":{"$error":"#REF!"}},"F","Camper",{"$f":"'Female Cabin Roster'!#REF!","v":{"$error":"#REF!"}},{"$error":"#REF!"},{"$error":"#REF!"}]
[{"$f":"'Housing Request'!$E$5","v":0},{"$f":"'Female Cabin Roster'!#REF!","v":{"$error":"#REF!"}},"F","Camper",{"$f":"'Female Cabin Roster'!#REF!","v":{"$error":"#REF!"}},{"$error":"#REF!"},{"$error":"#REF!"}]
[{"$f":"'Housing Request'!$E$5","v":0},{"$f":"'Female Cabin Roster'!#REF!","v":{"$error":"#REF!"}},"F","Camper",{"$f":"'Female Cabin Roster'!#REF!","v":{"$error":"#REF!"}},{"$error":"#REF!"},{"$error":"#REF!"}]
[{"$f":"'Housing Request'!$E$5","v":0},{"$f":"'Female Cabin Roster'!#REF!","v":{"$error":"#REF!"}},"F","Camper",{"$f":"'Female Cabin Roster'!#REF!","v":{"$error":"#REF!"}},{"$error":"#REF!"},{"$error":"#REF!"}]
[{"$f":"'Housing Request'!$E$5","v":0},{"$f":"'Female Cabin Roster'!#REF!","v":{"$error":"#REF!"}},"F","Camper",{"$f":"'Female Cabin Roster'!#REF!","v":{"$error":"#REF!"}},{"$error":"#REF!"},{"$error":"#REF!"}]
[{"$f":"'Housing Request'!$E$5","v":0},{"$f":"'Female Cabin Roster'!#REF!","v":{"$error":"#REF!"}},"F","Camper",{"$f":"'Female Cabin Roster'!#REF!","v":{"$error":"#REF!"}},{"$error":"#REF!"},{"$error":"#REF!"}]
[{"$f":"'Housing Request'!$E$5","v":0},{"$f":"'Female Cabin Roster'!#REF!","v":{"$error":"#REF!"}},"F","Camper",{"$f":"'Female Cabin Roster'!#REF!","v":{"$error":"#REF!"}},{"$error":"#REF!"},{"$error":"#REF!"}]
[{"$f":"'Housing Request'!$E$5","v":0},{"$f":"'Female Cabin Roster'!#REF!","v":{"$error":"#REF!"}},"F","Camper",{"$f":"'Female Cabin Roster'!#REF!","v":{"$error":"#REF!"}},{"$error":"#REF!"},{"$error":"#REF!"}]
[{"$f":"'Housing Request'!$E$5","v":0},{"$f":"'Female Cabin Roster'!#REF!","v":{"$error":"#REF!"}},"F","Camper",{"$f":"'Female Cabin Roster'!#REF!","v":{"$error":"#REF!"}},{"$error":"#REF!"},{"$error":"#REF!"}]
[{"$f":"'Housing Request'!$E$5","v":0},{"$f":"'Female Cabin Roster'!#REF!","v":{"$error":"#REF!"}},"F","Leader",{"$f":"'Female Cabin Roster'!#REF!","v":{"$error":"#REF!"}},{"$error":"#REF!"},{"$error":"#REF!"}]
[{"$f":"'Housing Request'!$E$5","v":0},{"$f":"'Female Cabin Roster'!#REF!","v":{"$error":"#REF!"}},"F","Leader",{"$f":"'Female Cabin Roster'!#REF!","v":{"$error":"#REF!"}},{"$error":"#REF!"},{"$error":"#REF!"}]
[{"$f":"'Housing Request'!$E$5","v":0},{"$f":"'Female Cabin Roster'!#REF!","v":{"$error":"#REF!"}},"F","Leader",{"$f":"'Female Cabin Roster'!#REF!","v":{"$error":"#REF!"}},{"$error":"#REF!"},{"$error":"#REF!"}]
[{"$f":"'Housing Request'!$E$5","v":0},{"$f":"'Female Cabin Roster'!#REF!","v":{"$error":"#REF!"}},"F","Leader",{"$f":"'Female Cabin Roster'!#REF!","v":{"$error":"#REF!"}},{"$error":"#REF!"},{"$error":"#REF!"}]
[{"$f":"'Housing Request'!$E$5","v":0},{"$f":"'Female Cabin Roster'!#REF!","v":{"$error":"#REF!"}},"F","Leader",{"$f":"'Female Cabin Roster'!#REF!","v":{"$error":"#REF!"}},{"$error":"#REF!"},{"$error":"#REF!"}]
[{"$f":"'Housing Request'!$E$5","v":0},{"$f":"'Female Cabin Roster'!#REF!","v":{"$error":"#REF!"}},"F","Camper",{"$f":"'Female Cabin Roster'!#REF!","v":{"$error":"#REF!"}},{"$error":"#REF!"},{"$error":"#REF!"}]
[{"$f":"'Housing Request'!$E$5","v":0},{"$f":"'Female Cabin Roster'!#REF!","v":{"$error":"#REF!"}},"F","Camper",{"$f":"'Female Cabin Roster'!#REF!","v":{"$error":"#REF!"}},{"$error":"#REF!"},{"$error":"#REF!"}]
[{"$f":"'Housing Request'!$E$5","v":0},{"$f":"'Female Cabin Roster'!#REF!","v":{"$error":"#REF!"}},"F","Camper",{"$f":"'Female Cabin Roster'!#REF!","v":{"$error":"#REF!"}},{"$error":"#REF!"},{"$error":"#REF!"}]
[{"$f":"'Housing Request'!$E$5","v":0},{"$f":"'Female Cabin Roster'!#REF!","v":{"$error":"#REF!"}},"F","Camper",{"$f":"'Female Cabin Roster'!#REF!","v":{"$error":"#REF!"}},{"$error":"#REF!"},{"$error":"#REF!"}]
[{"$f":"'Housing Request'!$E$5","v":0},{"$f":"'Female Cabin Roster'!#REF!","v":{"$error":"#REF!"}},"F","Camper",{"$f":"'Female Cabin Roster'!#REF!","v":{"$error":"#REF!"}},{"$error":"#REF!"},{"$error":"#REF!"}]
[{"$f":"'Housing Request'!$E$5","v":0},{"$f":"'Female Cabin Roster'!#REF!","v":{"$error":"#REF!"}},"F","Camper",{"$f":"'Female Cabin Roster'!#REF!","v":{"$error":"#REF!"}},{"$error":"#REF!"},{"$error":"#REF!"}]
[{"$f":"'Housing Request'!$E$5","v":0},{"$f":"'Female Cabin Roster'!#REF!","v":{"$error":"#REF!"}},"F","Camper",{"$f":"'Female Cabin Roster'!#REF!","v":{"$error":"#REF!"}},{"$error":"#REF!"},{"$error":"#REF!"}]
[{"$f":"'Housing Request'!$E$5","v":0},{"$f":"'Female Cabin Roster'!#REF!","v":{"$error":"#REF!"}},"F","Camper",{"$f":"'Female Cabin Roster'!#REF!","v":{"$error":"#REF!"}},{"$error":"#REF!"},{"$error":"#REF!"}]
[{"$f":"'Housing Request'!$E$5","v":0},{"$f":"'Female Cabin Roster'!#REF!","v":{"$error":"#REF!"}},"F","Camper",{"$f":"'Female Cabin Roster'!#REF!","v":{"$error":"#REF!"}},{"$f":"IF(G129<=6,\"SS\",(IF(G129<300,\"BA\",\"HS\")))","v":{"$error":"#REF!"}},{"$f":"INT(LEFT(E129,3))","v":{"$error":"#REF!"}}]
[{"$f":"'Housing Request'!$E$5","v":0},{"$f":"'Female Cabin Roster'!#REF!","v":{"$error":"#REF!"}},"F","Camper",{"$f":"'Female Cabin Roster'!#REF!","v":{"$error":"#REF!"}},{"$error":"#REF!"},{"$error":"#REF!"}]
[{"$f":"'Housing Request'!$E$5","v":0},{"$f":"'Female Cabin Roster'!#REF!","v":{"$error":"#REF!"}},"F","Camper",{"$f":"'Female Cabin Roster'!#REF!","v":{"$error":"#REF!"}},{"$error":"#REF!"},{"$error":"#REF!"}]
[{"$f":"'Housing Request'!$E$5","v":0},{"$f":"'Female Cabin Roster'!#REF!","v":{"$error":"#REF!"}},"F","Camper",{"$f":"'Female Cabin Roster'!#REF!","v":{"$error":"#REF!"}},{"$error":"#REF!"},{"$error":"#REF!"}]
[{"$f":"'Housing Request'!$E$5","v":0},{"$f":"'Female Cabin Roster'!#REF!","v":{"$error":"#REF!"}},"F","Camper",{"$f":"'Female Cabin Roster'!#REF!","v":{"$error":"#REF!"}},{"$error":"#REF!"},{"$error":"#REF!"}]
[{"$f":"'Housing Request'!$E$5","v":0},{"$f":"'Female Cabin Roster'!#REF!","v":{"$error":"#REF!"}},"F","Camper",{"$f":"'Female Cabin Roster'!#REF!","v":{"$error":"#REF!"}},{"$error":"#REF!"},{"$error":"#REF!"}]
[{"$f":"'Housing Request'!$E$5","v":0},{"$f":"'Female Cabin Roster'!#REF!","v":{"$error":"#REF!"}},"F","Camper",{"$f":"'Female Cabin Roster'!#REF!","v":{"$error":"#REF!"}},{"$error":"#REF!"},{"$error":"#REF!"}]
[{"$f":"'Housing Request'!$E$5","v":0},{"$f":"'Female Cabin Roster'!#REF!","v":{"$error":"#REF!"}},"F","Camper",{"$f":"'Female Cabin Roster'!#REF!","v":{"$error":"#REF!"}},{"$error":"#REF!"},{"$error":"#REF!"}]
[{"$f":"'Housing Request'!$E$5","v":0},{"$f":"'Female Cabin Roster'!#REF!","v":{"$error":"#REF!"}},"F","Camper",{"$f":"'Female Cabin Roster'!#REF!","v":{"$error":"#REF!"}},{"$error":"#REF!"},{"$error":"#REF!"}]
[{"$f":"'Housing Request'!$E$5","v":0},{"$f":"'Female Cabin Roster'!#REF!","v":{"$error":"#REF!"}},"F","Camper",{"$f":"'Female Cabin Roster'!#REF!","v":{"$error":"#REF!"}},{"$error":"#REF!"},{"$error":"#REF!"}]
[{"$f":"'Housing Request'!$E$5","v":0},{"$f":"'Female Cabin Roster'!#REF!","v":{"$error":"#REF!"}},"F","Leader",{"$f":"'Female Cabin Roster'!#REF!","v":{"$error":"#REF!"}},{"$error":"#REF!"},{"$error":"#REF!"}]
[{"$f":"'Housing Request'!$E$5","v":0},{"$f":"'Female Cabin Roster'!#REF!","v":{"$error":"#REF!"}},"F","Leader",{"$f":"'Female Cabin Roster'!#REF!","v":{"$error":"#REF!"}},{"$error":"#REF!"},{"$error":"#REF!"}]
[{"$f":"'Housing Request'!$E$5","v":0},{"$f":"'Female Cabin Roster'!#REF!","v":{"$error":"#REF!"}},"F","Leader",{"$f":"'Female Cabin Roster'!#REF!","v":{"$error":"#REF!"}},{"$error":"#REF!"},{"$error":"#REF!"}]
[{"$f":"'Housing Request'!$E$5","v":0},{"$f":"'Female Cabin Roster'!#REF!","v":{"$error":"#REF!"}},"F","Leader",{"$f":"'Female Cabin Roster'!#REF!","v":{"$error":"#REF!"}},{"$error":"#REF!"},{"$error":"#REF!"}]
[{"$f":"'Housing Request'!$E$5","v":0},{"$f":"'Female Cabin Roster'!#REF!","v":{"$error":"#REF!"}},"F","Leader",{"$f":"'Female Cabin Roster'!#REF!","v":{"$error":"#REF!"}},{"$error":"#REF!"},{"$error":"#REF!"}]
[{"$f":"'Housing Request'!$E$5","v":0},{"$f":"'Female Cabin Roster'!#REF!","v":{"$error":"#REF!"}},"F","Camper",{"$f":"'Female Cabin Roster'!#REF!","v":{"$error":"#REF!"}},{"$error":"#REF!"},{"$error":"#REF!"}]
[{"$f":"'Housing Request'!$E$5","v":0},{"$f":"'Female Cabin Roster'!#REF!","v":{"$error":"#REF!"}},"F","Camper",{"$f":"'Female Cabin Roster'!#REF!","v":{"$error":"#REF!"}},{"$error":"#REF!"},{"$error":"#REF!"}]
[{"$f":"'Housing Request'!$E$5","v":0},{"$f":"'Female Cabin Roster'!#REF!","v":{"$error":"#REF!"}},"F","Camper",{"$f":"'Female Cabin Roster'!#REF!","v":{"$error":"#REF!"}},{"$error":"#REF!"},{"$error":"#REF!"}]
[{"$f":"'Housing Request'!$E$5","v":0},{"$f":"'Female Cabin Roster'!#REF!","v":{"$error":"#REF!"}},"F","Camper",{"$f":"'Female Cabin Roster'!#REF!","v":{"$error":"#REF!"}},{"$error":"#REF!"},{"$error":"#REF!"}]
[{"$f":"'Housing Request'!$E$5","v":0},{"$f":"'Female Cabin Roster'!#REF!","v":{"$error":"#REF!"}},"F","Camper",{"$f":"'Female Cabin Roster'!#REF!","v":{"$error":"#REF!"}},{"$error":"#REF!"},{"$error":"#REF!"}]
[{"$f":"'Housing Request'!$E$5","v":0},{"$f":"'Female Cabin Roster'!#REF!","v":{"$error":"#REF!"}},"F","Camper",{"$f":"'Female Cabin Roster'!#REF!","v":{"$error":"#REF!"}},{"$error":"#REF!"},{"$error":"#REF!"}]
[{"$f":"'Housing Request'!$E$5","v":0},{"$f":"'Female Cabin Roster'!#REF!","v":{"$error":"#REF!"}},"F","Camper",{"$f":"'Female Cabin Roster'!#REF!","v":{"$error":"#REF!"}},{"$error":"#REF!"},{"$error":"#REF!"}]
[{"$f":"'Housing Request'!$E$5","v":0},{"$f":"'Female Cabin Roster'!#REF!","v":{"$error":"#REF!"}},"F","Camper",{"$f":"'Female Cabin Roster'!#REF!","v":{"$error":"#REF!"}},{"$error":"#REF!"},{"$error":"#REF!"}]
[{"$f":"'Housing Request'!$E$5","v":0},{"$f":"'Female Cabin Roster'!#REF!","v":{"$error":"#REF!"}},"F","Camper",{"$f":"'Female Cabin Roster'!#REF!","v":{"$error":"#REF!"}},{"$error":"#REF!"},{"$error":"#REF!"}]
[{"$f":"'Housing Request'!$E$5","v":0},{"$f":"'Female Cabin Roster'!#REF!","v":{"$error":"#REF!"}},"F","Camper",{"$f":"'Female Cabin Roster'!#REF!","v":{"$error":"#REF!"}},{"$error":"#REF!"},{"$error":"#REF!"}]
[{"$f":"'Housing Request'!$E$5","v":0},{"$f":"'Female Cabin Roster'!#REF!","v":{"$error":"#REF!"}},"F","Camper",{"$f":"'Female Cabin Roster'!#REF!","v":{"$error":"#REF!"}},{"$error":"#REF!"},{"$error":"#REF!"}]
[{"$f":"'Housing Request'!$E$5","v":0},{"$f":"'Female Cabin Roster'!#REF!","v":{"$error":"#REF!"}},"F","Camper",{"$f":"'Female Cabin Roster'!#REF!","v":{"$error":"#REF!"}},{"$error":"#REF!"},{"$error":"#REF!"}]
[{"$f":"'Housing Request'!$E$5","v":0},{"$f":"'Female Cabin Roster'!#REF!","v":{"$error":"#REF!"}},"F","Camper",{"$f":"'Female Cabin Roster'!#REF!","v":{"$error":"#REF!"}},{"$error":"#REF!"},{"$error":"#REF!"}]
[{"$f":"'Housing Request'!$E$5","v":0},{"$f":"'Female Cabin Roster'!#REF!","v":{"$error":"#REF!"}},"F","Camper",{"$f":"'Female Cabin Roster'!#REF!","v":{"$error":"#REF!"}},{"$error":"#REF!"},{"$error":"#REF!"}]
[{"$f":"'Housing Request'!$E$5","v":0},{"$f":"'Female Cabin Roster'!#REF!","v":{"$error":"#REF!"}},"F","Camper",{"$f":"'Female Cabin Roster'!#REF!","v":{"$error":"#REF!"}},{"$error":"#REF!"},{"$error":"#REF!"}]
[{"$f":"'Housing Request'!$E$5","v":0},{"$f":"'Female Cabin Roster'!#REF!","v":{"$error":"#REF!"}},"F","Camper",{"$f":"'Female Cabin Roster'!#REF!","v":{"$error":"#REF!"}},{"$error":"#REF!"},{"$error":"#REF!"}]
[{"$f":"'Housing Request'!$E$5","v":0},{"$f":"'Female Cabin Roster'!#REF!","v":{"$error":"#REF!"}},"F","Camper",{"$f":"'Female Cabin Roster'!#REF!","v":{"$error":"#REF!"}},{"$error":"#REF!"},{"$error":"#REF!"}]
[{"$f":"'Housing Request'!$E$5","v":0},{"$f":"'Female Cabin Roster'!#REF!","v":{"$error":"#REF!"}},"F","Camper",{"$f":"'Female Cabin Roster'!#REF!","v":{"$error":"#REF!"}},{"$error":"#REF!"},{"$error":"#REF!"}]
[{"$f":"'Housing Request'!$E$5","v":0},{"$f":"'Female Cabin Roster'!#REF!","v":{"$error":"#REF!"}},"F","Leader",{"$f":"'Female Cabin Roster'!#REF!","v":{"$error":"#REF!"}},{"$error":"#REF!"},{"$error":"#REF!"}]
[{"$f":"'Housing Request'!$E$5","v":0},{"$f":"'Female Cabin Roster'!#REF!","v":{"$error":"#REF!"}},"F","Leader",{"$f":"'Female Cabin Roster'!#REF!","v":{"$error":"#REF!"}},{"$error":"#REF!"},{"$error":"#REF!"}]
[{"$f":"'Housing Request'!$E$5","v":0},{"$f":"'Female Cabin Roster'!#REF!","v":{"$error":"#REF!"}},"F","Leader",{"$f":"'Female Cabin Roster'!#REF!","v":{"$error":"#REF!"}},{"$error":"#REF!"},{"$error":"#REF!"}]
[{"$f":"'Housing Request'!$E$5","v":0},{"$f":"'Female Cabin Roster'!#REF!","v":{"$error":"#REF!"}},"F","Leader",{"$f":"'Female Cabin Roster'!#REF!","v":{"$error":"#REF!"}},{"$error":"#REF!"},{"$error":"#REF!"}]
[{"$f":"'Housing Request'!$E$5","v":0},{"$f":"'Female Cabin Roster'!#REF!","v":{"$error":"#REF!"}},"F","Leader",{"$f":"'Female Cabin Roster'!#REF!","v":{"$error":"#REF!"}},{"$error":"#REF!"},{"$error":"#REF!"}]
[{"$f":"'Housing Request'!$E$5","v":0},{"$f":"'Female Cabin Roster'!#REF!","v":{"$error":"#REF!"}},"F","Camper",{"$f":"'Female Cabin Roster'!#REF!","v":{"$error":"#REF!"}},{"$error":"#REF!"},{"$error":"#REF!"}]
[{"$f":"'Housing Request'!$E$5","v":0},{"$f":"'Female Cabin Roster'!#REF!","v":{"$error":"#REF!"}},"F","Camper",{"$f":"'Female Cabin Roster'!#REF!","v":{"$error":"#REF!"}},{"$error":"#REF!"},{"$error":"#REF!"}]
[{"$f":"'Housing Request'!$E$5","v":0},{"$f":"'Female Cabin Roster'!#REF!","v":{"$error":"#REF!"}},"F","Camper",{"$f":"'Female Cabin Roster'!#REF!","v":{"$error":"#REF!"}},{"$error":"#REF!"},{"$error":"#REF!"}]
[{"$f":"'Housing Request'!$E$5","v":0},{"$f":"'Female Cabin Roster'!#REF!","v":{"$error":"#REF!"}},"F","Camper",{"$f":"'Female Cabin Roster'!#REF!","v":{"$error":"#REF!"}},{"$error":"#REF!"},{"$error":"#REF!"}]
[{"$f":"'Housing Request'!$E$5","v":0},{"$f":"'Female Cabin Roster'!#REF!","v":{"$error":"#REF!"}},"F","Camper",{"$f":"'Female Cabin Roster'!#REF!","v":{"$error":"#REF!"}},{"$error":"#REF!"},{"$error":"#REF!"}]
[{"$f":"'Housing Request'!$E$5","v":0},{"$f":"'Female Cabin Roster'!#REF!","v":{"$error":"#REF!"}},"F","Camper",{"$f":"'Female Cabin Roster'!#REF!","v":{"$error":"#REF!"}},{"$error":"#REF!"},{"$error":"#REF!"}]
[{"$f":"'Housing Request'!$E$5","v":0},{"$f":"'Female Cabin Roster'!#REF!","v":{"$error":"#REF!"}},"F","Camper",{"$f":"'Female Cabin Roster'!#REF!","v":{"$error":"#REF!"}},{"$error":"#REF!"},{"$error":"#REF!"}]
[{"$f":"'Housing Request'!$E$5","v":0},{"$f":"'Female Cabin Roster'!#REF!","v":{"$error":"#REF!"}},"F","Camper",{"$f":"'Female Cabin Roster'!#REF!","v":{"$error":"#REF!"}},{"$error":"#REF!"},{"$error":"#REF!"}]
[{"$f":"'Housing Request'!$E$5","v":0},{"$f":"'Female Cabin Roster'!#REF!","v":{"$error":"#REF!"}},"F","Camper",{"$f":"'Female Cabin Roster'!#REF!","v":{"$error":"#REF!"}},{"$error":"#REF!"},{"$error":"#REF!"}]
[{"$f":"'Housing Request'!$E$5","v":0},{"$f":"'Female Cabin Roster'!#REF!","v":{"$error":"#REF!"}},"F","Camper",{"$f":"'Female Cabin Roster'!#REF!","v":{"$error":"#REF!"}},{"$error":"#REF!"},{"$error":"#REF!"}]
[{"$f":"'Housing Request'!$E$5","v":0},{"$f":"'Female Cabin Roster'!#REF!","v":{"$error":"#REF!"}},"F","Camper",{"$f":"'Female Cabin Roster'!#REF!","v":{"$error":"#REF!"}},{"$error":"#REF!"},{"$error":"#REF!"}]
[{"$f":"'Housing Request'!$E$5","v":0},{"$f":"'Female Cabin Roster'!#REF!","v":{"$error":"#REF!"}},"F","Camper",{"$f":"'Female Cabin Roster'!#REF!","v":{"$error":"#REF!"}},{"$error":"#REF!"},{"$error":"#REF!"}]
[{"$f":"'Housing Request'!$E$5","v":0},{"$f":"'Female Cabin Roster'!#REF!","v":{"$error":"#REF!"}},"F","Camper",{"$f":"'Female Cabin Roster'!#REF!","v":{"$error":"#REF!"}},{"$error":"#REF!"},{"$error":"#REF!"}]
[{"$f":"'Housing Request'!$E$5","v":0},{"$f":"'Female Cabin Roster'!#REF!","v":{"$error":"#REF!"}},"F","Camper",{"$f":"'Female Cabin Roster'!#REF!","v":{"$error":"#REF!"}},{"$error":"#REF!"},{"$error":"#REF!"}]
[{"$f":"'Housing Request'!$E$5","v":0},{"$f":"'Female Cabin Roster'!#REF!","v":{"$error":"#REF!"}},"F","Camper",{"$f":"'Female Cabin Roster'!#REF!","v":{"$error":"#REF!"}},{"$error":"#REF!"},{"$error":"#REF!"}]
[{"$f":"'Housing Request'!$E$5","v":0},{"$f":"'Female Cabin Roster'!#REF!","v":{"$error":"#REF!"}},"F","Camper",{"$f":"'Female Cabin Roster'!#REF!","v":{"$error":"#REF!"}},{"$error":"#REF!"},{"$error":"#REF!"}]
[{"$f":"'Housing Request'!$E$5","v":0},{"$f":"'Female Cabin Roster'!#REF!","v":{"$error":"#REF!"}},"F","Camper",{"$f":"'Female Cabin Roster'!#REF!","v":{"$error":"#REF!"}},{"$error":"#REF!"},{"$error":"#REF!"}]
[{"$f":"'Housing Request'!$E$5","v":0},{"$f":"'Female Cabin Roster'!#REF!","v":{"$error":"#REF!"}},"F","Camper",{"$f":"'Female Cabin Roster'!#REF!","v":{"$error":"#REF!"}},{"$error":"#REF!"},{"$error":"#REF!"}]
[{"$f":"'Housing Request'!$E$5","v":0},{"$f":"'Female Cabin Roster'!#REF!","v":{"$error":"#REF!"}},"F","Leader",{"$f":"'Female Cabin Roster'!#REF!","v":{"$error":"#REF!"}},{"$error":"#REF!"},{"$error":"#REF!"}]
[{"$f":"'Housing Request'!$E$5","v":0},{"$f":"'Female Cabin Roster'!#REF!","v":{"$error":"#REF!"}},"F","Leader",{"$f":"'Female Cabin Roster'!#REF!","v":{"$error":"#REF!"}},{"$error":"#REF!"},{"$error":"#REF!"}]
[{"$f":"'Housing Request'!$E$5","v":0},{"$f":"'Female Cabin Roster'!#REF!","v":{"$error":"#REF!"}},"F","Leader",{"$f":"'Female Cabin Roster'!#REF!","v":{"$error":"#REF!"}},{"$error":"#REF!"},{"$error":"#REF!"}]
[{"$f":"'Housing Request'!$E$5","v":0},{"$f":"'Female Cabin Roster'!#REF!","v":{"$error":"#REF!"}},"F","Leader",{"$f":"'Female Cabin Roster'!#REF!","v":{"$error":"#REF!"}},{"$error":"#REF!"},{"$error":"#REF!"}]
[{"$f":"'Housing Request'!$E$5","v":0},{"$f":"'Female Cabin Roster'!#REF!","v":{"$error":"#REF!"}},"F","Leader",{"$f":"'Female Cabin Roster'!#REF!","v":{"$error":"#REF!"}},{"$error":"#REF!"},{"$error":"#REF!"}]
[{"$f":"'Housing Request'!$E$5","v":0},{"$f":"'Female Cabin Roster'!#REF!","v":{"$error":"#REF!"}},"F","Camper",{"$f":"'Female Cabin Roster'!#REF!","v":{"$error":"#REF!"}},{"$error":"#REF!"},{"$error":"#REF!"}]
[{"$f":"'Housing Request'!$E$5","v":0},{"$f":"'Female Cabin Roster'!#REF!","v":{"$error":"#REF!"}},"F","Camper",{"$f":"'Female Cabin Roster'!#REF!","v":{"$error":"#REF!"}},{"$error":"#REF!"},{"$error":"#REF!"}]
[{"$f":"'Housing Request'!$E$5","v":0},{"$f":"'Female Cabin Roster'!#REF!","v":{"$error":"#REF!"}},"F","Camper",{"$f":"'Female Cabin Roster'!#REF!","v":{"$error":"#REF!"}},{"$error":"#REF!"},{"$error":"#REF!"}]
[{"$f":"'Housing Request'!$E$5","v":0},{"$f":"'Female Cabin Roster'!#REF!","v":{"$error":"#REF!"}},"F","Camper",{"$f":"'Female Cabin Roster'!#REF!","v":{"$error":"#REF!"}},{"$f":"IF(G193<=6,\"SS\",(IF(G193<300,\"BA\",\"HS\")))","v":{"$error":"#REF!"}},{"$f":"INT(LEFT(E193,3))","v":{"$error":"#REF!"}}]
[{"$f":"'Housing Request'!$E$5","v":0},{"$f":"'Female Cabin Roster'!#REF!","v":{"$error":"#REF!"}},"F","Camper",{"$f":"'Female Cabin Roster'!#REF!","v":{"$error":"#REF!"}},{"$error":"#REF!"},{"$error":"#REF!"}]
[{"$f":"'Housing Request'!$E$5","v":0},{"$f":"'Female Cabin Roster'!#REF!","v":{"$error":"#REF!"}},"F","Camper",{"$f":"'Female Cabin Roster'!#REF!","v":{"$error":"#REF!"}},{"$error":"#REF!"},{"$error":"#REF!"}]
[{"$f":"'Housing Request'!$E$5","v":0},{"$f":"'Female Cabin Roster'!#REF!","v":{"$error":"#REF!"}},"F","Camper",{"$f":"'Female Cabin Roster'!#REF!","v":{"$error":"#REF!"}},{"$error":"#REF!"},{"$error":"#REF!"}]
[{"$f":"'Housing Request'!$E$5","v":0},{"$f":"'Female Cabin Roster'!#REF!","v":{"$error":"#REF!"}},"F","Camper",{"$f":"'Female Cabin Roster'!#REF!","v":{"$error":"#REF!"}},{"$error":"#REF!"},{"$error":"#REF!"}]
[{"$f":"'Housing Request'!$E$5","v":0},{"$f":"'Female Cabin Roster'!#REF!","v":{"$error":"#REF!"}},"F","Camper",{"$f":"'Female Cabin Roster'!#REF!","v":{"$error":"#REF!"}},{"$error":"#REF!"},{"$error":"#REF!"}]
[{"$f":"'Housing Request'!$E$5","v":0},{"$f":"'Female Cabin Roster'!#REF!","v":{"$error":"#REF!"}},"F","Camper",{"$f":"'Female Cabin Roster'!#REF!","v":{"$error":"#REF!"}},{"$error":"#REF!"},{"$error":"#REF!"}]
[{"$f":"'Housing Request'!$E$5","v":0},{"$f":"'Female Cabin Roster'!#REF!","v":{"$error":"#REF!"}},"F","Camper",{"$f":"'Female Cabin Roster'!#REF!","v":{"$error":"#REF!"}},{"$error":"#REF!"},{"$error":"#REF!"}]
[{"$f":"'Housing Request'!$E$5","v":0},{"$f":"'Female Cabin Roster'!#REF!","v":{"$error":"#REF!"}},"F","Camper",{"$f":"'Female Cabin Roster'!#REF!","v":{"$error":"#REF!"}},{"$error":"#REF!"},{"$error":"#REF!"}]
[{"$f":"'Housing Request'!$E$5","v":0},{"$f":"'Female Cabin Roster'!#REF!","v":{"$error":"#REF!"}},"F","Camper",{"$f":"'Female Cabin Roster'!#REF!","v":{"$error":"#REF!"}},{"$error":"#REF!"},{"$error":"#REF!"}]
[{"$f":"'Housing Request'!$E$5","v":0},{"$f":"'Female Cabin Roster'!#REF!","v":{"$error":"#REF!"}},"F","Camper",{"$f":"'Female Cabin Roster'!#REF!","v":{"$error":"#REF!"}},{"$error":"#REF!"},{"$error":"#REF!"}]
[{"$f":"'Housing Request'!$E$5","v":0},{"$f":"'Female Cabin Roster'!#REF!","v":{"$error":"#REF!"}},"F","Camper",{"$f":"'Female Cabin Roster'!#REF!","v":{"$error":"#REF!"}},{"$error":"#REF!"},{"$error":"#REF!"}]
[{"$f":"'Housing Request'!$E$5","v":0},{"$f":"'Female Cabin Roster'!#REF!","v":{"$error":"#REF!"}},"F","Camper",{"$f":"'Female Cabin Roster'!#REF!","v":{"$error":"#REF!"}},{"$error":"#REF!"},{"$error":"#REF!"}]
[{"$f":"'Housing Request'!$E$5","v":0},{"$f":"'Female Cabin Roster'!#REF!","v":{"$error":"#REF!"}},"F","Camper",{"$f":"'Female Cabin Roster'!#REF!","v":{"$error":"#REF!"}},{"$error":"#REF!"},{"$error":"#REF!"}]
[{"$f":"'Housing Request'!$E$5","v":0},{"$f":"'Female Cabin Roster'!#REF!","v":{"$error":"#REF!"}},"F","Camper",{"$f":"'Female Cabin Roster'!#REF!","v":{"$error":"#REF!"}},{"$error":"#REF!"},{"$error":"#REF!"}]
[{"$f":"'Housing Request'!$E$5","v":0},{"$f":"'Female Cabin Roster'!#REF!","v":{"$error":"#REF!"}},"F","Leader",{"$f":"'Female Cabin Roster'!#REF!","v":{"$error":"#REF!"}},{"$error":"#REF!"},{"$error":"#REF!"}]
[{"$f":"'Housing Request'!$E$5","v":0},{"$f":"'Female Cabin Roster'!#REF!","v":{"$error":"#REF!"}},"F","Leader",{"$f":"'Female Cabin Roster'!#REF!","v":{"$error":"#REF!"}},{"$error":"#REF!"},{"$error":"#REF!"}]
[{"$f":"'Housing Request'!$E$5","v":0},{"$f":"'Female Cabin Roster'!#REF!","v":{"$error":"#REF!"}},"F","Leader",{"$f":"'Female Cabin Roster'!#REF!","v":{"$error":"#REF!"}},{"$error":"#REF!"},{"$error":"#REF!"}]
[{"$f":"'Housing Request'!$E$5","v":0},{"$f":"'Female Cabin Roster'!#REF!","v":{"$error":"#REF!"}},"F","Leader",{"$f":"'Female Cabin Roster'!#REF!","v":{"$error":"#REF!"}},{"$error":"#REF!"},{"$error":"#REF!"}]
[{"$f":"'Housing Request'!$E$5","v":0},{"$f":"'Female Cabin Roster'!#REF!","v":{"$error":"#REF!"}},"F","Leader",{"$f":"'Female Cabin Roster'!#REF!","v":{"$error":"#REF!"}},{"$error":"#REF!"},{"$error":"#REF!"}]
[{"$f":"'Housing Request'!$E$5","v":0},{"$f":"'Female Cabin Roster'!#REF!","v":{"$error":"#REF!"}},"F","Camper",{"$f":"'Female Cabin Roster'!#REF!","v":{"$error":"#REF!"}},{"$error":"#REF!"},{"$error":"#REF!"}]
[{"$f":"'Housing Request'!$E$5","v":0},{"$f":"'Female Cabin Roster'!#REF!","v":{"$error":"#REF!"}},"F","Camper",{"$f":"'Female Cabin Roster'!#REF!","v":{"$error":"#REF!"}},{"$error":"#REF!"},{"$error":"#REF!"}]
[{"$f":"'Housing Request'!$E$5","v":0},{"$f":"'Female Cabin Roster'!#REF!","v":{"$error":"#REF!"}},"F","Camper",{"$f":"'Female Cabin Roster'!#REF!","v":{"$error":"#REF!"}},{"$error":"#REF!"},{"$error":"#REF!"}]
[{"$f":"'Housing Request'!$E$5","v":0},{"$f":"'Female Cabin Roster'!#REF!","v":{"$error":"#REF!"}},"F","Camper",{"$f":"'Female Cabin Roster'!#REF!","v":{"$error":"#REF!"}},{"$error":"#REF!"},{"$error":"#REF!"}]
[{"$f":"'Housing Request'!$E$5","v":0},{"$f":"'Female Cabin Roster'!#REF!","v":{"$error":"#REF!"}},"F","Camper",{"$f":"'Female Cabin Roster'!#REF!","v":{"$error":"#REF!"}},{"$error":"#REF!"},{"$error":"#REF!"}]
[{"$f":"'Housing Request'!$E$5","v":0},{"$f":"'Female Cabin Roster'!#REF!","v":{"$error":"#REF!"}},"F","Camper",{"$f":"'Female Cabin Roster'!#REF!","v":{"$error":"#REF!"}},{"$error":"#REF!"},{"$error":"#REF!"}]
[{"$f":"'Housing Request'!$E$5","v":0},{"$f":"'Female Cabin Roster'!#REF!","v":{"$error":"#REF!"}},"F","Camper",{"$f":"'Female Cabin Roster'!#REF!","v":{"$error":"#REF!"}},{"$error":"#REF!"},{"$error":"#REF!"}]
[{"$f":"'Housing Request'!$E$5","v":0},{"$f":"'Female Cabin Roster'!#REF!","v":{"$error":"#REF!"}},"F","Camper",{"$f":"'Female Cabin Roster'!#REF!","v":{"$error":"#REF!"}},{"$error":"#REF!"},{"$error":"#REF!"}]
[{"$f":"'Housing Request'!$E$5","v":0},{"$f":"'Female Cabin Roster'!#REF!","v":{"$error":"#REF!"}},"F","Camper",{"$f":"'Female Cabin Roster'!#REF!","v":{"$error":"#REF!"}},{"$error":"#REF!"},{"$error":"#REF!"}]
[{"$f":"'Housing Request'!$E$5","v":0},{"$f":"'Female Cabin Roster'!#REF!","v":{"$error":"#REF!"}},"F","Camper",{"$f":"'Female Cabin Roster'!#REF!","v":{"$error":"#REF!"}},{"$error":"#REF!"},{"$error":"#REF!"}]
[{"$f":"'Housing Request'!$E$5","v":0},{"$f":"'Female Cabin Roster'!#REF!","v":{"$error":"#REF!"}},"F","Camper",{"$f":"'Female Cabin Roster'!#REF!","v":{"$error":"#REF!"}},{"$error":"#REF!"},{"$error":"#REF!"}]
[{"$f":"'Housing Request'!$E$5","v":0},{"$f":"'Female Cabin Roster'!#REF!","v":{"$error":"#REF!"}},"F","Camper",{"$f":"'Female Cabin Roster'!#REF!","v":{"$error":"#REF!"}},{"$error":"#REF!"},{"$error":"#REF!"}]
[{"$f":"'Housing Request'!$E$5","v":0},{"$f":"'Female Cabin Roster'!#REF!","v":{"$error":"#REF!"}},"F","Camper",{"$f":"'Female Cabin Roster'!#REF!","v":{"$error":"#REF!"}},{"$error":"#REF!"},{"$error":"#REF!"}]
[{"$f":"'Housing Request'!$E$5","v":0},{"$f":"'Female Cabin Roster'!#REF!","v":{"$error":"#REF!"}},"F","Camper",{"$f":"'Female Cabin Roster'!#REF!","v":{"$error":"#REF!"}},{"$error":"#REF!"},{"$error":"#REF!"}]
[{"$f":"'Housing Request'!$E$5","v":0},{"$f":"'Female Cabin Roster'!#REF!","v":{"$error":"#REF!"}},"F","Camper",{"$f":"'Female Cabin Roster'!#REF!","v":{"$error":"#REF!"}},{"$error":"#REF!"},{"$error":"#REF!"}]
[{"$f":"'Housing Request'!$E$5","v":0},{"$f":"'Female Cabin Roster'!#REF!","v":{"$error":"#REF!"}},"F","Camper",{"$f":"'Female Cabin Roster'!#REF!","v":{"$error":"#REF!"}},{"$error":"#REF!"},{"$error":"#REF!"}]
[{"$f":"'Housing Request'!$E$5","v":0},{"$f":"'Female Cabin Roster'!#REF!","v":{"$error":"#REF!"}},"F","Camper",{"$f":"'Female Cabin Roster'!#REF!","v":{"$error":"#REF!"}},{"$error":"#REF!"},{"$error":"#REF!"}]
[{"$f":"'Housing Request'!$E$5","v":0},{"$f":"'Female Cabin Roster'!#REF!","v":{"$error":"#REF!"}},"F","Camper",{"$f":"'Female Cabin Roster'!#REF!","v":{"$error":"#REF!"}},{"$error":"#REF!"},{"$error":"#REF!"}]
[{"$f":"'Housing Request'!$E$5","v":0},{"$f":"'Female Cabin Roster'!#REF!","v":{"$error":"#REF!"}},"F","Leader",{"$f":"'Female Cabin Roster'!#REF!","v":{"$error":"#REF!"}},{"$error":"#REF!"},{"$error":"#REF!"}]
[{"$f":"'Housing Request'!$E$5","v":0},{"$f":"'Female Cabin Roster'!#REF!","v":{"$error":"#REF!"}},"F","Leader",{"$f":"'Female Cabin Roster'!#REF!","v":{"$error":"#REF!"}},{"$error":"#REF!"},{"$error":"#REF!"}]
[{"$f":"'Housing Request'!$E$5","v":0},{"$f":"'Female Cabin Roster'!#REF!","v":{"$error":"#REF!"}},"F","Leader",{"$f":"'Female Cabin Roster'!#REF!","v":{"$error":"#REF!"}},{"$error":"#REF!"},{"$error":"#REF!"}]
[{"$f":"'Housing Request'!$E$5","v":0},{"$f":"'Female Cabin Roster'!#REF!","v":{"$error":"#REF!"}},"F","Leader",{"$f":"'Female Cabin Roster'!#REF!","v":{"$error":"#REF!"}},{"$error":"#REF!"},{"$error":"#REF!"}]
[{"$f":"'Housing Request'!$E$5","v":0},{"$f":"'Female Cabin Roster'!#REF!","v":{"$error":"#REF!"}},"F","Leader",{"$f":"'Female Cabin Roster'!#REF!","v":{"$error":"#REF!"}},{"$error":"#REF!"},{"$error":"#REF!"}]
[{"$f":"'Housing Request'!$E$5","v":0},{"$f":"'Female Cabin Roster'!#REF!","v":{"$error":"#REF!"}},"F","Camper",{"$f":"'Female Cabin Roster'!#REF!","v":{"$error":"#REF!"}},{"$error":"#REF!"},{"$error":"#REF!"}]
[{"$f":"'Housing Request'!$E$5","v":0},{"$f":"'Female Cabin Roster'!#REF!","v":{"$error":"#REF!"}},"F","Camper",{"$f":"'Female Cabin Roster'!#REF!","v":{"$error":"#REF!"}},{"$error":"#REF!"},{"$error":"#REF!"}]
[{"$f":"'Housing Request'!$E$5","v":0},{"$f":"'Female Cabin Roster'!#REF!","v":{"$error":"#REF!"}},"F","Camper",{"$f":"'Female Cabin Roster'!#REF!","v":{"$error":"#REF!"}},{"$error":"#REF!"},{"$error":"#REF!"}]
[{"$f":"'Housing Request'!$E$5","v":0},{"$f":"'Female Cabin Roster'!#REF!","v":{"$error":"#REF!"}},"F","Camper",{"$f":"'Female Cabin Roster'!#REF!","v":{"$error":"#REF!"}},{"$error":"#REF!"},{"$error":"#REF!"}]
[{"$f":"'Housing Request'!$E$5","v":0},{"$f":"'Female Cabin Roster'!#REF!","v":{"$error":"#REF!"}},"F","Camper",{"$f":"'Female Cabin Roster'!#REF!","v":{"$error":"#REF!"}},{"$error":"#REF!"},{"$error":"#REF!"}]
[{"$f":"'Housing Request'!$E$5","v":0},{"$f":"'Female Cabin Roster'!#REF!","v":{"$error":"#REF!"}},"F","Camper",{"$f":"'Female Cabin Roster'!#REF!","v":{"$error":"#REF!"}},{"$error":"#REF!"},{"$error":"#REF!"}]
[{"$f":"'Housing Request'!$E$5","v":0},{"$f":"'Female Cabin Roster'!#REF!","v":{"$error":"#REF!"}},"F","Camper",{"$f":"'Female Cabin Roster'!#REF!","v":{"$error":"#REF!"}},{"$error":"#REF!"},{"$error":"#REF!"}]
[{"$f":"'Housing Request'!$E$5","v":0},{"$f":"'Female Cabin Roster'!#REF!","v":{"$error":"#REF!"}},"F","Camper",{"$f":"'Female Cabin Roster'!#REF!","v":{"$error":"#REF!"}},{"$error":"#REF!"},{"$error":"#REF!"}]
[{"$f":"'Housing Request'!$E$5","v":0},{"$f":"'Female Cabin Roster'!#REF!","v":{"$error":"#REF!"}},"F","Camper",{"$f":"'Female Cabin Roster'!#REF!","v":{"$error":"#REF!"}},{"$error":"#REF!"},{"$error":"#REF!"}]
[{"$f":"'Housing Request'!$E$5","v":0},{"$f":"'Female Cabin Roster'!#REF!","v":{"$error":"#REF!"}},"F","Camper",{"$f":"'Female Cabin Roster'!#REF!","v":{"$error":"#REF!"}},{"$error":"#REF!"},{"$error":"#REF!"}]
[{"$f":"'Housing Request'!$E$5","v":0},{"$f":"'Female Cabin Roster'!#REF!","v":{"$error":"#REF!"}},"F","Camper",{"$f":"'Female Cabin Roster'!#REF!","v":{"$error":"#REF!"}},{"$error":"#REF!"},{"$error":"#REF!"}]
[{"$f":"'Housing Request'!$E$5","v":0},{"$f":"'Female Cabin Roster'!#REF!","v":{"$error":"#REF!"}},"F","Camper",{"$f":"'Female Cabin Roster'!#REF!","v":{"$error":"#REF!"}},{"$error":"#REF!"},{"$error":"#REF!"}]
[{"$f":"'Housing Request'!$E$5","v":0},{"$f":"'Female Cabin Roster'!#REF!","v":{"$error":"#REF!"}},"F","Camper",{"$f":"'Female Cabin Roster'!#REF!","v":{"$error":"#REF!"}},{"$error":"#REF!"},{"$error":"#REF!"}]
[{"$f":"'Housing Request'!$E$5","v":0},{"$f":"'Female Cabin Roster'!#REF!","v":{"$error":"#REF!"}},"F","Camper",{"$f":"'Female Cabin Roster'!#REF!","v":{"$error":"#REF!"}},{"$error":"#REF!"},{"$error":"#REF!"}]
[{"$f":"'Housing Request'!$E$5","v":0},{"$f":"'Female Cabin Roster'!#REF!","v":{"$error":"#REF!"}},"F","Camper",{"$f":"'Female Cabin Roster'!#REF!","v":{"$error":"#REF!"}},{"$error":"#REF!"},{"$error":"#REF!"}]
[{"$f":"'Housing Request'!$E$5","v":0},{"$f":"'Female Cabin Roster'!#REF!","v":{"$error":"#REF!"}},"F","Camper",{"$f":"'Female Cabin Roster'!#REF!","v":{"$error":"#REF!"}},{"$error":"#REF!"},{"$error":"#REF!"}]
[{"$f":"'Housing Request'!$E$5","v":0},{"$f":"'Female Cabin Roster'!#REF!","v":{"$error":"#REF!"}},"F","Camper",{"$f":"'Female Cabin Roster'!#REF!","v":{"$error":"#REF!"}},{"$error":"#REF!"},{"$error":"#REF!"}]
[{"$f":"'Housing Request'!$E$5","v":0},{"$f":"'Female Cabin Roster'!#REF!","v":{"$error":"#REF!"}},"F","Camper",{"$f":"'Female Cabin Roster'!#REF!","v":{"$error":"#REF!"}},{"$error":"#REF!"},{"$error":"#REF!"}]
[{"$f":"'Housing Request'!$E$5","v":0},{"$f":"'Female Cabin Roster'!#REF!","v":{"$error":"#REF!"}},"F","Leader",{"$f":"'Female Cabin Roster'!#REF!","v":{"$error":"#REF!"}},{"$error":"#REF!"},{"$error":"#REF!"}]
[{"$f":"'Housing Request'!$E$5","v":0},{"$f":"'Female Cabin Roster'!#REF!","v":{"$error":"#REF!"}},"F","Leader",{"$f":"'Female Cabin Roster'!#REF!","v":{"$error":"#REF!"}},{"$error":"#REF!"},{"$error":"#REF!"}]
[{"$f":"'Housing Request'!$E$5","v":0},{"$f":"'Female Cabin Roster'!#REF!","v":{"$error":"#REF!"}},"F","Leader",{"$f":"'Female Cabin Roster'!#REF!","v":{"$error":"#REF!"}},{"$error":"#REF!"},{"$error":"#REF!"}]
[{"$f":"'Housing Request'!$E$5","v":0},{"$f":"'Female Cabin Roster'!#REF!","v":{"$error":"#REF!"}},"F","Leader",{"$f":"'Female Cabin Roster'!#REF!","v":{"$error":"#REF!"}},{"$f":"IF(G257<=6,\"SS\",(IF(G257<300,\"BA\",\"HS\")))","v":{"$error":"#REF!"}},{"$f":"INT(LEFT(E257,3))","v":{"$error":"#REF!"}}]
[{"$f":"'Housing Request'!$E$5","v":0},{"$f":"'Female Cabin Roster'!#REF!","v":{"$error":"#REF!"}},"F","Leader",{"$f":"'Female Cabin Roster'!#REF!","v":{"$error":"#REF!"}},{"$error":"#REF!"},{"$error":"#REF!"}]
[{"$f":"'Housing Request'!$E$5","v":0},{"$f":"'Female Cabin Roster'!#REF!","v":{"$error":"#REF!"}},"F","Camper",{"$f":"'Female Cabin Roster'!#REF!","v":{"$error":"#REF!"}},{"$error":"#REF!"},{"$error":"#REF!"}]
[{"$f":"'Housing Request'!$E$5","v":0},{"$f":"'Female Cabin Roster'!#REF!","v":{"$error":"#REF!"}},"F","Camper",{"$f":"'Female Cabin Roster'!#REF!","v":{"$error":"#REF!"}},{"$error":"#REF!"},{"$error":"#REF!"}]
[{"$f":"'Housing Request'!$E$5","v":0},{"$f":"'Female Cabin Roster'!#REF!","v":{"$error":"#REF!"}},"F","Camper",{"$f":"'Female Cabin Roster'!#REF!","v":{"$error":"#REF!"}},{"$error":"#REF!"},{"$error":"#REF!"}]
[{"$f":"'Housing Request'!$E$5","v":0},{"$f":"'Female Cabin Roster'!#REF!","v":{"$error":"#REF!"}},"F","Camper",{"$f":"'Female Cabin Roster'!#REF!","v":{"$error":"#REF!"}},{"$error":"#REF!"},{"$error":"#REF!"}]
[{"$f":"'Housing Request'!$E$5","v":0},{"$f":"'Female Cabin Roster'!#REF!","v":{"$error":"#REF!"}},"F","Camper",{"$f":"'Female Cabin Roster'!#REF!","v":{"$error":"#REF!"}},{"$error":"#REF!"},{"$error":"#REF!"}]
[{"$f":"'Housing Request'!$E$5","v":0},{"$f":"'Female Cabin Roster'!#REF!","v":{"$error":"#REF!"}},"F","Camper",{"$f":"'Female Cabin Roster'!#REF!","v":{"$error":"#REF!"}},{"$error":"#REF!"},{"$error":"#REF!"}]
[{"$f":"'Housing Request'!$E$5","v":0},{"$f":"'Female Cabin Roster'!#REF!","v":{"$error":"#REF!"}},"F","Camper",{"$f":"'Female Cabin Roster'!#REF!","v":{"$error":"#REF!"}},{"$error":"#REF!"},{"$error":"#REF!"}]
[{"$f":"'Housing Request'!$E$5","v":0},{"$f":"'Female Cabin Roster'!#REF!","v":{"$error":"#REF!"}},"F","Camper",{"$f":"'Female Cabin Roster'!#REF!","v":{"$error":"#REF!"}},{"$error":"#REF!"},{"$error":"#REF!"}]
[{"$f":"'Housing Request'!$E$5","v":0},{"$f":"'Female Cabin Roster'!#REF!","v":{"$error":"#REF!"}},"F","Camper",{"$f":"'Female Cabin Roster'!#REF!","v":{"$error":"#REF!"}},{"$error":"#REF!"},{"$error":"#REF!"}]
[{"$f":"'Housing Request'!$E$5","v":0},{"$f":"'Female Cabin Roster'!#REF!","v":{"$error":"#REF!"}},"F","Camper",{"$f":"'Female Cabin Roster'!#REF!","v":{"$error":"#REF!"}},{"$error":"#REF!"},{"$error":"#REF!"}]
[{"$f":"'Housing Request'!$E$5","v":0},{"$f":"'Female Cabin Roster'!#REF!","v":{"$error":"#REF!"}},"F","Camper",{"$f":"'Female Cabin Roster'!#REF!","v":{"$error":"#REF!"}},{"$error":"#REF!"},{"$error":"#REF!"}]
[{"$f":"'Housing Request'!$E$5","v":0},{"$f":"'Female Cabin Roster'!#REF!","v":{"$error":"#REF!"}},"F","Camper",{"$f":"'Female Cabin Roster'!#REF!","v":{"$error":"#REF!"}},{"$error":"#REF!"},{"$error":"#REF!"}]
[{"$f":"'Housing Request'!$E$5","v":0},{"$f":"'Female Cabin Roster'!#REF!","v":{"$error":"#REF!"}},"F","Camper",{"$f":"'Female Cabin Roster'!#REF!","v":{"$error":"#REF!"}},{"$error":"#REF!"},{"$error":"#REF!"}]
[{"$f":"'Housing Request'!$E$5","v":0},{"$f":"'Female Cabin Roster'!#REF!","v":{"$error":"#REF!"}},"F","Camper",{"$f":"'Female Cabin Roster'!#REF!","v":{"$error":"#REF!"}},{"$error":"#REF!"},{"$error":"#REF!"}]
[{"$f":"'Housing Request'!$E$5","v":0},{"$f":"'Female Cabin Roster'!#REF!","v":{"$error":"#REF!"}},"F","Camper",{"$f":"'Female Cabin Roster'!#REF!","v":{"$error":"#REF!"}},{"$error":"#REF!"},{"$error":"#REF!"}]
[{"$f":"'Housing Request'!$E$5","v":0},{"$f":"'Female Cabin Roster'!#REF!","v":{"$error":"#REF!"}},"F","Camper",{"$f":"'Female Cabin Roster'!#REF!","v":{"$error":"#REF!"}},{"$error":"#REF!"},{"$error":"#REF!"}]
[{"$f":"'Housing Request'!$E$5","v":0},{"$f":"'Female Cabin Roster'!#REF!","v":{"$error":"#REF!"}},"F","Camper",{"$f":"'Female Cabin Roster'!#REF!","v":{"$error":"#REF!"}},{"$error":"#REF!"},{"$error":"#REF!"}]
[{"$f":"'Housing Request'!$E$5","v":0},{"$f":"'Female Cabin Roster'!#REF!","v":{"$error":"#REF!"}},"F","Camper",{"$f":"'Female Cabin Roster'!#REF!","v":{"$error":"#REF!"}},{"$error":"#REF!"},{"$error":"#REF!"}]
[{"$f":"'Housing Request'!$E$5","v":0},{"$f":"'Male Cabin Roster'!E10","v":0},"M","Leader",{"$f":"'Male Cabin Roster'!$B$8","v":"Male Cabin One"},{"$error":"#VALUE!"},{"$error":"#VALUE!"}]
[{"$f":"'Housing Request'!$E$5","v":0},{"$f":"'Male Cabin Roster'!E11","v":0},"M","Leader",{"$f":"'Male Cabin Roster'!$B$8","v":"Male Cabin One"},{"$error":"#VALUE!"},{"$error":"#VALUE!"}]
[{"$f":"'Housing Request'!$E$5","v":0},{"$f":"'Male Cabin Roster'!E12","v":0},"M","Leader",{"$f":"'Male Cabin Roster'!$B$8","v":"Male Cabin One"},{"$error":"#VALUE!"},{"$error":"#VALUE!"}]
[{"$f":"'Housing Request'!$E$5","v":0},{"$f":"'Male Cabin Roster'!E13","v":0},"M","Leader",{"$f":"'Male Cabin Roster'!$B$8","v":"Male Cabin One"},{"$error":"#VALUE!"},{"$error":"#VALUE!"}]
[{"$f":"'Housing Request'!$E$5","v":0},{"$f":"'Male Cabin Roster'!E14","v":0},"M","Leader",{"$f":"'Male Cabin Roster'!$B$8","v":"Male Cabin One"},{"$error":"#VALUE!"},{"$error":"#VALUE!"}]
[{"$f":"'Housing Request'!$E$5","v":0},{"$f":"'Male Cabin Roster'!E16","v":0},"M","Camper",{"$f":"'Male Cabin Roster'!$B$8","v":"Male Cabin One"},{"$error":"#VALUE!"},{"$error":"#VALUE!"}]
[{"$f":"'Housing Request'!$E$5","v":0},{"$f":"'Male Cabin Roster'!E17","v":0},"M","Camper",{"$f":"'Male Cabin Roster'!$B$8","v":"Male Cabin One"},{"$error":"#VALUE!"},{"$error":"#VALUE!"}]
[{"$f":"'Housing Request'!$E$5","v":0},{"$f":"'Male Cabin Roster'!E18","v":0},"M","Camper",{"$f":"'Male Cabin Roster'!$B$8","v":"Male Cabin One"},{"$error":"#VALUE!"},{"$error":"#VALUE!"}]
[{"$f":"'Housing Request'!$E$5","v":0},{"$f":"'Male Cabin Roster'!E19","v":0},"M","Camper",{"$f":"'Male Cabin Roster'!$B$8","v":"Male Cabin One"},{"$error":"#VALUE!"},{"$error":"#VALUE!"}]
[{"$f":"'Housing Request'!$E$5","v":0},{"$f":"'Male Cabin Roster'!E20","v":0},"M","Camper",{"$f":"'Male Cabin Roster'!$B$8","v":"Male Cabin One"},{"$error":"#VALUE!"},{"$error":"#VALUE!"}]
[{"$f":"'Housing Request'!$E$5","v":0},{"$f":"'Male Cabin Roster'!E21","v":0},"M","Camper",{"$f":"'Male Cabin Roster'!$B$8","v":"Male Cabin One"},{"$error":"#VALUE!"},{"$error":"#VALUE!"}]
[{"$f":"'Housing Request'!$E$5","v":0},{"$f":"'Male Cabin Roster'!E22","v":0},"M","Camper",{"$f":"'Male Cabin Roster'!$B$8","v":"Male Cabin One"},{"$error":"#VALUE!"},{"$error":"#VALUE!"}]
[{"$f":"'Housing Request'!$E$5","v":0},{"$f":"'Male Cabin Roster'!E23","v":0},"M","Camper",{"$f":"'Male Cabin Roster'!$B$8","v":"Male Cabin One"},{"$error":"#VALUE!"},{"$error":"#VALUE!"}]
[{"$f":"'Housing Request'!$E$5","v":0},{"$f":"'Male Cabin Roster'!E24","v":0},"M","Camper",{"$f":"'Male Cabin Roster'!$B$8","v":"Male Cabin One"},{"$error":"#VALUE!"},{"$error":"#VALUE!"}]
[{"$f":"'Housing Request'!$E$5","v":0},{"$f":"'Male Cabin Roster'!E25","v":0},"M","Camper",{"$f":"'Male Cabin Roster'!$B$8","v":"Male Cabin One"},{"$error":"#VALUE!"},{"$error":"#VALUE!"}]
[{"$f":"'Housing Request'!$E$5","v":0},{"$f":"'Male Cabin Roster'!E26","v":0},"M","Camper",{"$f":"'Male Cabin Roster'!$B$8","v":"Male Cabin One"},{"$error":"#VALUE!"},{"$error":"#VALUE!"}]
[{"$f":"'Housing Request'!$E$5","v":0},{"$f":"'Male Cabin Roster'!E27","v":0},"M","Camper",{"$f":"'Male Cabin Roster'!$B$8","v":"Male Cabin One"},{"$error":"#VALUE!"},{"$error":"#VALUE!"}]
[{"$f":"'Housing Request'!$E$5","v":0},{"$f":"'Male Cabin Roster'!E28","v":0},"M","Camper",{"$f":"'Male Cabin Roster'!$B$8","v":"Male Cabin One"},{"$error":"#VALUE!"},{"$error":"#VALUE!"}]
[{"$f":"'Housing Request'!$E$5","v":0},{"$f":"'Male Cabin Roster'!E29","v":0},"M","Camper",{"$f":"'Male Cabin Roster'!$B$8","v":"Male Cabin One"},{"$error":"#VALUE!"},{"$error":"#VALUE!"}]
[{"$f":"'Housing Request'!$E$5","v":0},{"$f":"'Male Cabin Roster'!E30","v":0},"M","Camper",{"$f":"'Male Cabin Roster'!$B$8","v":"Male Cabin One"},{"$error":"#VALUE!"},{"$error":"#VALUE!"}]
[{"$f":"'Housing Request'!$E$5","v":0},{"$f":"'Male Cabin Roster'!E31","v":0},"M","Camper",{"$f":"'Male Cabin Roster'!$B$8","v":"Male Cabin One"},{"$error":"#VALUE!"},{"$error":"#VALUE!"}]
[{"$f":"'Housing Request'!$E$5","v":0},{"$f":"'Male Cabin Roster'!E32","v":0},"M","Camper",{"$f":"'Male Cabin Roster'!$B$8","v":"Male Cabin One"},{"$error":"#VALUE!"},{"$error":"#VALUE!"}]
[{"$f":"'Housing Request'!$E$5","v":0},{"$f":"'Male Cabin Roster'!E33","v":0},"M","Camper",{"$f":"'Male Cabin Roster'!$B$8","v":"Male Cabin One"},{"$error":"#VALUE!"},{"$error":"#VALUE!"}]
[{"$f":"'Housing Request'!$E$5","v":0},{"$f":"'Male Cabin Roster'!K10","v":0},"M","Leader",{"$f":"'Male Cabin Roster'!$H$8","v":"Male Cabin Two"},{"$error":"#VALUE!"},{"$error":"#VALUE!"}]
[{"$f":"'Housing Request'!$E$5","v":0},{"$f":"'Male Cabin Roster'!K11","v":0},"M","Leader",{"$f":"'Male Cabin Roster'!$H$8","v":"Male Cabin Two"},{"$error":"#VALUE!"},{"$error":"#VALUE!"}]
[{"$f":"'Housing Request'!$E$5","v":0},{"$f":"'Male Cabin Roster'!K12","v":0},"M","Leader",{"$f":"'Male Cabin Roster'!$H$8","v":"Male Cabin Two"},{"$error":"#VALUE!"},{"$error":"#VALUE!"}]
[{"$f":"'Housing Request'!$E$5","v":0},{"$f":"'Male Cabin Roster'!K13","v":0},"M","Leader",{"$f":"'Male Cabin Roster'!$H$8","v":"Male Cabin Two"},{"$error":"#VALUE!"},{"$error":"#VALUE!"}]
[{"$f":"'Housing Request'!$E$5","v":0},{"$f":"'Male Cabin Roster'!K14","v":0},"M","Leader",{"$f":"'Male Cabin Roster'!$H$8","v":"Male Cabin Two"},{"$error":"#VALUE!"},{"$error":"#VALUE!"}]
[{"$f":"'Housing Request'!$E$5","v":0},{"$f":"'Male Cabin Roster'!K16","v":0},"M","Camper",{"$f":"'Male Cabin Roster'!$H$8","v":"Male Cabin Two"},{"$error":"#VALUE!"},{"$error":"#VALUE!"}]
[{"$f":"'Housing Request'!$E$5","v":0},{"$f":"'Male Cabin Roster'!K17","v":0},"M","Camper",{"$f":"'Male Cabin Roster'!$H$8","v":"Male Cabin Two"},{"$error":"#VALUE!"},{"$error":"#VALUE!"}]
[{"$f":"'Housing Request'!$E$5","v":0},{"$f":"'Male Cabin Roster'!K18","v":0},"M","Camper",{"$f":"'Male Cabin Roster'!$H$8","v":"Male Cabin Two"},{"$error":"#VALUE!"},{"$error":"#VALUE!"}]
[{"$f":"'Housing Request'!$E$5","v":0},{"$f":"'Male Cabin Roster'!K19","v":0},"M","Camper",{"$f":"'Male Cabin Roster'!$H$8","v":"Male Cabin Two"},{"$error":"#VALUE!"},{"$error":"#VALUE!"}]
[{"$f":"'Housing Request'!$E$5","v":0},{"$f":"'Male Cabin Roster'!K20","v":0},"M","Camper",{"$f":"'Male Cabin Roster'!$H$8","v":"Male Cabin Two"},{"$error":"#VALUE!"},{"$error":"#VALUE!"}]
[{"$f":"'Housing Request'!$E$5","v":0},{"$f":"'Male Cabin Roster'!K21","v":0},"M","Camper",{"$f":"'Male Cabin Roster'!$H$8","v":"Male Cabin Two"},{"$error":"#VALUE!"},{"$error":"#VALUE!"}]
[{"$f":"'Housing Request'!$E$5","v":0},{"$f":"'Male Cabin Roster'!K22","v":0},"M","Camper",{"$f":"'Male Cabin Roster'!$H$8","v":"Male Cabin Two"},{"$error":"#VALUE!"},{"$error":"#VALUE!"}]
[{"$f":"'Housing Request'!$E$5","v":0},{"$f":"'Male Cabin Roster'!K23","v":0},"M","Camper",{"$f":"'Male Cabin Roster'!$H$8","v":"Male Cabin Two"},{"$error":"#VALUE!"},{"$error":"#VALUE!"}]
[{"$f":"'Housing Request'!$E$5","v":0},{"$f":"'Male Cabin Roster'!K24","v":0},"M","Camper",{"$f":"'Male Cabin Roster'!$H$8","v":"Male Cabin Two"},{"$error":"#VALUE!"},{"$error":"#VALUE!"}]
[{"$f":"'Housing Request'!$E$5","v":0},{"$f":"'Male Cabin Roster'!K25","v":0},"M","Camper",{"$f":"'Male Cabin Roster'!$H$8","v":"Male Cabin Two"},{"$error":"#VALUE!"},{"$error":"#VALUE!"}]
[{"$f":"'Housing Request'!$E$5","v":0},{"$f":"'Male Cabin Roster'!K26","v":0},"M","Camper",{"$f":"'Male Cabin Roster'!$H$8","v":"Male Cabin Two"},{"$error":"#VALUE!"},{"$error":"#VALUE!"}]
[{"$f":"'Housing Request'!$E$5","v":0},{"$f":"'Male Cabin Roster'!K27","v":0},"M","Camper",{"$f":"'Male Cabin Roster'!$H$8","v":"Male Cabin Two"},{"$error":"#VALUE!"},{"$error":"#VALUE!"}]
[{"$f":"'Housing Request'!$E$5","v":0},{"$f":"'Male Cabin Roster'!K28","v":0},"M","Camper",{"$f":"'Male Cabin Roster'!$H$8","v":"Male Cabin Two"},{"$error":"#VALUE!"},{"$error":"#VALUE!"}]
[{"$f":"'Housing Request'!$E$5","v":0},{"$f":"'Male Cabin Roster'!K29","v":0},"M","Camper",{"$f":"'Male Cabin Roster'!$H$8","v":"Male Cabin Two"},{"$error":"#VALUE!"},{"$error":"#VALUE!"}]
[{"$f":"'Housing Request'!$E$5","v":0},{"$f":"'Male Cabin Roster'!K30","v":0},"M","Camper",{"$f":"'Male Cabin Roster'!$H$8","v":"Male Cabin Two"},{"$error":"#VALUE!"},{"$error":"#VALUE!"}]
[{"$f":"'Housing Request'!$E$5","v":0},{"$f":"'Male Cabin Roster'!K31","v":0},"M","Camper",{"$f":"'Male Cabin Roster'!$H$8","v":"Male Cabin Two"},{"$error":"#VALUE!"},{"$error":"#VALUE!"}]
[{"$f":"'Housing Request'!$E$5","v":0},{"$f":"'Male Cabin Roster'!K32","v":0},"M","Camper",{"$f":"'Male Cabin Roster'!$H$8","v":"Male Cabin Two"},{"$f":"IF(G321<=6,\"SS\",(IF(G321<300,\"BA\",\"HS\")))","v":{"$error":"#VALUE!"}},{"$f":"INT(LEFT(E321,3))","v":{"$error":"#VALUE!"}}]
[{"$f":"'Housing Request'!$E$5","v":0},{"$f":"'Male Cabin Roster'!K33","v":0},"M","Camper",{"$f":"'Male Cabin Roster'!$H$8","v":"Male Cabin Two"},{"$error":"#VALUE!"},{"$error":"#VALUE!"}]
[{"$f":"'Housing Request'!$E$5","v":0},{"$f":"'Male Cabin Roster'!Q10","v":0},"M","Leader",{"$f":"'Male Cabin Roster'!$N$8","v":"Male Cabin Three"},{"$error":"#VALUE!"},{"$error":"#VALUE!"}]
[{"$f":"'Housing Request'!$E$5","v":0},{"$f":"'Male Cabin Roster'!Q11","v":0},"M","Leader",{"$f":"'Male Cabin Roster'!$N$8","v":"Male Cabin Three"},{"$error":"#VALUE!"},{"$error":"#VALUE!"}]
[{"$f":"'Housing Request'!$E$5","v":0},{"$f":"'Male Cabin Roster'!Q12","v":0},"M","Leader",{"$f":"'Male Cabin Roster'!$N$8","v":"Male Cabin Three"},{"$error":"#VALUE!"},{"$error":"#VALUE!"}]
[{"$f":"'Housing Request'!$E$5","v":0},{"$f":"'Male Cabin Roster'!Q13","v":0},"M","Leader",{"$f":"'Male Cabin Roster'!$N$8","v":"Male Cabin Three"},{"$error":"#VALUE!"},{"$error":"#VALUE!"}]
[{"$f":"'Housing Request'!$E$5","v":0},{"$f":"'Male Cabin Roster'!Q14","v":0},"M","Leader",{"$f":"'Male Cabin Roster'!$N$8","v":"Male Cabin Three"},{"$error":"#VALUE!"},{"$error":"#VALUE!"}]
[{"$f":"'Housing Request'!$E$5","v":0},{"$f":"'Male Cabin Roster'!Q16","v":0},"M","Camper",{"$f":"'Male Cabin Roster'!$N$8","v":"Male Cabin Three"},{"$error":"#VALUE!"},{"$error":"#VALUE!"}]
[{"$f":"'Housing Request'!$E$5","v":0},{"$f":"'Male Cabin Roster'!Q17","v":0},"M","Camper",{"$f":"'Male Cabin Roster'!$N$8","v":"Male Cabin Three"},{"$error":"#VALUE!"},{"$error":"#VALUE!"}]
[{"$f":"'Housing Request'!$E$5","v":0},{"$f":"'Male Cabin Roster'!Q18","v":0},"M","Camper",{"$f":"'Male Cabin Roster'!$N$8","v":"Male Cabin Three"},{"$error":"#VALUE!"},{"$error":"#VALUE!"}]
[{"$f":"'Housing Request'!$E$5","v":0},{"$f":"'Male Cabin Roster'!Q19","v":0},"M","Camper",{"$f":"'Male Cabin Roster'!$N$8","v":"Male Cabin Three"},{"$error":"#VALUE!"},{"$error":"#VALUE!"}]
[{"$f":"'Housing Request'!$E$5","v":0},{"$f":"'Male Cabin Roster'!Q20","v":0},"M","Camper",{"$f":"'Male Cabin Roster'!$N$8","v":"Male Cabin Three"},{"$error":"#VALUE!"},{"$error":"#VALUE!"}]
[{"$f":"'Housing Request'!$E$5","v":0},{"$f":"'Male Cabin Roster'!Q21","v":0},"M","Camper",{"$f":"'Male Cabin Roster'!$N$8","v":"Male Cabin Three"},{"$error":"#VALUE!"},{"$error":"#VALUE!"}]
[{"$f":"'Housing Request'!$E$5","v":0},{"$f":"'Male Cabin Roster'!Q22","v":0},"M","Camper",{"$f":"'Male Cabin Roster'!$N$8","v":"Male Cabin Three"},{"$error":"#VALUE!"},{"$error":"#VALUE!"}]
[{"$f":"'Housing Request'!$E$5","v":0},{"$f":"'Male Cabin Roster'!Q23","v":0},"M","Camper",{"$f":"'Male Cabin Roster'!$N$8","v":"Male Cabin Three"},{"$error":"#VALUE!"},{"$error":"#VALUE!"}]
[{"$f":"'Housing Request'!$E$5","v":0},{"$f":"'Male Cabin Roster'!Q24","v":0},"M","Camper",{"$f":"'Male Cabin Roster'!$N$8","v":"Male Cabin Three"},{"$error":"#VALUE!"},{"$error":"#VALUE!"}]
[{"$f":"'Housing Request'!$E$5","v":0},{"$f":"'Male Cabin Roster'!Q25","v":0},"M","Camper",{"$f":"'Male Cabin Roster'!$N$8","v":"Male Cabin Three"},{"$error":"#VALUE!"},{"$error":"#VALUE!"}]
[{"$f":"'Housing Request'!$E$5","v":0},{"$f":"'Male Cabin Roster'!Q26","v":0},"M","Camper",{"$f":"'Male Cabin Roster'!$N$8","v":"Male Cabin Three"},{"$error":"#VALUE!"},{"$error":"#VALUE!"}]
[{"$f":"'Housing Request'!$E$5","v":0},{"$f":"'Male Cabin Roster'!Q27","v":0},"M","Camper",{"$f":"'Male Cabin Roster'!$N$8","v":"Male Cabin Three"},{"$error":"#VALUE!"},{"$error":"#VALUE!"}]
[{"$f":"'Housing Request'!$E$5","v":0},{"$f":"'Male Cabin Roster'!Q28","v":0},"M","Camper",{"$f":"'Male Cabin Roster'!$N$8","v":"Male Cabin Three"},{"$error":"#VALUE!"},{"$error":"#VALUE!"}]
[{"$f":"'Housing Request'!$E$5","v":0},{"$f":"'Male Cabin Roster'!Q29","v":0},"M","Camper",{"$f":"'Male Cabin Roster'!$N$8","v":"Male Cabin Three"},{"$error":"#VALUE!"},{"$error":"#VALUE!"}]
[{"$f":"'Housing Request'!$E$5","v":0},{"$f":"'Male Cabin Roster'!Q30","v":0},"M","Camper",{"$f":"'Male Cabin Roster'!$N$8","v":"Male Cabin Three"},{"$error":"#VALUE!"},{"$error":"#VALUE!"}]
[{"$f":"'Housing Request'!$E$5","v":0},{"$f":"'Male Cabin Roster'!Q31","v":0},"M","Camper",{"$f":"'Male Cabin Roster'!$N$8","v":"Male Cabin Three"},{"$error":"#VALUE!"},{"$error":"#VALUE!"}]
[{"$f":"'Housing Request'!$E$5","v":0},{"$f":"'Male Cabin Roster'!Q32","v":0},"M","Camper",{"$f":"'Male Cabin Roster'!$N$8","v":"Male Cabin Three"},{"$error":"#VALUE!"},{"$error":"#VALUE!"}]
[{"$f":"'Housing Request'!$E$5","v":0},{"$f":"'Male Cabin Roster'!Q33","v":0},"M","Camper",{"$f":"'Male Cabin Roster'!$N$8","v":"Male Cabin Three"},{"$error":"#VALUE!"},{"$error":"#VALUE!"}]
[{"$f":"'Housing Request'!$E$5","v":0},{"$f":"'Male Cabin Roster'!#REF!","v":{"$error":"#REF!"}},"M","Leader",{"$f":"'Male Cabin Roster'!#REF!","v":{"$error":"#REF!"}},{"$error":"#REF!"},{"$error":"#REF!"}]
[{"$f":"'Housing Request'!$E$5","v":0},{"$f":"'Male Cabin Roster'!#REF!","v":{"$error":"#REF!"}},"M","Leader",{"$f":"'Male Cabin Roster'!#REF!","v":{"$error":"#REF!"}},{"$error":"#REF!"},{"$error":"#REF!"}]
[{"$f":"'Housing Request'!$E$5","v":0},{"$f":"'Male Cabin Roster'!#REF!","v":{"$error":"#REF!"}},"M","Leader",{"$f":"'Male Cabin Roster'!#REF!","v":{"$error":"#REF!"}},{"$error":"#REF!"},{"$error":"#REF!"}]
[{"$f":"'Housing Request'!$E$5","v":0},{"$f":"'Male Cabin Roster'!#REF!","v":{"$error":"#REF!"}},"M","Leader",{"$f":"'Male Cabin Roster'!#REF!","v":{"$error":"#REF!"}},{"$error":"#REF!"},{"$error":"#REF!"}]
[{"$f":"'Housing Request'!$E$5","v":0},{"$f":"'Male Cabin Roster'!#REF!","v":{"$error":"#REF!"}},"M","Leader",{"$f":"'Male Cabin Roster'!#REF!","v":{"$error":"#REF!"}},{"$error":"#REF!"},{"$error":"#REF!"}]
[{"$f":"'Housing Request'!$E$5","v":0},{"$f":"'Male Cabin Roster'!#REF!","v":{"$error":"#REF!"}},"M","Camper",{"$f":"'Male Cabin Roster'!#REF!","v":{"$error":"#REF!"}},{"$error":"#REF!"},{"$error":"#REF!"}]
[{"$f":"'Housing Request'!$E$5","v":0},{"$f":"'Male Cabin Roster'!#REF!","v":{"$error":"#REF!"}},"M","Camper",{"$f":"'Male Cabin Roster'!#REF!","v":{"$error":"#REF!"}},{"$error":"#REF!"},{"$error":"#REF!"}]
[{"$f":"'Housing Request'!$E$5","v":0},{"$f":"'Male Cabin Roster'!#REF!","v":{"$error":"#REF!"}},"M","Camper",{"$f":"'Male Cabin Roster'!#REF!","v":{"$error":"#REF!"}},{"$error":"#REF!"},{"$error":"#REF!"}]
[{"$f":"'Housing Request'!$E$5","v":0},{"$f":"'Male Cabin Roster'!#REF!","v":{"$error":"#REF!"}},"M","Camper",{"$f":"'Male Cabin Roster'!#REF!","v":{"$error":"#REF!"}},{"$error":"#REF!"},{"$error":"#REF!"}]
[{"$f":"'Housing Request'!$E$5","v":0},{"$f":"'Male Cabin Roster'!#REF!","v":{"$error":"#REF!"}},"M","Camper",{"$f":"'Male Cabin Roster'!#REF!","v":{"$error":"#REF!"}},{"$error":"#REF!"},{"$error":"#REF!"}]
[{"$f":"'Housing Request'!$E$5","v":0},{"$f":"'Male Cabin Roster'!#REF!","v":{"$error":"#REF!"}},"M","Camper",{"$f":"'Male Cabin Roster'!#REF!","v":{"$error":"#REF!"}},{"$error":"#REF!"},{"$error":"#REF!"}]
[{"$f":"'Housing Request'!$E$5","v":0},{"$f":"'Male Cabin Roster'!#REF!","v":{"$error":"#REF!"}},"M","Camper",{"$f":"'Male Cabin Roster'!#REF!","v":{"$error":"#REF!"}},{"$error":"#REF!"},{"$error":"#REF!"}]
[{"$f":"'Housing Request'!$E$5","v":0},{"$f":"'Male Cabin Roster'!#REF!","v":{"$error":"#REF!"}},"M","Camper",{"$f":"'Male Cabin Roster'!#REF!","v":{"$error":"#REF!"}},{"$error":"#REF!"},{"$error":"#REF!"}]
[{"$f":"'Housing Request'!$E$5","v":0},{"$f":"'Male Cabin Roster'!#REF!","v":{"$error":"#REF!"}},"M","Camper",{"$f":"'Male Cabin Roster'!#REF!","v":{"$error":"#REF!"}},{"$error":"#REF!"},{"$error":"#REF!"}]
[{"$f":"'Housing Request'!$E$5","v":0},{"$f":"'Male Cabin Roster'!#REF!","v":{"$error":"#REF!"}},"M","Camper",{"$f":"'Male Cabin Roster'!#REF!","v":{"$error":"#REF!"}},{"$error":"#REF!"},{"$error":"#REF!"}]
[{"$f":"'Housing Request'!$E$5","v":0},{"$f":"'Male Cabin Roster'!#REF!","v":{"$error":"#REF!"}},"M","Camper",{"$f":"'Male Cabin Roster'!#REF!","v":{"$error":"#REF!"}},{"$error":"#REF!"},{"$error":"#REF!"}]
[{"$f":"'Housing Request'!$E$5","v":0},{"$f":"'Male Cabin Roster'!#REF!","v":{"$error":"#REF!"}},"M","Camper",{"$f":"'Male Cabin Roster'!#REF!","v":{"$error":"#REF!"}},{"$error":"#REF!"},{"$error":"#REF!"}]
[{"$f":"'Housing Request'!$E$5","v":0},{"$f":"'Male Cabin Roster'!#REF!","v":{"$error":"#REF!"}},"M","Camper",{"$f":"'Male Cabin Roster'!#REF!","v":{"$error":"#REF!"}},{"$error":"#REF!"},{"$error":"#REF!"}]
[{"$f":"'Housing Request'!$E$5","v":0},{"$f":"'Male Cabin Roster'!#REF!","v":{"$error":"#REF!"}},"M","Camper",{"$f":"'Male Cabin Roster'!#REF!","v":{"$error":"#REF!"}},{"$error":"#REF!"},{"$error":"#REF!"}]
[{"$f":"'Housing Request'!$E$5","v":0},{"$f":"'Male Cabin Roster'!#REF!","v":{"$error":"#REF!"}},"M","Camper",{"$f":"'Male Cabin Roster'!#REF!","v":{"$error":"#REF!"}},{"$error":"#REF!"},{"$error":"#REF!"}]
[{"$f":"'Housing Request'!$E$5","v":0},{"$f":"'Male Cabin Roster'!#REF!","v":{"$error":"#REF!"}},"M","Camper",{"$f":"'Male Cabin Roster'!#REF!","v":{"$error":"#REF!"}},{"$error":"#REF!"},{"$error":"#REF!"}]
[{"$f":"'Housing Request'!$E$5","v":0},{"$f":"'Male Cabin Roster'!#REF!","v":{"$error":"#REF!"}},"M","Camper",{"$f":"'Male Cabin Roster'!#REF!","v":{"$error":"#REF!"}},{"$error":"#REF!"},{"$error":"#REF!"}]
[{"$f":"'Housing Request'!$E$5","v":0},{"$f":"'Male Cabin Roster'!#REF!","v":{"$error":"#REF!"}},"M","Camper",{"$f":"'Male Cabin Roster'!#REF!","v":{"$error":"#REF!"}},{"$error":"#REF!"},{"$error":"#REF!"}]
[{"$f":"'Housing Request'!$E$5","v":0},{"$f":"'Male Cabin Roster'!#REF!","v":{"$error":"#REF!"}},"M","Leader",{"$f":"'Male Cabin Roster'!#REF!","v":{"$error":"#REF!"}},{"$error":"#REF!"},{"$error":"#REF!"}]
[{"$f":"'Housing Request'!$E$5","v":0},{"$f":"'Male Cabin Roster'!#REF!","v":{"$error":"#REF!"}},"M","Leader",{"$f":"'Male Cabin Roster'!#REF!","v":{"$error":"#REF!"}},{"$error":"#REF!"},{"$error":"#REF!"}]
[{"$f":"'Housing Request'!$E$5","v":0},{"$f":"'Male Cabin Roster'!#REF!","v":{"$error":"#REF!"}},"M","Leader",{"$f":"'Male Cabin Roster'!#REF!","v":{"$error":"#REF!"}},{"$error":"#REF!"},{"$error":"#REF!"}]
[{"$f":"'Housing Request'!$E$5","v":0},{"$f":"'Male Cabin Roster'!#REF!","v":{"$error":"#REF!"}},"M","Leader",{"$f":"'Male Cabin Roster'!#REF!","v":{"$error":"#REF!"}},{"$error":"#REF!"},{"$error":"#REF!"}]
[{"$f":"'Housing Request'!$E$5","v":0},{"$f":"'Male Cabin Roster'!#REF!","v":{"$error":"#REF!"}},"M","Leader",{"$f":"'Male Cabin Roster'!#REF!","v":{"$error":"#REF!"}},{"$error":"#REF!"},{"$error":"#REF!"}]
[{"$f":"'Housing Request'!$E$5","v":0},{"$f":"'Male Cabin Roster'!#REF!","v":{"$error":"#REF!"}},"M","Camper",{"$f":"'Male Cabin Roster'!#REF!","v":{"$error":"#REF!"}},{"$error":"#REF!"},{"$error":"#REF!"}]
[{"$f":"'Housing Request'!$E$5","v":0},{"$f":"'Male Cabin Roster'!#REF!","v":{"$error":"#REF!"}},"M","Camper",{"$f":"'Male Cabin Roster'!#REF!","v":{"$error":"#REF!"}},{"$error":"#REF!"},{"$error":"#REF!"}]
[{"$f":"'Housing Request'!$E$5","v":0},{"$f":"'Male Cabin Roster'!#REF!","v":{"$error":"#REF!"}},"M","Camper",{"$f":"'Male Cabin Roster'!#REF!","v":{"$error":"#REF!"}},{"$error":"#REF!"},{"$error":"#REF!"}]
[{"$f":"'Housing Request'!$E$5","v":0},{"$f":"'Male Cabin Roster'!#REF!","v":{"$error":"#REF!"}},"M","Camper",{"$f":"'Male Cabin Roster'!#REF!","v":{"$error":"#REF!"}},{"$error":"#REF!"},{"$error":"#REF!"}]
[{"$f":"'Housing Request'!$E$5","v":0},{"$f":"'Male Cabin Roster'!#REF!","v":{"$error":"#REF!"}},"M","Camper",{"$f":"'Male Cabin Roster'!#REF!","v":{"$error":"#REF!"}},{"$error":"#REF!"},{"$error":"#REF!"}]
[{"$f":"'Housing Request'!$E$5","v":0},{"$f":"'Male Cabin Roster'!#REF!","v":{"$error":"#REF!"}},"M","Camper",{"$f":"'Male Cabin Roster'!#REF!","v":{"$error":"#REF!"}},{"$error":"#REF!"},{"$error":"#REF!"}]
[{"$f":"'Housing Request'!$E$5","v":0},{"$f":"'Male Cabin Roster'!#REF!","v":{"$error":"#REF!"}},"M","Camper",{"$f":"'Male Cabin Roster'!#REF!","v":{"$error":"#REF!"}},{"$error":"#REF!"},{"$error":"#REF!"}]
[{"$f":"'Housing Request'!$E$5","v":0},{"$f":"'Male Cabin Roster'!#REF!","v":{"$error":"#REF!"}},"M","Camper",{"$f":"'Male Cabin Roster'!#REF!","v":{"$error":"#REF!"}},{"$error":"#REF!"},{"$error":"#REF!"}]
[{"$f":"'Housing Request'!$E$5","v":0},{"$f":"'Male Cabin Roster'!#REF!","v":{"$error":"#REF!"}},"M","Camper",{"$f":"'Male Cabin Roster'!#REF!","v":{"$error":"#REF!"}},{"$error":"#REF!"},{"$error":"#REF!"}]
[{"$f":"'Housing Request'!$E$5","v":0},{"$f":"'Male Cabin Roster'!#REF!","v":{"$error":"#REF!"}},"M","Camper",{"$f":"'Male Cabin Roster'!#REF!","v":{"$error":"#REF!"}},{"$error":"#REF!"},{"$error":"#REF!"}]
[{"$f":"'Housing Request'!$E$5","v":0},{"$f":"'Male Cabin Roster'!#REF!","v":{"$error":"#REF!"}},"M","Camper",{"$f":"'Male Cabin Roster'!#REF!","v":{"$error":"#REF!"}},{"$error":"#REF!"},{"$error":"#REF!"}]
[{"$f":"'Housing Request'!$E$5","v":0},{"$f":"'Male Cabin Roster'!#REF!","v":{"$error":"#REF!"}},"M","Camper",{"$f":"'Male Cabin Roster'!#REF!","v":{"$error":"#REF!"}},{"$f":"IF(G385<=6,\"SS\",(IF(G385<300,\"BA\",\"HS\")))","v":{"$error":"#REF!"}},{"$f":"INT(LEFT(E385,3))","v":{"$error":"#REF!"}}]
[{"$f":"'Housing Request'!$E$5","v":0},{"$f":"'Male Cabin Roster'!#REF!","v":{"$error":"#REF!"}},"M","Camper",{"$f":"'Male Cabin Roster'!#REF!","v":{"$error":"#REF!"}},{"$error":"#REF!"},{"$error":"#REF!"}]
[{"$f":"'Housing Request'!$E$5","v":0},{"$f":"'Male Cabin Roster'!#REF!","v":{"$error":"#REF!"}},"M","Camper",{"$f":"'Male Cabin Roster'!#REF!","v":{"$error":"#REF!"}},{"$error":"#REF!"},{"$error":"#REF!"}]
[{"$f":"'Housing Request'!$E$5","v":0},{"$f":"'Male Cabin Roster'!#REF!","v":{"$error":"#REF!"}},"M","Camper",{"$f":"'Male Cabin Roster'!#REF!","v":{"$error":"#REF!"}},{"$error":"#REF!"},{"$error":"#REF!"}]
[{"$f":"'Housing Request'!$E$5","v":0},{"$f":"'Male Cabin Roster'!#REF!","v":{"$error":"#REF!"}},"M","Camper",{"$f":"'Male Cabin Roster'!#REF!","v":{"$error":"#REF!"}},{"$error":"#REF!"},{"$error":"#REF!"}]
[{"$f":"'Housing Request'!$E$5","v":0},{"$f":"'Male Cabin Roster'!#REF!","v":{"$error":"#REF!"}},"M","Camper",{"$f":"'Male Cabin Roster'!#REF!","v":{"$error":"#REF!"}},{"$error":"#REF!"},{"$error":"#REF!"}]
[{"$f":"'Housing Request'!$E$5","v":0},{"$f":"'Male Cabin Roster'!#REF!","v":{"$error":"#REF!"}},"M","Camper",{"$f":"'Male Cabin Roster'!#REF!","v":{"$error":"#REF!"}},{"$error":"#REF!"},{"$error":"#REF!"}]
[{"$f":"'Housing Request'!$E$5","v":0},{"$f":"'Male Cabin Roster'!#REF!","v":{"$error":"#REF!"}},"M","Leader",{"$f":"'Male Cabin Roster'!#REF!","v":{"$error":"#REF!"}},{"$error":"#REF!"},{"$error":"#REF!"}]
[{"$f":"'Housing Request'!$E$5","v":0},{"$f":"'Male Cabin Roster'!#REF!","v":{"$error":"#REF!"}},"M","Leader",{"$f":"'Male Cabin Roster'!#REF!","v":{"$error":"#REF!"}},{"$error":"#REF!"},{"$error":"#REF!"}]
[{"$f":"'Housing Request'!$E$5","v":0},{"$f":"'Male Cabin Roster'!#REF!","v":{"$error":"#REF!"}},"M","Leader",{"$f":"'Male Cabin Roster'!#REF!","v":{"$error":"#REF!"}},{"$error":"#REF!"},{"$error":"#REF!"}]
[{"$f":"'Housing Request'!$E$5","v":0},{"$f":"'Male Cabin Roster'!#REF!","v":{"$error":"#REF!"}},"M","Leader",{"$f":"'Male Cabin Roster'!#REF!","v":{"$error":"#REF!"}},{"$error":"#REF!"},{"$error":"#REF!"}]
[{"$f":"'Housing Request'!$E$5","v":0},{"$f":"'Male Cabin Roster'!#REF!","v":{"$error":"#REF!"}},"M","Leader",{"$f":"'Male Cabin Roster'!#REF!","v":{"$error":"#REF!"}},{"$error":"#REF!"},{"$error":"#REF!"}]
[{"$f":"'Housing Request'!$E$5","v":0},{"$f":"'Male Cabin Roster'!#REF!","v":{"$error":"#REF!"}},"M","Camper",{"$f":"'Male Cabin Roster'!#REF!","v":{"$error":"#REF!"}},{"$error":"#REF!"},{"$error":"#REF!"}]
[{"$f":"'Housing Request'!$E$5","v":0},{"$f":"'Male Cabin Roster'!#REF!","v":{"$error":"#REF!"}},"M","Camper",{"$f":"'Male Cabin Roster'!#REF!","v":{"$error":"#REF!"}},{"$error":"#REF!"},{"$error":"#REF!"}]
[{"$f":"'Housing Request'!$E$5","v":0},{"$f":"'Male Cabin Roster'!#REF!","v":{"$error":"#REF!"}},"M","Camper",{"$f":"'Male Cabin Roster'!#REF!","v":{"$error":"#REF!"}},{"$error":"#REF!"},{"$error":"#REF!"}]
[{"$f":"'Housing Request'!$E$5","v":0},{"$f":"'Male Cabin Roster'!#REF!","v":{"$error":"#REF!"}},"M","Camper",{"$f":"'Male Cabin Roster'!#REF!","v":{"$error":"#REF!"}},{"$error":"#REF!"},{"$error":"#REF!"}]
[{"$f":"'Housing Request'!$E$5","v":0},{"$f":"'Male Cabin Roster'!#REF!","v":{"$error":"#REF!"}},"M","Camper",{"$f":"'Male Cabin Roster'!#REF!","v":{"$error":"#REF!"}},{"$error":"#REF!"},{"$error":"#REF!"}]
[{"$f":"'Housing Request'!$E$5","v":0},{"$f":"'Male Cabin Roster'!#REF!","v":{"$error":"#REF!"}},"M","Camper",{"$f":"'Male Cabin Roster'!#REF!","v":{"$error":"#REF!"}},{"$error":"#REF!"},{"$error":"#REF!"}]
[{"$f":"'Housing Request'!$E$5","v":0},{"$f":"'Male Cabin Roster'!#REF!","v":{"$error":"#REF!"}},"M","Camper",{"$f":"'Male Cabin Roster'!#REF!","v":{"$error":"#REF!"}},{"$error":"#REF!"},{"$error":"#REF!"}]
[{"$f":"'Housing Request'!$E$5","v":0},{"$f":"'Male Cabin Roster'!#REF!","v":{"$error":"#REF!"}},"M","Camper",{"$f":"'Male Cabin Roster'!#REF!","v":{"$error":"#REF!"}},{"$error":"#REF!"},{"$error":"#REF!"}]
[{"$f":"'Housing Request'!$E$5","v":0},{"$f":"'Male Cabin Roster'!#REF!","v":{"$error":"#REF!"}},"M","Camper",{"$f":"'Male Cabin Roster'!#REF!","v":{"$error":"#REF!"}},{"$error":"#REF!"},{"$error":"#REF!"}]
[{"$f":"'Housing Request'!$E$5","v":0},{"$f":"'Male Cabin Roster'!#REF!","v":{"$error":"#REF!"}},"M","Camper",{"$f":"'Male Cabin Roster'!#REF!","v":{"$error":"#REF!"}},{"$error":"#REF!"},{"$error":"#REF!"}]
[{"$f":"'Housing Request'!$E$5","v":0},{"$f":"'Male Cabin Roster'!#REF!","v":{"$error":"#REF!"}},"M","Camper",{"$f":"'Male Cabin Roster'!#REF!","v":{"$error":"#REF!"}},{"$error":"#REF!"},{"$error":"#REF!"}]
[{"$f":"'Housing Request'!$E$5","v":0},{"$f":"'Male Cabin Roster'!#REF!","v":{"$error":"#REF!"}},"M","Camper",{"$f":"'Male Cabin Roster'!#REF!","v":{"$error":"#REF!"}},{"$error":"#REF!"},{"$error":"#REF!"}]
[{"$f":"'Housing Request'!$E$5","v":0},{"$f":"'Male Cabin Roster'!#REF!","v":{"$error":"#REF!"}},"M","Camper",{"$f":"'Male Cabin Roster'!#REF!","v":{"$error":"#REF!"}},{"$error":"#REF!"},{"$error":"#REF!"}]
[{"$f":"'Housing Request'!$E$5","v":0},{"$f":"'Male Cabin Roster'!#REF!","v":{"$error":"#REF!"}},"M","Camper",{"$f":"'Male Cabin Roster'!#REF!","v":{"$error":"#REF!"}},{"$error":"#REF!"},{"$error":"#REF!"}]
[{"$f":"'Housing Request'!$E$5","v":0},{"$f":"'Male Cabin Roster'!#REF!","v":{"$error":"#REF!"}},"M","Camper",{"$f":"'Male Cabin Roster'!#REF!","v":{"$error":"#REF!"}},{"$error":"#REF!"},{"$error":"#REF!"}]
[{"$f":"'Housing Request'!$E$5","v":0},{"$f":"'Male Cabin Roster'!#REF!","v":{"$error":"#REF!"}},"M","Camper",{"$f":"'Male Cabin Roster'!#REF!","v":{"$error":"#REF!"}},{"$error":"#REF!"},{"$error":"#REF!"}]
[{"$f":"'Housing Request'!$E$5","v":0},{"$f":"'Male Cabin Roster'!#REF!","v":{"$error":"#REF!"}},"M","Camper",{"$f":"'Male Cabin Roster'!#REF!","v":{"$error":"#REF!"}},{"$error":"#REF!"},{"$error":"#REF!"}]
[{"$f":"'Housing Request'!$E$5","v":0},{"$f":"'Male Cabin Roster'!#REF!","v":{"$error":"#REF!"}},"M","Camper",{"$f":"'Male Cabin Roster'!#REF!","v":{"$error":"#REF!"}},{"$error":"#REF!"},{"$error":"#REF!"}]
[{"$f":"'Housing Request'!$E$5","v":0},{"$f":"'Male Cabin Roster'!#REF!","v":{"$error":"#REF!"}},"M","Leader",{"$f":"'Male Cabin Roster'!#REF!","v":{"$error":"#REF!"}},{"$error":"#REF!"},{"$error":"#REF!"}]
[{"$f":"'Housing Request'!$E$5","v":0},{"$f":"'Male Cabin Roster'!#REF!","v":{"$error":"#REF!"}},"M","Leader",{"$f":"'Male Cabin Roster'!#REF!","v":{"$error":"#REF!"}},{"$error":"#REF!"},{"$error":"#REF!"}]
[{"$f":"'Housing Request'!$E$5","v":0},{"$f":"'Male Cabin Roster'!#REF!","v":{"$error":"#REF!"}},"M","Leader",{"$f":"'Male Cabin Roster'!#REF!","v":{"$error":"#REF!"}},{"$error":"#REF!"},{"$error":"#REF!"}]
[{"$f":"'Housing Request'!$E$5","v":0},{"$f":"'Male Cabin Roster'!#REF!","v":{"$error":"#REF!"}},"M","Leader",{"$f":"'Male Cabin Roster'!#REF!","v":{"$error":"#REF!"}},{"$error":"#REF!"},{"$error":"#REF!"}]
[{"$f":"'Housing Request'!$E$5","v":0},{"$f":"'Male Cabin Roster'!#REF!","v":{"$error":"#REF!"}},"M","Leader",{"$f":"'Male Cabin Roster'!#REF!","v":{"$error":"#REF!"}},{"$error":"#REF!"},{"$error":"#REF!"}]
[{"$f":"'Housing Request'!$E$5","v":0},{"$f":"'Male Cabin Roster'!#REF!","v":{"$error":"#REF!"}},"M","Camper",{"$f":"'Male Cabin Roster'!#REF!","v":{"$error":"#REF!"}},{"$error":"#REF!"},{"$error":"#REF!"}]
[{"$f":"'Housing Request'!$E$5","v":0},{"$f":"'Male Cabin Roster'!#REF!","v":{"$error":"#REF!"}},"M","Camper",{"$f":"'Male Cabin Roster'!#REF!","v":{"$error":"#REF!"}},{"$error":"#REF!"},{"$error":"#REF!"}]
[{"$f":"'Housing Request'!$E$5","v":0},{"$f":"'Male Cabin Roster'!#REF!","v":{"$error":"#REF!"}},"M","Camper",{"$f":"'Male Cabin Roster'!#REF!","v":{"$error":"#REF!"}},{"$error":"#REF!"},{"$error":"#REF!"}]
[{"$f":"'Housing Request'!$E$5","v":0},{"$f":"'Male Cabin Roster'!#REF!","v":{"$error":"#REF!"}},"M","Camper",{"$f":"'Male Cabin Roster'!#REF!","v":{"$error":"#REF!"}},{"$error":"#REF!"},{"$error":"#REF!"}]
[{"$f":"'Housing Request'!$E$5","v":0},{"$f":"'Male Cabin Roster'!#REF!","v":{"$error":"#REF!"}},"M","Camper",{"$f":"'Male Cabin Roster'!#REF!","v":{"$error":"#REF!"}},{"$error":"#REF!"},{"$error":"#REF!"}]
[{"$f":"'Housing Request'!$E$5","v":0},{"$f":"'Male Cabin Roster'!#REF!","v":{"$error":"#REF!"}},"M","Camper",{"$f":"'Male Cabin Roster'!#REF!","v":{"$error":"#REF!"}},{"$error":"#REF!"},{"$error":"#REF!"}]
[{"$f":"'Housing Request'!$E$5","v":0},{"$f":"'Male Cabin Roster'!#REF!","v":{"$error":"#REF!"}},"M","Camper",{"$f":"'Male Cabin Roster'!#REF!","v":{"$error":"#REF!"}},{"$error":"#REF!"},{"$error":"#REF!"}]
[{"$f":"'Housing Request'!$E$5","v":0},{"$f":"'Male Cabin Roster'!#REF!","v":{"$error":"#REF!"}},"M","Camper",{"$f":"'Male Cabin Roster'!#REF!","v":{"$error":"#REF!"}},{"$error":"#REF!"},{"$error":"#REF!"}]
[{"$f":"'Housing Request'!$E$5","v":0},{"$f":"'Male Cabin Roster'!#REF!","v":{"$error":"#REF!"}},"M","Camper",{"$f":"'Male Cabin Roster'!#REF!","v":{"$error":"#REF!"}},{"$error":"#REF!"},{"$error":"#REF!"}]
[{"$f":"'Housing Request'!$E$5","v":0},{"$f":"'Male Cabin Roster'!#REF!","v":{"$error":"#REF!"}},"M","Camper",{"$f":"'Male Cabin Roster'!#REF!","v":{"$error":"#REF!"}},{"$error":"#REF!"},{"$error":"#REF!"}]
[{"$f":"'Housing Request'!$E$5","v":0},{"$f":"'Male Cabin Roster'!#REF!","v":{"$error":"#REF!"}},"M","Camper",{"$f":"'Male Cabin Roster'!#REF!","v":{"$error":"#REF!"}},{"$error":"#REF!"},{"$error":"#REF!"}]
[{"$f":"'Housing Request'!$E$5","v":0},{"$f":"'Male Cabin Roster'!#REF!","v":{"$error":"#REF!"}},"M","Camper",{"$f":"'Male Cabin Roster'!#REF!","v":{"$error":"#REF!"}},{"$error":"#REF!"},{"$error":"#REF!"}]
[{"$f":"'Housing Request'!$E$5","v":0},{"$f":"'Male Cabin Roster'!#REF!","v":{"$error":"#REF!"}},"M","Camper",{"$f":"'Male Cabin Roster'!#REF!","v":{"$error":"#REF!"}},{"$error":"#REF!"},{"$error":"#REF!"}]
[{"$f":"'Housing Request'!$E$5","v":0},{"$f":"'Male Cabin Roster'!#REF!","v":{"$error":"#REF!"}},"M","Camper",{"$f":"'Male Cabin Roster'!#REF!","v":{"$error":"#REF!"}},{"$error":"#REF!"},{"$error":"#REF!"}]
[{"$f":"'Housing Request'!$E$5","v":0},{"$f":"'Male Cabin Roster'!#REF!","v":{"$error":"#REF!"}},"M","Camper",{"$f":"'Male Cabin Roster'!#REF!","v":{"$error":"#REF!"}},{"$error":"#REF!"},{"$error":"#REF!"}]
[{"$f":"'Housing Request'!$E$5","v":0},{"$f":"'Male Cabin Roster'!#REF!","v":{"$error":"#REF!"}},"M","Camper",{"$f":"'Male Cabin Roster'!#REF!","v":{"$error":"#REF!"}},{"$error":"#REF!"},{"$error":"#REF!"}]
[{"$f":"'Housing Request'!$E$5","v":0},{"$f":"'Male Cabin Roster'!#REF!","v":{"$error":"#REF!"}},"M","Camper",{"$f":"'Male Cabin Roster'!#REF!","v":{"$error":"#REF!"}},{"$error":"#REF!"},{"$error":"#REF!"}]
[{"$f":"'Housing Request'!$E$5","v":0},{"$f":"'Male Cabin Roster'!#REF!","v":{"$error":"#REF!"}},"M","Camper",{"$f":"'Male Cabin Roster'!#REF!","v":{"$error":"#REF!"}},{"$error":"#REF!"},{"$error":"#REF!"}]
[{"$f":"'Housing Request'!$E$5","v":0},{"$f":"'Male Cabin Roster'!#REF!","v":{"$error":"#REF!"}},"M","Leader",{"$f":"'Male Cabin Roster'!#REF!","v":{"$error":"#REF!"}},{"$error":"#REF!"},{"$error":"#REF!"}]
[{"$f":"'Housing Request'!$E$5","v":0},{"$f":"'Male Cabin Roster'!#REF!","v":{"$error":"#REF!"}},"M","Leader",{"$f":"'Male Cabin Roster'!#REF!","v":{"$error":"#REF!"}},{"$error":"#REF!"},{"$error":"#REF!"}]
[{"$f":"'Housing Request'!$E$5","v":0},{"$f":"'Male Cabin Roster'!#REF!","v":{"$error":"#REF!"}},"M","Leader",{"$f":"'Male Cabin Roster'!#REF!","v":{"$error":"#REF!"}},{"$error":"#REF!"},{"$error":"#REF!"}]
[{"$f":"'Housing Request'!$E$5","v":0},{"$f":"'Male Cabin Roster'!#REF!","v":{"$error":"#REF!"}},"M","Leader",{"$f":"'Male Cabin Roster'!#REF!","v":{"$error":"#REF!"}},{"$error":"#REF!"},{"$error":"#REF!"}]
[{"$f":"'Housing Request'!$E$5","v":0},{"$f":"'Male Cabin Roster'!#REF!","v":{"$error":"#REF!"}},"M","Leader",{"$f":"'Male Cabin Roster'!#REF!","v":{"$error":"#REF!"}},{"$error":"#REF!"},{"$error":"#REF!"}]
[{"$f":"'Housing Request'!$E$5","v":0},{"$f":"'Male Cabin Roster'!#REF!","v":{"$error":"#REF!"}},"M","Camper",{"$f":"'Male Cabin Roster'!#REF!","v":{"$error":"#REF!"}},{"$error":"#REF!"},{"$error":"#REF!"}]
[{"$f":"'Housing Request'!$E$5","v":0},{"$f":"'Male Cabin Roster'!#REF!","v":{"$error":"#REF!"}},"M","Camper",{"$f":"'Male Cabin Roster'!#REF!","v":{"$error":"#REF!"}},{"$error":"#REF!"},{"$error":"#REF!"}]
[{"$f":"'Housing Request'!$E$5","v":0},{"$f":"'Male Cabin Roster'!#REF!","v":{"$error":"#REF!"}},"M","Camper",{"$f":"'Male Cabin Roster'!#REF!","v":{"$error":"#REF!"}},{"$error":"#REF!"},{"$error":"#REF!"}]
[{"$f":"'Housing Request'!$E$5","v":0},{"$f":"'Male Cabin Roster'!#REF!","v":{"$error":"#REF!"}},"M","Camper",{"$f":"'Male Cabin Roster'!#REF!","v":{"$error":"#REF!"}},{"$error":"#REF!"},{"$error":"#REF!"}]
[{"$f":"'Housing Request'!$E$5","v":0},{"$f":"'Male Cabin Roster'!#REF!","v":{"$error":"#REF!"}},"M","Camper",{"$f":"'Male Cabin Roster'!#REF!","v":{"$error":"#REF!"}},{"$error":"#REF!"},{"$error":"#REF!"}]
[{"$f":"'Housing Request'!$E$5","v":0},{"$f":"'Male Cabin Roster'!#REF!","v":{"$error":"#REF!"}},"M","Camper",{"$f":"'Male Cabin Roster'!#REF!","v":{"$error":"#REF!"}},{"$error":"#REF!"},{"$error":"#REF!"}]
[{"$f":"'Housing Request'!$E$5","v":0},{"$f":"'Male Cabin Roster'!#REF!","v":{"$error":"#REF!"}},"M","Camper",{"$f":"'Male Cabin Roster'!#REF!","v":{"$error":"#REF!"}},{"$f":"IF(G449<=6,\"SS\",(IF(G449<300,\"BA\",\"HS\")))","v":{"$error":"#REF!"}},{"$f":"INT(LEFT(E449,3))","v":{"$error":"#REF!"}}]
[{"$f":"'Housing Request'!$E$5","v":0},{"$f":"'Male Cabin Roster'!#REF!","v":{"$error":"#REF!"}},"M","Camper",{"$f":"'Male Cabin Roster'!#REF!","v":{"$error":"#REF!"}},{"$error":"#REF!"},{"$error":"#REF!"}]
[{"$f":"'Housing Request'!$E$5","v":0},{"$f":"'Male Cabin Roster'!#REF!","v":{"$error":"#REF!"}},"M","Camper",{"$f":"'Male Cabin Roster'!#REF!","v":{"$error":"#REF!"}},{"$error":"#REF!"},{"$error":"#REF!"}]
[{"$f":"'Housing Request'!$E$5","v":0},{"$f":"'Male Cabin Roster'!#REF!","v":{"$error":"#REF!"}},"M","Camper",{"$f":"'Male Cabin Roster'!#REF!","v":{"$error":"#REF!"}},{"$error":"#REF!"},{"$error":"#REF!"}]
[{"$f":"'Housing Request'!$E$5","v":0},{"$f":"'Male Cabin Roster'!#REF!","v":{"$error":"#REF!"}},"M","Camper",{"$f":"'Male Cabin Roster'!#REF!","v":{"$error":"#REF!"}},{"$error":"#REF!"},{"$error":"#REF!"}]
[{"$f":"'Housing Request'!$E$5","v":0},{"$f":"'Male Cabin Roster'!#REF!","v":{"$error":"#REF!"}},"M","Camper",{"$f":"'Male Cabin Roster'!#REF!","v":{"$error":"#REF!"}},{"$error":"#REF!"},{"$error":"#REF!"}]
[{"$f":"'Housing Request'!$E$5","v":0},{"$f":"'Male Cabin Roster'!#REF!","v":{"$error":"#REF!"}},"M","Camper",{"$f":"'Male Cabin Roster'!#REF!","v":{"$error":"#REF!"}},{"$error":"#REF!"},{"$error":"#REF!"}]
[{"$f":"'Housing Request'!$E$5","v":0},{"$f":"'Male Cabin Roster'!#REF!","v":{"$error":"#REF!"}},"M","Camper",{"$f":"'Male Cabin Roster'!#REF!","v":{"$error":"#REF!"}},{"$error":"#REF!"},{"$error":"#REF!"}]
[{"$f":"'Housing Request'!$E$5","v":0},{"$f":"'Male Cabin Roster'!#REF!","v":{"$error":"#REF!"}},"M","Camper",{"$f":"'Male Cabin Roster'!#REF!","v":{"$error":"#REF!"}},{"$error":"#REF!"},{"$error":"#REF!"}]
[{"$f":"'Housing Request'!$E$5","v":0},{"$f":"'Male Cabin Roster'!#REF!","v":{"$error":"#REF!"}},"M","Camper",{"$f":"'Male Cabin Roster'!#REF!","v":{"$error":"#REF!"}},{"$error":"#REF!"},{"$error":"#REF!"}]
[{"$f":"'Housing Request'!$E$5","v":0},{"$f":"'Male Cabin Roster'!#REF!","v":{"$error":"#REF!"}},"M","Camper",{"$f":"'Male Cabin Roster'!#REF!","v":{"$error":"#REF!"}},{"$error":"#REF!"},{"$error":"#REF!"}]
[{"$f":"'Housing Request'!$E$5","v":0},{"$f":"'Male Cabin Roster'!#REF!","v":{"$error":"#REF!"}},"M","Camper",{"$f":"'Male Cabin Roster'!#REF!","v":{"$error":"#REF!"}},{"$error":"#REF!"},{"$error":"#REF!"}]
[{"$f":"'Housing Request'!$E$5","v":0},{"$f":"'Male Cabin Roster'!#REF!","v":{"$error":"#REF!"}},"M","Leader",{"$f":"'Male Cabin Roster'!#REF!","v":{"$error":"#REF!"}},{"$error":"#REF!"},{"$error":"#REF!"}]
[{"$f":"'Housing Request'!$E$5","v":0},{"$f":"'Male Cabin Roster'!#REF!","v":{"$error":"#REF!"}},"M","Leader",{"$f":"'Male Cabin Roster'!#REF!","v":{"$error":"#REF!"}},{"$error":"#REF!"},{"$error":"#REF!"}]
[{"$f":"'Housing Request'!$E$5","v":0},{"$f":"'Male Cabin Roster'!#REF!","v":{"$error":"#REF!"}},"M","Leader",{"$f":"'Male Cabin Roster'!#REF!","v":{"$error":"#REF!"}},{"$error":"#REF!"},{"$error":"#REF!"}]
[{"$f":"'Housing Request'!$E$5","v":0},{"$f":"'Male Cabin Roster'!#REF!","v":{"$error":"#REF!"}},"M","Leader",{"$f":"'Male Cabin Roster'!#REF!","v":{"$error":"#REF!"}},{"$error":"#REF!"},{"$error":"#REF!"}]
[{"$f":"'Housing Request'!$E$5","v":0},{"$f":"'Male Cabin Roster'!#REF!","v":{"$error":"#REF!"}},"M","Leader",{"$f":"'Male Cabin Roster'!#REF!","v":{"$error":"#REF!"}},{"$error":"#REF!"},{"$error":"#REF!"}]
[{"$f":"'Housing Request'!$E$5","v":0},{"$f":"'Male Cabin Roster'!#REF!","v":{"$error":"#REF!"}},"M","Camper",{"$f":"'Male Cabin Roster'!#REF!","v":{"$error":"#REF!"}},{"$error":"#REF!"},{"$error":"#REF!"}]
[{"$f":"'Housing Request'!$E$5","v":0},{"$f":"'Male Cabin Roster'!#REF!","v":{"$error":"#REF!"}},"M","Camper",{"$f":"'Male Cabin Roster'!#REF!","v":{"$error":"#REF!"}},{"$error":"#REF!"},{"$error":"#REF!"}]
[{"$f":"'Housing Request'!$E$5","v":0},{"$f":"'Male Cabin Roster'!#REF!","v":{"$error":"#REF!"}},"M","Camper",{"$f":"'Male Cabin Roster'!#REF!","v":{"$error":"#REF!"}},{"$error":"#REF!"},{"$error":"#REF!"}]
[{"$f":"'Housing Request'!$E$5","v":0},{"$f":"'Male Cabin Roster'!#REF!","v":{"$error":"#REF!"}},"M","Camper",{"$f":"'Male Cabin Roster'!#REF!","v":{"$error":"#REF!"}},{"$error":"#REF!"},{"$error":"#REF!"}]
[{"$f":"'Housing Request'!$E$5","v":0},{"$f":"'Male Cabin Roster'!#REF!","v":{"$error":"#REF!"}},"M","Camper",{"$f":"'Male Cabin Roster'!#REF!","v":{"$error":"#REF!"}},{"$error":"#REF!"},{"$error":"#REF!"}]
[{"$f":"'Housing Request'!$E$5","v":0},{"$f":"'Male Cabin Roster'!#REF!","v":{"$error":"#REF!"}},"M","Camper",{"$f":"'Male Cabin Roster'!#REF!","v":{"$error":"#REF!"}},{"$error":"#REF!"},{"$error":"#REF!"}]
[{"$f":"'Housing Request'!$E$5","v":0},{"$f":"'Male Cabin Roster'!#REF!","v":{"$error":"#REF!"}},"M","Camper",{"$f":"'Male Cabin Roster'!#REF!","v":{"$error":"#REF!"}},{"$error":"#REF!"},{"$error":"#REF!"}]
[{"$f":"'Housing Request'!$E$5","v":0},{"$f":"'Male Cabin Roster'!#REF!","v":{"$error":"#REF!"}},"M","Camper",{"$f":"'Male Cabin Roster'!#REF!","v":{"$error":"#REF!"}},{"$error":"#REF!"},{"$error":"#REF!"}]
[{"$f":"'Housing Request'!$E$5","v":0},{"$f":"'Male Cabin Roster'!#REF!","v":{"$error":"#REF!"}},"M","Camper",{"$f":"'Male Cabin Roster'!#REF!","v":{"$error":"#REF!"}},{"$error":"#REF!"},{"$error":"#REF!"}]
[{"$f":"'Housing Request'!$E$5","v":0},{"$f":"'Male Cabin Roster'!#REF!","v":{"$error":"#REF!"}},"M","Camper",{"$f":"'Male Cabin Roster'!#REF!","v":{"$error":"#REF!"}},{"$error":"#REF!"},{"$error":"#REF!"}]
[{"$f":"'Housing Request'!$E$5","v":0},{"$f":"'Male Cabin Roster'!#REF!","v":{"$error":"#REF!"}},"M","Camper",{"$f":"'Male Cabin Roster'!#REF!","v":{"$error":"#REF!"}},{"$error":"#REF!"},{"$error":"#REF!"}]
[{"$f":"'Housing Request'!$E$5","v":0},{"$f":"'Male Cabin Roster'!#REF!","v":{"$error":"#REF!"}},"M","Camper",{"$f":"'Male Cabin Roster'!#REF!","v":{"$error":"#REF!"}},{"$error":"#REF!"},{"$error":"#REF!"}]
[{"$f":"'Housing Request'!$E$5","v":0},{"$f":"'Male Cabin Roster'!#REF!","v":{"$error":"#REF!"}},"M","Camper",{"$f":"'Male Cabin Roster'!#REF!","v":{"$error":"#REF!"}},{"$error":"#REF!"},{"$error":"#REF!"}]
[{"$f":"'Housing Request'!$E$5","v":0},{"$f":"'Male Cabin Roster'!#REF!","v":{"$error":"#REF!"}},"M","Camper",{"$f":"'Male Cabin Roster'!#REF!","v":{"$error":"#REF!"}},{"$error":"#REF!"},{"$error":"#REF!"}]
[{"$f":"'Housing Request'!$E$5","v":0},{"$f":"'Male Cabin Roster'!#REF!","v":{"$error":"#REF!"}},"M","Camper",{"$f":"'Male Cabin Roster'!#REF!","v":{"$error":"#REF!"}},{"$error":"#REF!"},{"$error":"#REF!"}]
[{"$f":"'Housing Request'!$E$5","v":0},{"$f":"'Male Cabin Roster'!#REF!","v":{"$error":"#REF!"}},"M","Camper",{"$f":"'Male Cabin Roster'!#REF!","v":{"$error":"#REF!"}},{"$error":"#REF!"},{"$error":"#REF!"}]
[{"$f":"'Housing Request'!$E$5","v":0},{"$f":"'Male Cabin Roster'!#REF!","v":{"$error":"#REF!"}},"M","Camper",{"$f":"'Male Cabin Roster'!#REF!","v":{"$error":"#REF!"}},{"$error":"#REF!"},{"$error":"#REF!"}]
[{"$f":"'Housing Request'!$E$5","v":0},{"$f":"'Male Cabin Roster'!#REF!","v":{"$error":"#REF!"}},"M","Camper",{"$f":"'Male Cabin Roster'!#REF!","v":{"$error":"#REF!"}},{"$error":"#REF!"},{"$error":"#REF!"}]
[{"$f":"'Housing Request'!$E$5","v":0},{"$f":"'Male Cabin Roster'!#REF!","v":{"$error":"#REF!"}},"M","Leader",{"$f":"'Male Cabin Roster'!#REF!","v":{"$error":"#REF!"}},{"$error":"#REF!"},{"$error":"#REF!"}]
[{"$f":"'Housing Request'!$E$5","v":0},{"$f":"'Male Cabin Roster'!#REF!","v":{"$error":"#REF!"}},"M","Leader",{"$f":"'Male Cabin Roster'!#REF!","v":{"$error":"#REF!"}},{"$error":"#REF!"},{"$error":"#REF!"}]
[{"$f":"'Housing Request'!$E$5","v":0},{"$f":"'Male Cabin Roster'!#REF!","v":{"$error":"#REF!"}},"M","Leader",{"$f":"'Male Cabin Roster'!#REF!","v":{"$error":"#REF!"}},{"$error":"#REF!"},{"$error":"#REF!"}]
[{"$f":"'Housing Request'!$E$5","v":0},{"$f":"'Male Cabin Roster'!#REF!","v":{"$error":"#REF!"}},"M","Leader",{"$f":"'Male Cabin Roster'!#REF!","v":{"$error":"#REF!"}},{"$error":"#REF!"},{"$error":"#REF!"}]
[{"$f":"'Housing Request'!$E$5","v":0},{"$f":"'Male Cabin Roster'!#REF!","v":{"$error":"#REF!"}},"M","Leader",{"$f":"'Male Cabin Roster'!#REF!","v":{"$error":"#REF!"}},{"$error":"#REF!"},{"$error":"#REF!"}]
[{"$f":"'Housing Request'!$E$5","v":0},{"$f":"'Male Cabin Roster'!#REF!","v":{"$error":"#REF!"}},"M","Camper",{"$f":"'Male Cabin Roster'!#REF!","v":{"$error":"#REF!"}},{"$error":"#REF!"},{"$error":"#REF!"}]
[{"$f":"'Housing Request'!$E$5","v":0},{"$f":"'Male Cabin Roster'!#REF!","v":{"$error":"#REF!"}},"M","Camper",{"$f":"'Male Cabin Roster'!#REF!","v":{"$error":"#REF!"}},{"$error":"#REF!"},{"$error":"#REF!"}]
[{"$f":"'Housing Request'!$E$5","v":0},{"$f":"'Male Cabin Roster'!#REF!","v":{"$error":"#REF!"}},"M","Camper",{"$f":"'Male Cabin Roster'!#REF!","v":{"$error":"#REF!"}},{"$error":"#REF!"},{"$error":"#REF!"}]
[{"$f":"'Housing Request'!$E$5","v":0},{"$f":"'Male Cabin Roster'!#REF!","v":{"$error":"#REF!"}},"M","Camper",{"$f":"'Male Cabin Roster'!#REF!","v":{"$error":"#REF!"}},{"$error":"#REF!"},{"$error":"#REF!"}]
[{"$f":"'Housing Request'!$E$5","v":0},{"$f":"'Male Cabin Roster'!#REF!","v":{"$error":"#REF!"}},"M","Camper",{"$f":"'Male Cabin Roster'!#REF!","v":{"$error":"#REF!"}},{"$error":"#REF!"},{"$error":"#REF!"}]
[{"$f":"'Housing Request'!$E$5","v":0},{"$f":"'Male Cabin Roster'!#REF!","v":{"$error":"#REF!"}},"M","Camper",{"$f":"'Male Cabin Roster'!#REF!","v":{"$error":"#REF!"}},{"$error":"#REF!"},{"$error":"#REF!"}]
[{"$f":"'Housing Request'!$E$5","v":0},{"$f":"'Male Cabin Roster'!#REF!","v":{"$error":"#REF!"}},"M","Camper",{"$f":"'Male Cabin Roster'!#REF!","v":{"$error":"#REF!"}},{"$error":"#REF!"},{"$error":"#REF!"}]
[{"$f":"'Housing Request'!$E$5","v":0},{"$f":"'Male Cabin Roster'!#REF!","v":{"$error":"#REF!"}},"M","Camper",{"$f":"'Male Cabin Roster'!#REF!","v":{"$error":"#REF!"}},{"$error":"#REF!"},{"$error":"#REF!"}]
[{"$f":"'Housing Request'!$E$5","v":0},{"$f":"'Male Cabin Roster'!#REF!","v":{"$error":"#REF!"}},"M","Camper",{"$f":"'Male Cabin Roster'!#REF!","v":{"$error":"#REF!"}},{"$error":"#REF!"},{"$error":"#REF!"}]
[{"$f":"'Housing Request'!$E$5","v":0},{"$f":"'Male Cabin Roster'!#REF!","v":{"$error":"#REF!"}},"M","Camper",{"$f":"'Male Cabin Roster'!#REF!","v":{"$error":"#REF!"}},{"$error":"#REF!"},{"$error":"#REF!"}]
[{"$f":"'Housing Request'!$E$5","v":0},{"$f":"'Male Cabin Roster'!#REF!","v":{"$error":"#REF!"}},"M","Camper",{"$f":"'Male Cabin Roster'!#REF!","v":{"$error":"#REF!"}},{"$error":"#REF!"},{"$error":"#REF!"}]
[{"$f":"'Housing Request'!$E$5","v":0},{"$f":"'Male Cabin Roster'!#REF!","v":{"$error":"#REF!"}},"M","Camper",{"$f":"'Male Cabin Roster'!#REF!","v":{"$error":"#REF!"}},{"$error":"#REF!"},{"$error":"#REF!"}]
[{"$f":"'Housing Request'!$E$5","v":0},{"$f":"'Male Cabin Roster'!#REF!","v":{"$error":"#REF!"}},"M","Camper",{"$f":"'Male Cabin Roster'!#REF!","v":{"$error":"#REF!"}},{"$error":"#REF!"},{"$error":"#REF!"}]
[{"$f":"'Housing Request'!$E$5","v":0},{"$f":"'Male Cabin Roster'!#REF!","v":{"$error":"#REF!"}},"M","Camper",{"$f":"'Male Cabin Roster'!#REF!","v":{"$error":"#REF!"}},{"$error":"#REF!"},{"$error":"#REF!"}]
[{"$f":"'Housing Request'!$E$5","v":0},{"$f":"'Male Cabin Roster'!#REF!","v":{"$error":"#REF!"}},"M","Camper",{"$f":"'Male Cabin Roster'!#REF!","v":{"$error":"#REF!"}},{"$error":"#REF!"},{"$error":"#REF!"}]
[{"$f":"'Housing Request'!$E$5","v":0},{"$f":"'Male Cabin Roster'!#REF!","v":{"$error":"#REF!"}},"M","Camper",{"$f":"'Male Cabin Roster'!#REF!","v":{"$error":"#REF!"}},{"$error":"#REF!"},{"$error":"#REF!"}]
[{"$f":"'Housing Request'!$E$5","v":0},{"$f":"'Male Cabin Roster'!#REF!","v":{"$error":"#REF!"}},"M","Camper",{"$f":"'Male Cabin Roster'!#REF!","v":{"$error":"#REF!"}},{"$error":"#REF!"},{"$error":"#REF!"}]
[{"$f":"'Housing Request'!$E$5","v":0},{"$f":"'Male Cabin Roster'!#REF!","v":{"$error":"#REF!"}},"M","Camper",{"$f":"'Male Cabin Roster'!#REF!","v":{"$error":"#REF!"}},{"$error":"#REF!"},{"$error":"#REF!"}]
[{"$f":"'Housing Request'!$E$5","v":0},{"$f":"'Male Cabin Roster'!#REF!","v":{"$error":"#REF!"}},"M","Leader",{"$f":"'Male Cabin Roster'!#REF!","v":{"$error":"#REF!"}},{"$error":"#REF!"},{"$error":"#REF!"}]
[{"$f":"'Housing Request'!$E$5","v":0},{"$f":"'Male Cabin Roster'!#REF!","v":{"$error":"#REF!"}},"M","Leader",{"$f":"'Male Cabin Roster'!#REF!","v":{"$error":"#REF!"}},{"$error":"#REF!"},{"$error":"#REF!"}]
[{"$f":"'Housing Request'!$E$5","v":0},{"$f":"'Male Cabin Roster'!#REF!","v":{"$error":"#REF!"}},"M","Leader",{"$f":"'Male Cabin Roster'!#REF!","v":{"$error":"#REF!"}},{"$error":"#REF!"},{"$error":"#REF!"}]
[{"$f":"'Housing Request'!$E$5","v":0},{"$f":"'Male Cabin Roster'!#REF!","v":{"$error":"#REF!"}},"M","Leader",{"$f":"'Male Cabin Roster'!#REF!","v":{"$error":"#REF!"}},{"$error":"#REF!"},{"$error":"#REF!"}]
[{"$f":"'Housing Request'!$E$5","v":0},{"$f":"'Male Cabin Roster'!#REF!","v":{"$error":"#REF!"}},"M","Leader",{"$f":"'Male Cabin Roster'!#REF!","v":{"$error":"#REF!"}},{"$error":"#REF!"},{"$error":"#REF!"}]
[{"$f":"'Housing Request'!$E$5","v":0},{"$f":"'Male Cabin Roster'!#REF!","v":{"$error":"#REF!"}},"M","Camper",{"$f":"'Male Cabin Roster'!#REF!","v":{"$error":"#REF!"}},{"$error":"#REF!"},{"$error":"#REF!"}]
[{"$f":"'Housing Request'!$E$5","v":0},{"$f":"'Male Cabin Roster'!#REF!","v":{"$error":"#REF!"}},"M","Camper",{"$f":"'Male Cabin Roster'!#REF!","v":{"$error":"#REF!"}},{"$f":"IF(G513<=6,\"SS\",(IF(G513<300,\"BA\",\"HS\")))","v":{"$error":"#REF!"}},{"$f":"INT(LEFT(E513,3))","v":{"$error":"#REF!"}}]
[{"$f":"'Housing Request'!$E$5","v":0},{"$f":"'Male Cabin Roster'!#REF!","v":{"$error":"#REF!"}},"M","Camper",{"$f":"'Male Cabin Roster'!#REF!","v":{"$error":"#REF!"}},{"$error":"#REF!"},{"$error":"#REF!"}]
[{"$f":"'Housing Request'!$E$5","v":0},{"$f":"'Male Cabin Roster'!#REF!","v":{"$error":"#REF!"}},"M","Camper",{"$f":"'Male Cabin Roster'!#REF!","v":{"$error":"#REF!"}},{"$error":"#REF!"},{"$error":"#REF!"}]
[{"$f":"'Housing Request'!$E$5","v":0},{"$f":"'Male Cabin Roster'!#REF!","v":{"$error":"#REF!"}},"M","Camper",{"$f":"'Male Cabin Roster'!#REF!","v":{"$error":"#REF!"}},{"$error":"#REF!"},{"$error":"#REF!"}]
[{"$f":"'Housing Request'!$E$5","v":0},{"$f":"'Male Cabin Roster'!#REF!","v":{"$error":"#REF!"}},"M","Camper",{"$f":"'Male Cabin Roster'!#REF!","v":{"$error":"#REF!"}},{"$error":"#REF!"},{"$error":"#REF!"}]
[{"$f":"'Housing Request'!$E$5","v":0},{"$f":"'Male Cabin Roster'!#REF!","v":{"$error":"#REF!"}},"M","Camper",{"$f":"'Male Cabin Roster'!#REF!","v":{"$error":"#REF!"}},{"$error":"#REF!"},{"$error":"#REF!"}]
[{"$f":"'Housing Request'!$E$5","v":0},{"$f":"'Male Cabin Roster'!#REF!","v":{"$error":"#REF!"}},"M","Camper",{"$f":"'Male Cabin Roster'!#REF!","v":{"$error":"#REF!"}},{"$error":"#REF!"},{"$error":"#REF!"}]
[{"$f":"'Housing Request'!$E$5","v":0},{"$f":"'Male Cabin Roster'!#REF!","v":{"$error":"#REF!"}},"M","Camper",{"$f":"'Male Cabin Roster'!#REF!","v":{"$error":"#REF!"}},{"$error":"#REF!"},{"$error":"#REF!"}]
[{"$f":"'Housing Request'!$E$5","v":0},{"$f":"'Male Cabin Roster'!#REF!","v":{"$error":"#REF!"}},"M","Camper",{"$f":"'Male Cabin Roster'!#REF!","v":{"$error":"#REF!"}},{"$error":"#REF!"},{"$error":"#REF!"}]
[{"$f":"'Housing Request'!$E$5","v":0},{"$f":"'Male Cabin Roster'!#REF!","v":{"$error":"#REF!"}},"M","Camper",{"$f":"'Male Cabin Roster'!#REF!","v":{"$error":"#REF!"}},{"$error":"#REF!"},{"$error":"#REF!"}]
[{"$f":"'Housing Request'!$E$5","v":0},{"$f":"'Male Cabin Roster'!#REF!","v":{"$error":"#REF!"}},"M","Camper",{"$f":"'Male Cabin Roster'!#REF!","v":{"$error":"#REF!"}},{"$error":"#REF!"},{"$error":"#REF!"}]
[{"$f":"'Housing Request'!$E$5","v":0},{"$f":"'Male Cabin Roster'!#REF!","v":{"$error":"#REF!"}},"M","Camper",{"$f":"'Male Cabin Roster'!#REF!","v":{"$error":"#REF!"}},{"$error":"#REF!"},{"$error":"#REF!"}]
[{"$f":"'Housing Request'!$E$5","v":0},{"$f":"'Male Cabin Roster'!#REF!","v":{"$error":"#REF!"}},"M","Camper",{"$f":"'Male Cabin Roster'!#REF!","v":{"$error":"#REF!"}},{"$error":"#REF!"},{"$error":"#REF!"}]
[{"$f":"'Housing Request'!$E$5","v":0},{"$f":"'Male Cabin Roster'!#REF!","v":{"$error":"#REF!"}},"M","Camper",{"$f":"'Male Cabin Roster'!#REF!","v":{"$error":"#REF!"}},{"$error":"#REF!"},{"$error":"#REF!"}]
[{"$f":"'Housing Request'!$E$5","v":0},{"$f":"'Male Cabin Roster'!#REF!","v":{"$error":"#REF!"}},"M","Camper",{"$f":"'Male Cabin Roster'!#REF!","v":{"$error":"#REF!"}},{"$error":"#REF!"},{"$error":"#REF!"}]
[{"$f":"'Housing Request'!$E$5","v":0},{"$f":"'Male Cabin Roster'!#REF!","v":{"$error":"#REF!"}},"M","Camper",{"$f":"'Male Cabin Roster'!#REF!","v":{"$error":"#REF!"}},{"$error":"#REF!"},{"$error":"#REF!"}]
[{"$f":"'Housing Request'!$E$5","v":0},{"$f":"'Male Cabin Roster'!#REF!","v":{"$error":"#REF!"}},"M","Camper",{"$f":"'Male Cabin Roster'!#REF!","v":{"$error":"#REF!"}},{"$error":"#REF!"},{"$error":"#REF!"}]
[{"$f":"'Housing Request'!$E$5","v":0},{"$f":"'Male Cabin Roster'!#REF!","v":{"$error":"#REF!"}},"M","Leader",{"$f":"'Male Cabin Roster'!#REF!","v":{"$error":"#REF!"}},{"$error":"#REF!"},{"$error":"#REF!"}]
[{"$f":"'Housing Request'!$E$5","v":0},{"$f":"'Male Cabin Roster'!#REF!","v":{"$error":"#REF!"}},"M","Leader",{"$f":"'Male Cabin Roster'!#REF!","v":{"$error":"#REF!"}},{"$error":"#REF!"},{"$error":"#REF!"}]
[{"$f":"'Housing Request'!$E$5","v":0},{"$f":"'Male Cabin Roster'!#REF!","v":{"$error":"#REF!"}},"M","Leader",{"$f":"'Male Cabin Roster'!#REF!","v":{"$error":"#REF!"}},{"$error":"#REF!"},{"$error":"#REF!"}]
[{"$f":"'Housing Request'!$E$5","v":0},{"$f":"'Male Cabin Roster'!#REF!","v":{"$error":"#REF!"}},"M","Leader",{"$f":"'Male Cabin Roster'!#REF!","v":{"$error":"#REF!"}},{"$error":"#REF!"},{"$error":"#REF!"}]
[{"$f":"'Housing Request'!$E$5","v":0},{"$f":"'Male Cabin Roster'!#REF!","v":{"$error":"#REF!"}},"M","Leader",{"$f":"'Male Cabin Roster'!#REF!","v":{"$error":"#REF!"}},{"$error":"#REF!"},{"$error":"#REF!"}]
[{"$f":"'Housing Request'!$E$5","v":0},{"$f":"'Male Cabin Roster'!#REF!","v":{"$error":"#REF!"}},"M","Camper",{"$f":"'Male Cabin Roster'!#REF!","v":{"$error":"#REF!"}},{"$error":"#REF!"},{"$error":"#REF!"}]
[{"$f":"'Housing Request'!$E$5","v":0},{"$f":"'Male Cabin Roster'!#REF!","v":{"$error":"#REF!"}},"M","Camper",{"$f":"'Male Cabin Roster'!#REF!","v":{"$error":"#REF!"}},{"$error":"#REF!"},{"$error":"#REF!"}]
[{"$f":"'Housing Request'!$E$5","v":0},{"$f":"'Male Cabin Roster'!#REF!","v":{"$error":"#REF!"}},"M","Camper",{"$f":"'Male Cabin Roster'!#REF!","v":{"$error":"#REF!"}},{"$error":"#REF!"},{"$error":"#REF!"}]
[{"$f":"'Housing Request'!$E$5","v":0},{"$f":"'Male Cabin Roster'!#REF!","v":{"$error":"#REF!"}},"M","Camper",{"$f":"'Male Cabin Roster'!#REF!","v":{"$error":"#REF!"}},{"$error":"#REF!"},{"$error":"#REF!"}]
[{"$f":"'Housing Request'!$E$5","v":0},{"$f":"'Male Cabin Roster'!#REF!","v":{"$error":"#REF!"}},"M","Camper",{"$f":"'Male Cabin Roster'!#REF!","v":{"$error":"#REF!"}},{"$error":"#REF!"},{"$error":"#REF!"}]
[{"$f":"'Housing Request'!$E$5","v":0},{"$f":"'Male Cabin Roster'!#REF!","v":{"$error":"#REF!"}},"M","Camper",{"$f":"'Male Cabin Roster'!#REF!","v":{"$error":"#REF!"}},{"$error":"#REF!"},{"$error":"#REF!"}]
[{"$f":"'Housing Request'!$E$5","v":0},{"$f":"'Male Cabin Roster'!#REF!","v":{"$error":"#REF!"}},"M","Camper",{"$f":"'Male Cabin Roster'!#REF!","v":{"$error":"#REF!"}},{"$error":"#REF!"},{"$error":"#REF!"}]
[{"$f":"'Housing Request'!$E$5","v":0},{"$f":"'Male Cabin Roster'!#REF!","v":{"$error":"#REF!"}},"M","Camper",{"$f":"'Male Cabin Roster'!#REF!","v":{"$error":"#REF!"}},{"$error":"#REF!"},{"$error":"#REF!"}]
[{"$f":"'Housing Request'!$E$5","v":0},{"$f":"'Male Cabin Roster'!#REF!","v":{"$error":"#REF!"}},"M","Camper",{"$f":"'Male Cabin Roster'!#REF!","v":{"$error":"#REF!"}},{"$error":"#REF!"},{"$error":"#REF!"}]
[{"$f":"'Housing Request'!$E$5","v":0},{"$f":"'Male Cabin Roster'!#REF!","v":{"$error":"#REF!"}},"M","Camper",{"$f":"'Male Cabin Roster'!#REF!","v":{"$error":"#REF!"}},{"$error":"#REF!"},{"$error":"#REF!"}]
[{"$f":"'Housing Request'!$E$5","v":0},{"$f":"'Male Cabin Roster'!#REF!","v":{"$error":"#REF!"}},"M","Camper",{"$f":"'Male Cabin Roster'!#REF!","v":{"$error":"#REF!"}},{"$error":"#REF!"},{"$error":"#REF!"}]
[{"$f":"'Housing Request'!$E$5","v":0},{"$f":"'Male Cabin Roster'!#REF!","v":{"$error":"#REF!"}},"M","Camper",{"$f":"'Male Cabin Roster'!#REF!","v":{"$error":"#REF!"}},{"$error":"#REF!"},{"$error":"#REF!"}]
[{"$f":"'Housing Request'!$E$5","v":0},{"$f":"'Male Cabin Roster'!#REF!","v":{"$error":"#REF!"}},"M","Camper",{"$f":"'Male Cabin Roster'!#REF!","v":{"$error":"#REF!"}},{"$error":"#REF!"},{"$error":"#REF!"}]
[{"$f":"'Housing Request'!$E$5","v":0},{"$f":"'Male Cabin Roster'!#REF!","v":{"$error":"#REF!"}},"M","Camper",{"$f":"'Male Cabin Roster'!#REF!","v":{"$error":"#REF!"}},{"$error":"#REF!"},{"$error":"#REF!"}]
[{"$f":"'Housing Request'!$E$5","v":0},{"$f":"'Male Cabin Roster'!#REF!","v":{"$error":"#REF!"}},"M","Camper",{"$f":"'Male Cabin Roster'!#REF!","v":{"$error":"#REF!"}},{"$error":"#REF!"},{"$error":"#REF!"}]
[{"$f":"'Housing Request'!$E$5","v":0},{"$f":"'Male Cabin Roster'!#REF!","v":{"$error":"#REF!"}},"M","Camper",{"$f":"'Male Cabin Roster'!#REF!","v":{"$error":"#REF!"}},{"$error":"#REF!"},{"$error":"#REF!"}]
[{"$f":"'Housing Request'!$E$5","v":0},{"$f":"'Male Cabin Roster'!#REF!","v":{"$error":"#REF!"}},"M","Camper",{"$f":"'Male Cabin Roster'!#REF!","v":{"$error":"#REF!"}},{"$error":"#REF!"},{"$error":"#REF!"}]
[{"$f":"'Housing Request'!$E$5","v":0},{"$f":"'Male Cabin Roster'!#REF!","v":{"$error":"#REF!"}},"M","Camper",{"$f":"'Male Cabin Roster'!#REF!","v":{"$error":"#REF!"}},{"$error":"#REF!"},{"$error":"#REF!"}]